BEGIN:VCALENDAR
VERSION:2.0
PRODID:-//Gideon Church - ECPv6.15.16//NONSGML v1.0//EN
CALSCALE:GREGORIAN
METHOD:PUBLISH
X-ORIGINAL-URL:https://gideon-church.org
X-WR-CALDESC:Events for Gideon Church
REFRESH-INTERVAL;VALUE=DURATION:PT1H
X-Robots-Tag:noindex
X-PUBLISHED-TTL:PT1H
BEGIN:VTIMEZONE
TZID:UTC
BEGIN:STANDARD
TZOFFSETFROM:+0000
TZOFFSETTO:+0000
TZNAME:UTC
DTSTART:20170101T000000
END:STANDARD
END:VTIMEZONE
BEGIN:VEVENT
DTSTART;TZID=UTC:20180214T193000
DTEND;TZID=UTC:20180214T210000
DTSTAMP:20260419T172407
CREATED:20180203T174555Z
LAST-MODIFIED:20190301T183241Z
UID:25029-1518636600-1518642000@gideon-church.org
SUMMARY:Bible Study
DESCRIPTION:The Bible is God’s word to us. It is God’s way of revealing Himself through stories\, starting with creation to the birth of Christ to His call on our lives. One of the ways we’re instructed to grow in our walk with the Lord is to study His word. \nJoin us every Wednesday to study the bible together
URL:https://gideon-church.org/event/bible-study-2018-02-14/
LOCATION:Gideon Church\, 7315 New Hampshire Ave\,\, Takoma Park\, MD\, 20912\, United States
CATEGORIES:Bible Study
END:VEVENT
BEGIN:VEVENT
DTSTART;TZID=UTC:20180207T193000
DTEND;TZID=UTC:20180207T210000
DTSTAMP:20260419T172407
CREATED:20180203T174555Z
LAST-MODIFIED:20190301T173839Z
UID:25027-1518031800-1518037200@gideon-church.org
SUMMARY:Bible Study
DESCRIPTION:The Bible is God’s word to us. It is God’s way of revealing Himself through stories\, starting with creation to the birth of Christ to His call on our lives. One of the ways we’re instructed to grow in our walk with the Lord is to study His word. \nJoin us every Wednesday to study the bible together
URL:https://gideon-church.org/event/bible-study/
LOCATION:Gideon Church\, 7315 New Hampshire Ave\,\, Takoma Park\, MD\, 20912\, United States
CATEGORIES:Bible Study
END:VEVENT
END:VCALENDAR