BEGIN:VCALENDAR
VERSION:2.0
PRODID:-//Gideon Church - ECPv6.15.16//NONSGML v1.0//EN
CALSCALE:GREGORIAN
METHOD:PUBLISH
X-WR-CALNAME:Gideon Church
X-ORIGINAL-URL:https://gideon-church.org
X-WR-CALDESC:Events for Gideon Church
REFRESH-INTERVAL;VALUE=DURATION:PT1H
X-Robots-Tag:noindex
X-PUBLISHED-TTL:PT1H
BEGIN:VTIMEZONE
TZID:UTC
BEGIN:STANDARD
TZOFFSETFROM:+0000
TZOFFSETTO:+0000
TZNAME:UTC
DTSTART:20180101T000000
END:STANDARD
END:VTIMEZONE
BEGIN:VEVENT
DTSTART;TZID=UTC:20191108T193000
DTEND;TZID=UTC:20191108T210000
DTSTAMP:20260421T111854
CREATED:20180203T180254Z
LAST-MODIFIED:20180203T180254Z
UID:25556-1573241400-1573246800@gideon-church.org
SUMMARY:Friday Prayer Meeting
DESCRIPTION:Join us every Friday for prayers and to share the word of God together\n“Ask and it will be given to you; seek and you shall find; knock and the door will be opened to you. For everyone who asks receives; he who seeks finds; and to him who knocks\, the door will be opened.” Matthew 7:7\,8
URL:https://gideon-church.org/event/friday-prayer-meeting-2019-11-08/
LOCATION:Gideon Church\, 7315 New Hampshire Ave\,\, Takoma Park\, MD\, 20912\, United States
CATEGORIES:Prayer Service
END:VEVENT
BEGIN:VEVENT
DTSTART;TZID=UTC:20191106T200000
DTEND;TZID=UTC:20191106T210000
DTSTAMP:20260421T111854
CREATED:20180203T175504Z
LAST-MODIFIED:20190315T152043Z
UID:25820-1573070400-1573074000@gideon-church.org
SUMMARY:Wednessay Prayer Line
DESCRIPTION:Join us every Wednesday from anywhere over the phone to pray together and share the word of God\nPrayer Line Number: (712) 770-4010\nCode: 744881#\nPlayback Number: (712) 770-4019\nCode: 744881#
URL:https://gideon-church.org/event/thursday-prayer-line-2019-11-06/
LOCATION:MD
CATEGORIES:Prayer Service
END:VEVENT
BEGIN:VEVENT
DTSTART;TZID=UTC:20191101T193000
DTEND;TZID=UTC:20191101T210000
DTSTAMP:20260421T111854
CREATED:20180203T180254Z
LAST-MODIFIED:20180203T180254Z
UID:25555-1572636600-1572642000@gideon-church.org
SUMMARY:Friday Prayer Meeting
DESCRIPTION:Join us every Friday for prayers and to share the word of God together\n“Ask and it will be given to you; seek and you shall find; knock and the door will be opened to you. For everyone who asks receives; he who seeks finds; and to him who knocks\, the door will be opened.” Matthew 7:7\,8
URL:https://gideon-church.org/event/friday-prayer-meeting-2019-11-01/
LOCATION:Gideon Church\, 7315 New Hampshire Ave\,\, Takoma Park\, MD\, 20912\, United States
CATEGORIES:Prayer Service
END:VEVENT
BEGIN:VEVENT
DTSTART;TZID=UTC:20191030T200000
DTEND;TZID=UTC:20191030T210000
DTSTAMP:20260421T111854
CREATED:20180203T175504Z
LAST-MODIFIED:20190315T152042Z
UID:25819-1572465600-1572469200@gideon-church.org
SUMMARY:Wednessay Prayer Line
DESCRIPTION:Join us every Wednesday from anywhere over the phone to pray together and share the word of God\nPrayer Line Number: (712) 770-4010\nCode: 744881#\nPlayback Number: (712) 770-4019\nCode: 744881#
URL:https://gideon-church.org/event/thursday-prayer-line-2019-10-30/
LOCATION:MD
CATEGORIES:Prayer Service
END:VEVENT
BEGIN:VEVENT
DTSTART;TZID=UTC:20191025T193000
DTEND;TZID=UTC:20191025T210000
DTSTAMP:20260421T111854
CREATED:20180203T180254Z
LAST-MODIFIED:20180203T180254Z
UID:25554-1572031800-1572037200@gideon-church.org
SUMMARY:Friday Prayer Meeting
DESCRIPTION:Join us every Friday for prayers and to share the word of God together\n“Ask and it will be given to you; seek and you shall find; knock and the door will be opened to you. For everyone who asks receives; he who seeks finds; and to him who knocks\, the door will be opened.” Matthew 7:7\,8
URL:https://gideon-church.org/event/friday-prayer-meeting-2019-10-25/
LOCATION:Gideon Church\, 7315 New Hampshire Ave\,\, Takoma Park\, MD\, 20912\, United States
CATEGORIES:Prayer Service
END:VEVENT
BEGIN:VEVENT
DTSTART;TZID=UTC:20191023T200000
DTEND;TZID=UTC:20191023T210000
DTSTAMP:20260421T111854
CREATED:20180203T175504Z
LAST-MODIFIED:20190315T152042Z
UID:25818-1571860800-1571864400@gideon-church.org
SUMMARY:Wednessay Prayer Line
DESCRIPTION:Join us every Wednesday from anywhere over the phone to pray together and share the word of God\nPrayer Line Number: (712) 770-4010\nCode: 744881#\nPlayback Number: (712) 770-4019\nCode: 744881#
URL:https://gideon-church.org/event/thursday-prayer-line-2019-10-23/
LOCATION:MD
CATEGORIES:Prayer Service
END:VEVENT
BEGIN:VEVENT
DTSTART;TZID=UTC:20191018T193000
DTEND;TZID=UTC:20191018T210000
DTSTAMP:20260421T111854
CREATED:20180203T180254Z
LAST-MODIFIED:20180203T180254Z
UID:25553-1571427000-1571432400@gideon-church.org
SUMMARY:Friday Prayer Meeting
DESCRIPTION:Join us every Friday for prayers and to share the word of God together\n“Ask and it will be given to you; seek and you shall find; knock and the door will be opened to you. For everyone who asks receives; he who seeks finds; and to him who knocks\, the door will be opened.” Matthew 7:7\,8
URL:https://gideon-church.org/event/friday-prayer-meeting-2019-10-18/
LOCATION:Gideon Church\, 7315 New Hampshire Ave\,\, Takoma Park\, MD\, 20912\, United States
CATEGORIES:Prayer Service
END:VEVENT
BEGIN:VEVENT
DTSTART;TZID=UTC:20191016T200000
DTEND;TZID=UTC:20191016T210000
DTSTAMP:20260421T111854
CREATED:20180203T175504Z
LAST-MODIFIED:20190315T152041Z
UID:25817-1571256000-1571259600@gideon-church.org
SUMMARY:Wednessay Prayer Line
DESCRIPTION:Join us every Wednesday from anywhere over the phone to pray together and share the word of God\nPrayer Line Number: (712) 770-4010\nCode: 744881#\nPlayback Number: (712) 770-4019\nCode: 744881#
URL:https://gideon-church.org/event/thursday-prayer-line-2019-10-16/
LOCATION:MD
CATEGORIES:Prayer Service
END:VEVENT
BEGIN:VEVENT
DTSTART;TZID=UTC:20191011T193000
DTEND;TZID=UTC:20191011T210000
DTSTAMP:20260421T111854
CREATED:20180203T180254Z
LAST-MODIFIED:20180203T180254Z
UID:25552-1570822200-1570827600@gideon-church.org
SUMMARY:Friday Prayer Meeting
DESCRIPTION:Join us every Friday for prayers and to share the word of God together\n“Ask and it will be given to you; seek and you shall find; knock and the door will be opened to you. For everyone who asks receives; he who seeks finds; and to him who knocks\, the door will be opened.” Matthew 7:7\,8
URL:https://gideon-church.org/event/friday-prayer-meeting-2019-10-11/
LOCATION:Gideon Church\, 7315 New Hampshire Ave\,\, Takoma Park\, MD\, 20912\, United States
CATEGORIES:Prayer Service
END:VEVENT
BEGIN:VEVENT
DTSTART;TZID=UTC:20191009T200000
DTEND;TZID=UTC:20191009T210000
DTSTAMP:20260421T111854
CREATED:20180203T175504Z
LAST-MODIFIED:20190315T152041Z
UID:25816-1570651200-1570654800@gideon-church.org
SUMMARY:Wednessay Prayer Line
DESCRIPTION:Join us every Wednesday from anywhere over the phone to pray together and share the word of God\nPrayer Line Number: (712) 770-4010\nCode: 744881#\nPlayback Number: (712) 770-4019\nCode: 744881#
URL:https://gideon-church.org/event/thursday-prayer-line-2019-10-09/
LOCATION:MD
CATEGORIES:Prayer Service
END:VEVENT
BEGIN:VEVENT
DTSTART;TZID=UTC:20191004T193000
DTEND;TZID=UTC:20191004T210000
DTSTAMP:20260421T111854
CREATED:20180203T180254Z
LAST-MODIFIED:20180203T180254Z
UID:25551-1570217400-1570222800@gideon-church.org
SUMMARY:Friday Prayer Meeting
DESCRIPTION:Join us every Friday for prayers and to share the word of God together\n“Ask and it will be given to you; seek and you shall find; knock and the door will be opened to you. For everyone who asks receives; he who seeks finds; and to him who knocks\, the door will be opened.” Matthew 7:7\,8
URL:https://gideon-church.org/event/friday-prayer-meeting-2019-10-04/
LOCATION:Gideon Church\, 7315 New Hampshire Ave\,\, Takoma Park\, MD\, 20912\, United States
CATEGORIES:Prayer Service
END:VEVENT
BEGIN:VEVENT
DTSTART;TZID=UTC:20191002T200000
DTEND;TZID=UTC:20191002T210000
DTSTAMP:20260421T111854
CREATED:20180203T175504Z
LAST-MODIFIED:20190315T152041Z
UID:25815-1570046400-1570050000@gideon-church.org
SUMMARY:Wednessay Prayer Line
DESCRIPTION:Join us every Wednesday from anywhere over the phone to pray together and share the word of God\nPrayer Line Number: (712) 770-4010\nCode: 744881#\nPlayback Number: (712) 770-4019\nCode: 744881#
URL:https://gideon-church.org/event/thursday-prayer-line-2019-10-02/
LOCATION:MD
CATEGORIES:Prayer Service
END:VEVENT
BEGIN:VEVENT
DTSTART;TZID=UTC:20190927T193000
DTEND;TZID=UTC:20190927T210000
DTSTAMP:20260421T111854
CREATED:20180203T180254Z
LAST-MODIFIED:20180203T180254Z
UID:25550-1569612600-1569618000@gideon-church.org
SUMMARY:Friday Prayer Meeting
DESCRIPTION:Join us every Friday for prayers and to share the word of God together\n“Ask and it will be given to you; seek and you shall find; knock and the door will be opened to you. For everyone who asks receives; he who seeks finds; and to him who knocks\, the door will be opened.” Matthew 7:7\,8
URL:https://gideon-church.org/event/friday-prayer-meeting-2019-09-27/
LOCATION:Gideon Church\, 7315 New Hampshire Ave\,\, Takoma Park\, MD\, 20912\, United States
CATEGORIES:Prayer Service
END:VEVENT
BEGIN:VEVENT
DTSTART;TZID=UTC:20190925T200000
DTEND;TZID=UTC:20190925T210000
DTSTAMP:20260421T111854
CREATED:20180203T175504Z
LAST-MODIFIED:20190315T152041Z
UID:25814-1569441600-1569445200@gideon-church.org
SUMMARY:Wednessay Prayer Line
DESCRIPTION:Join us every Wednesday from anywhere over the phone to pray together and share the word of God\nPrayer Line Number: (712) 770-4010\nCode: 744881#\nPlayback Number: (712) 770-4019\nCode: 744881#
URL:https://gideon-church.org/event/thursday-prayer-line-2019-09-25/
LOCATION:MD
CATEGORIES:Prayer Service
END:VEVENT
BEGIN:VEVENT
DTSTART;TZID=UTC:20190920T193000
DTEND;TZID=UTC:20190920T210000
DTSTAMP:20260421T111854
CREATED:20180203T180254Z
LAST-MODIFIED:20180203T180254Z
UID:25549-1569007800-1569013200@gideon-church.org
SUMMARY:Friday Prayer Meeting
DESCRIPTION:Join us every Friday for prayers and to share the word of God together\n“Ask and it will be given to you; seek and you shall find; knock and the door will be opened to you. For everyone who asks receives; he who seeks finds; and to him who knocks\, the door will be opened.” Matthew 7:7\,8
URL:https://gideon-church.org/event/friday-prayer-meeting-2019-09-20/
LOCATION:Gideon Church\, 7315 New Hampshire Ave\,\, Takoma Park\, MD\, 20912\, United States
CATEGORIES:Prayer Service
END:VEVENT
BEGIN:VEVENT
DTSTART;TZID=UTC:20190918T200000
DTEND;TZID=UTC:20190918T210000
DTSTAMP:20260421T111854
CREATED:20180203T175504Z
LAST-MODIFIED:20190315T152040Z
UID:25813-1568836800-1568840400@gideon-church.org
SUMMARY:Wednessay Prayer Line
DESCRIPTION:Join us every Wednesday from anywhere over the phone to pray together and share the word of God\nPrayer Line Number: (712) 770-4010\nCode: 744881#\nPlayback Number: (712) 770-4019\nCode: 744881#
URL:https://gideon-church.org/event/thursday-prayer-line-2019-09-18/
LOCATION:MD
CATEGORIES:Prayer Service
END:VEVENT
BEGIN:VEVENT
DTSTART;TZID=UTC:20190913T193000
DTEND;TZID=UTC:20190913T210000
DTSTAMP:20260421T111854
CREATED:20180203T180254Z
LAST-MODIFIED:20180203T180254Z
UID:25548-1568403000-1568408400@gideon-church.org
SUMMARY:Friday Prayer Meeting
DESCRIPTION:Join us every Friday for prayers and to share the word of God together\n“Ask and it will be given to you; seek and you shall find; knock and the door will be opened to you. For everyone who asks receives; he who seeks finds; and to him who knocks\, the door will be opened.” Matthew 7:7\,8
URL:https://gideon-church.org/event/friday-prayer-meeting-2019-09-13/
LOCATION:Gideon Church\, 7315 New Hampshire Ave\,\, Takoma Park\, MD\, 20912\, United States
CATEGORIES:Prayer Service
END:VEVENT
BEGIN:VEVENT
DTSTART;TZID=UTC:20190911T200000
DTEND;TZID=UTC:20190911T210000
DTSTAMP:20260421T111854
CREATED:20180203T175504Z
LAST-MODIFIED:20190315T152040Z
UID:25812-1568232000-1568235600@gideon-church.org
SUMMARY:Wednessay Prayer Line
DESCRIPTION:Join us every Wednesday from anywhere over the phone to pray together and share the word of God\nPrayer Line Number: (712) 770-4010\nCode: 744881#\nPlayback Number: (712) 770-4019\nCode: 744881#
URL:https://gideon-church.org/event/thursday-prayer-line-2019-09-11/
LOCATION:MD
CATEGORIES:Prayer Service
END:VEVENT
BEGIN:VEVENT
DTSTART;TZID=UTC:20190906T193000
DTEND;TZID=UTC:20190906T210000
DTSTAMP:20260421T111854
CREATED:20180203T180254Z
LAST-MODIFIED:20180203T180254Z
UID:25547-1567798200-1567803600@gideon-church.org
SUMMARY:Friday Prayer Meeting
DESCRIPTION:Join us every Friday for prayers and to share the word of God together\n“Ask and it will be given to you; seek and you shall find; knock and the door will be opened to you. For everyone who asks receives; he who seeks finds; and to him who knocks\, the door will be opened.” Matthew 7:7\,8
URL:https://gideon-church.org/event/friday-prayer-meeting-2019-09-06/
LOCATION:Gideon Church\, 7315 New Hampshire Ave\,\, Takoma Park\, MD\, 20912\, United States
CATEGORIES:Prayer Service
END:VEVENT
BEGIN:VEVENT
DTSTART;TZID=UTC:20190904T200000
DTEND;TZID=UTC:20190904T210000
DTSTAMP:20260421T111854
CREATED:20180203T175504Z
LAST-MODIFIED:20190315T152040Z
UID:25811-1567627200-1567630800@gideon-church.org
SUMMARY:Wednessay Prayer Line
DESCRIPTION:Join us every Wednesday from anywhere over the phone to pray together and share the word of God\nPrayer Line Number: (712) 770-4010\nCode: 744881#\nPlayback Number: (712) 770-4019\nCode: 744881#
URL:https://gideon-church.org/event/thursday-prayer-line-2019-09-04/
LOCATION:MD
CATEGORIES:Prayer Service
END:VEVENT
BEGIN:VEVENT
DTSTART;TZID=UTC:20190830T193000
DTEND;TZID=UTC:20190830T210000
DTSTAMP:20260421T111854
CREATED:20180203T180254Z
LAST-MODIFIED:20180203T180254Z
UID:25546-1567193400-1567198800@gideon-church.org
SUMMARY:Friday Prayer Meeting
DESCRIPTION:Join us every Friday for prayers and to share the word of God together\n“Ask and it will be given to you; seek and you shall find; knock and the door will be opened to you. For everyone who asks receives; he who seeks finds; and to him who knocks\, the door will be opened.” Matthew 7:7\,8
URL:https://gideon-church.org/event/friday-prayer-meeting-2019-08-30/
LOCATION:Gideon Church\, 7315 New Hampshire Ave\,\, Takoma Park\, MD\, 20912\, United States
CATEGORIES:Prayer Service
END:VEVENT
BEGIN:VEVENT
DTSTART;TZID=UTC:20190828T200000
DTEND;TZID=UTC:20190828T210000
DTSTAMP:20260421T111854
CREATED:20180203T175504Z
LAST-MODIFIED:20190315T152040Z
UID:25810-1567022400-1567026000@gideon-church.org
SUMMARY:Wednessay Prayer Line
DESCRIPTION:Join us every Wednesday from anywhere over the phone to pray together and share the word of God\nPrayer Line Number: (712) 770-4010\nCode: 744881#\nPlayback Number: (712) 770-4019\nCode: 744881#
URL:https://gideon-church.org/event/thursday-prayer-line-2019-08-28/
LOCATION:MD
CATEGORIES:Prayer Service
END:VEVENT
BEGIN:VEVENT
DTSTART;TZID=UTC:20190823T193000
DTEND;TZID=UTC:20190823T210000
DTSTAMP:20260421T111854
CREATED:20180203T180254Z
LAST-MODIFIED:20180203T180254Z
UID:25545-1566588600-1566594000@gideon-church.org
SUMMARY:Friday Prayer Meeting
DESCRIPTION:Join us every Friday for prayers and to share the word of God together\n“Ask and it will be given to you; seek and you shall find; knock and the door will be opened to you. For everyone who asks receives; he who seeks finds; and to him who knocks\, the door will be opened.” Matthew 7:7\,8
URL:https://gideon-church.org/event/friday-prayer-meeting-2019-08-23/
LOCATION:Gideon Church\, 7315 New Hampshire Ave\,\, Takoma Park\, MD\, 20912\, United States
CATEGORIES:Prayer Service
END:VEVENT
BEGIN:VEVENT
DTSTART;TZID=UTC:20190821T200000
DTEND;TZID=UTC:20190821T210000
DTSTAMP:20260421T111854
CREATED:20180203T175504Z
LAST-MODIFIED:20190315T152038Z
UID:25809-1566417600-1566421200@gideon-church.org
SUMMARY:Wednessay Prayer Line
DESCRIPTION:Join us every Wednesday from anywhere over the phone to pray together and share the word of God\nPrayer Line Number: (712) 770-4010\nCode: 744881#\nPlayback Number: (712) 770-4019\nCode: 744881#
URL:https://gideon-church.org/event/thursday-prayer-line-2019-08-21/
LOCATION:MD
CATEGORIES:Prayer Service
END:VEVENT
BEGIN:VEVENT
DTSTART;TZID=UTC:20190816T193000
DTEND;TZID=UTC:20190816T210000
DTSTAMP:20260421T111854
CREATED:20180203T180254Z
LAST-MODIFIED:20180203T180254Z
UID:25544-1565983800-1565989200@gideon-church.org
SUMMARY:Friday Prayer Meeting
DESCRIPTION:Join us every Friday for prayers and to share the word of God together\n“Ask and it will be given to you; seek and you shall find; knock and the door will be opened to you. For everyone who asks receives; he who seeks finds; and to him who knocks\, the door will be opened.” Matthew 7:7\,8
URL:https://gideon-church.org/event/friday-prayer-meeting-2019-08-16/
LOCATION:Gideon Church\, 7315 New Hampshire Ave\,\, Takoma Park\, MD\, 20912\, United States
CATEGORIES:Prayer Service
END:VEVENT
BEGIN:VEVENT
DTSTART;TZID=UTC:20190814T200000
DTEND;TZID=UTC:20190814T210000
DTSTAMP:20260421T111854
CREATED:20180203T175504Z
LAST-MODIFIED:20190315T152037Z
UID:25808-1565812800-1565816400@gideon-church.org
SUMMARY:Wednessay Prayer Line
DESCRIPTION:Join us every Wednesday from anywhere over the phone to pray together and share the word of God\nPrayer Line Number: (712) 770-4010\nCode: 744881#\nPlayback Number: (712) 770-4019\nCode: 744881#
URL:https://gideon-church.org/event/thursday-prayer-line-2019-08-14/
LOCATION:MD
CATEGORIES:Prayer Service
END:VEVENT
BEGIN:VEVENT
DTSTART;TZID=UTC:20190809T193000
DTEND;TZID=UTC:20190809T210000
DTSTAMP:20260421T111854
CREATED:20180203T180254Z
LAST-MODIFIED:20180203T180254Z
UID:25543-1565379000-1565384400@gideon-church.org
SUMMARY:Friday Prayer Meeting
DESCRIPTION:Join us every Friday for prayers and to share the word of God together\n“Ask and it will be given to you; seek and you shall find; knock and the door will be opened to you. For everyone who asks receives; he who seeks finds; and to him who knocks\, the door will be opened.” Matthew 7:7\,8
URL:https://gideon-church.org/event/friday-prayer-meeting-2019-08-09/
LOCATION:Gideon Church\, 7315 New Hampshire Ave\,\, Takoma Park\, MD\, 20912\, United States
CATEGORIES:Prayer Service
END:VEVENT
BEGIN:VEVENT
DTSTART;TZID=UTC:20190807T200000
DTEND;TZID=UTC:20190807T210000
DTSTAMP:20260421T111854
CREATED:20180203T175504Z
LAST-MODIFIED:20190315T152037Z
UID:25807-1565208000-1565211600@gideon-church.org
SUMMARY:Wednessay Prayer Line
DESCRIPTION:Join us every Wednesday from anywhere over the phone to pray together and share the word of God\nPrayer Line Number: (712) 770-4010\nCode: 744881#\nPlayback Number: (712) 770-4019\nCode: 744881#
URL:https://gideon-church.org/event/thursday-prayer-line-2019-08-07/
LOCATION:MD
CATEGORIES:Prayer Service
END:VEVENT
BEGIN:VEVENT
DTSTART;TZID=UTC:20190802T193000
DTEND;TZID=UTC:20190802T210000
DTSTAMP:20260421T111854
CREATED:20180203T180254Z
LAST-MODIFIED:20180203T180254Z
UID:25542-1564774200-1564779600@gideon-church.org
SUMMARY:Friday Prayer Meeting
DESCRIPTION:Join us every Friday for prayers and to share the word of God together\n“Ask and it will be given to you; seek and you shall find; knock and the door will be opened to you. For everyone who asks receives; he who seeks finds; and to him who knocks\, the door will be opened.” Matthew 7:7\,8
URL:https://gideon-church.org/event/friday-prayer-meeting-2019-08-02/
LOCATION:Gideon Church\, 7315 New Hampshire Ave\,\, Takoma Park\, MD\, 20912\, United States
CATEGORIES:Prayer Service
END:VEVENT
BEGIN:VEVENT
DTSTART;TZID=UTC:20190731T200000
DTEND;TZID=UTC:20190731T210000
DTSTAMP:20260421T111854
CREATED:20180203T175504Z
LAST-MODIFIED:20190315T152036Z
UID:25806-1564603200-1564606800@gideon-church.org
SUMMARY:Wednessay Prayer Line
DESCRIPTION:Join us every Wednesday from anywhere over the phone to pray together and share the word of God\nPrayer Line Number: (712) 770-4010\nCode: 744881#\nPlayback Number: (712) 770-4019\nCode: 744881#
URL:https://gideon-church.org/event/thursday-prayer-line-2019-07-31/
LOCATION:MD
CATEGORIES:Prayer Service
END:VEVENT
END:VCALENDAR