BEGIN:VCALENDAR
VERSION:2.0
PRODID:-//Gideon Church - ECPv6.15.16//NONSGML v1.0//EN
CALSCALE:GREGORIAN
METHOD:PUBLISH
X-WR-CALNAME:Gideon Church
X-ORIGINAL-URL:https://gideon-church.org
X-WR-CALDESC:Events for Gideon Church
REFRESH-INTERVAL;VALUE=DURATION:PT1H
X-Robots-Tag:noindex
X-PUBLISHED-TTL:PT1H
BEGIN:VTIMEZONE
TZID:UTC
BEGIN:STANDARD
TZOFFSETFROM:+0000
TZOFFSETTO:+0000
TZNAME:UTC
DTSTART:20170101T000000
END:STANDARD
END:VTIMEZONE
BEGIN:VEVENT
DTSTART;TZID=UTC:20190308T193000
DTEND;TZID=UTC:20190308T210000
DTSTAMP:20260421T225105
CREATED:20180203T180254Z
LAST-MODIFIED:20180203T180254Z
UID:25521-1552073400-1552078800@gideon-church.org
SUMMARY:Friday Prayer Meeting
DESCRIPTION:Join us every Friday for prayers and to share the word of God together\n“Ask and it will be given to you; seek and you shall find; knock and the door will be opened to you. For everyone who asks receives; he who seeks finds; and to him who knocks\, the door will be opened.” Matthew 7:7\,8
URL:https://gideon-church.org/event/friday-prayer-meeting-2019-03-08/
LOCATION:Gideon Church\, 7315 New Hampshire Ave\,\, Takoma Park\, MD\, 20912\, United States
CATEGORIES:Prayer Service
END:VEVENT
BEGIN:VEVENT
DTSTART;TZID=UTC:20190306T200000
DTEND;TZID=UTC:20190306T210000
DTSTAMP:20260421T225105
CREATED:20180203T175504Z
LAST-MODIFIED:20190315T152027Z
UID:25785-1551902400-1551906000@gideon-church.org
SUMMARY:Wednessay Prayer Line
DESCRIPTION:Join us every Wednesday from anywhere over the phone to pray together and share the word of God\nPrayer Line Number: (712) 770-4010\nCode: 744881#\nPlayback Number: (712) 770-4019\nCode: 744881#
URL:https://gideon-church.org/event/thursday-prayer-line-2019-03-06/
CATEGORIES:Prayer Service
END:VEVENT
BEGIN:VEVENT
DTSTART;TZID=UTC:20190301T193000
DTEND;TZID=UTC:20190301T210000
DTSTAMP:20260421T225105
CREATED:20180203T180254Z
LAST-MODIFIED:20180203T180254Z
UID:25520-1551468600-1551474000@gideon-church.org
SUMMARY:Friday Prayer Meeting
DESCRIPTION:Join us every Friday for prayers and to share the word of God together\n“Ask and it will be given to you; seek and you shall find; knock and the door will be opened to you. For everyone who asks receives; he who seeks finds; and to him who knocks\, the door will be opened.” Matthew 7:7\,8
URL:https://gideon-church.org/event/friday-prayer-meeting-2019-03-01/
LOCATION:Gideon Church\, 7315 New Hampshire Ave\,\, Takoma Park\, MD\, 20912\, United States
CATEGORIES:Prayer Service
END:VEVENT
BEGIN:VEVENT
DTSTART;TZID=UTC:20190227T200000
DTEND;TZID=UTC:20190227T210000
DTSTAMP:20260421T225105
CREATED:20180203T175504Z
LAST-MODIFIED:20190315T152027Z
UID:25784-1551297600-1551301200@gideon-church.org
SUMMARY:Wednessay Prayer Line
DESCRIPTION:Join us every Wednesday from anywhere over the phone to pray together and share the word of God\nPrayer Line Number: (712) 770-4010\nCode: 744881#\nPlayback Number: (712) 770-4019\nCode: 744881#
URL:https://gideon-church.org/event/thursday-prayer-line-2019-02-27/
CATEGORIES:Prayer Service
END:VEVENT
BEGIN:VEVENT
DTSTART;TZID=UTC:20190222T193000
DTEND;TZID=UTC:20190222T210000
DTSTAMP:20260421T225105
CREATED:20180203T180254Z
LAST-MODIFIED:20180203T180254Z
UID:25519-1550863800-1550869200@gideon-church.org
SUMMARY:Friday Prayer Meeting
DESCRIPTION:Join us every Friday for prayers and to share the word of God together\n“Ask and it will be given to you; seek and you shall find; knock and the door will be opened to you. For everyone who asks receives; he who seeks finds; and to him who knocks\, the door will be opened.” Matthew 7:7\,8
URL:https://gideon-church.org/event/friday-prayer-meeting-2019-02-22/
LOCATION:Gideon Church\, 7315 New Hampshire Ave\,\, Takoma Park\, MD\, 20912\, United States
CATEGORIES:Prayer Service
END:VEVENT
BEGIN:VEVENT
DTSTART;TZID=UTC:20190220T200000
DTEND;TZID=UTC:20190220T210000
DTSTAMP:20260421T225105
CREATED:20180203T175504Z
LAST-MODIFIED:20190315T152027Z
UID:25783-1550692800-1550696400@gideon-church.org
SUMMARY:Wednessay Prayer Line
DESCRIPTION:Join us every Wednesday from anywhere over the phone to pray together and share the word of God\nPrayer Line Number: (712) 770-4010\nCode: 744881#\nPlayback Number: (712) 770-4019\nCode: 744881#
URL:https://gideon-church.org/event/thursday-prayer-line-2019-02-20/
CATEGORIES:Prayer Service
END:VEVENT
BEGIN:VEVENT
DTSTART;TZID=UTC:20190215T193000
DTEND;TZID=UTC:20190215T210000
DTSTAMP:20260421T225105
CREATED:20180203T180254Z
LAST-MODIFIED:20180203T180254Z
UID:25518-1550259000-1550264400@gideon-church.org
SUMMARY:Friday Prayer Meeting
DESCRIPTION:Join us every Friday for prayers and to share the word of God together\n“Ask and it will be given to you; seek and you shall find; knock and the door will be opened to you. For everyone who asks receives; he who seeks finds; and to him who knocks\, the door will be opened.” Matthew 7:7\,8
URL:https://gideon-church.org/event/friday-prayer-meeting-2019-02-15/
LOCATION:Gideon Church\, 7315 New Hampshire Ave\,\, Takoma Park\, MD\, 20912\, United States
CATEGORIES:Prayer Service
END:VEVENT
BEGIN:VEVENT
DTSTART;TZID=UTC:20190213T200000
DTEND;TZID=UTC:20190213T210000
DTSTAMP:20260421T225105
CREATED:20180203T175504Z
LAST-MODIFIED:20190315T152025Z
UID:25782-1550088000-1550091600@gideon-church.org
SUMMARY:Wednessay Prayer Line
DESCRIPTION:Join us every Wednesday from anywhere over the phone to pray together and share the word of God\nPrayer Line Number: (712) 770-4010\nCode: 744881#\nPlayback Number: (712) 770-4019\nCode: 744881#
URL:https://gideon-church.org/event/thursday-prayer-line-2019-02-13/
CATEGORIES:Prayer Service
END:VEVENT
BEGIN:VEVENT
DTSTART;TZID=UTC:20190208T193000
DTEND;TZID=UTC:20190208T210000
DTSTAMP:20260421T225105
CREATED:20180203T180254Z
LAST-MODIFIED:20180203T180254Z
UID:25517-1549654200-1549659600@gideon-church.org
SUMMARY:Friday Prayer Meeting
DESCRIPTION:Join us every Friday for prayers and to share the word of God together\n“Ask and it will be given to you; seek and you shall find; knock and the door will be opened to you. For everyone who asks receives; he who seeks finds; and to him who knocks\, the door will be opened.” Matthew 7:7\,8
URL:https://gideon-church.org/event/friday-prayer-meeting-2019-02-08/
LOCATION:Gideon Church\, 7315 New Hampshire Ave\,\, Takoma Park\, MD\, 20912\, United States
CATEGORIES:Prayer Service
END:VEVENT
BEGIN:VEVENT
DTSTART;TZID=UTC:20190206T200000
DTEND;TZID=UTC:20190206T210000
DTSTAMP:20260421T225105
CREATED:20180203T175504Z
LAST-MODIFIED:20190315T152025Z
UID:25781-1549483200-1549486800@gideon-church.org
SUMMARY:Wednessay Prayer Line
DESCRIPTION:Join us every Wednesday from anywhere over the phone to pray together and share the word of God\nPrayer Line Number: (712) 770-4010\nCode: 744881#\nPlayback Number: (712) 770-4019\nCode: 744881#
URL:https://gideon-church.org/event/thursday-prayer-line-2019-02-06/
CATEGORIES:Prayer Service
END:VEVENT
BEGIN:VEVENT
DTSTART;TZID=UTC:20190201T193000
DTEND;TZID=UTC:20190201T210000
DTSTAMP:20260421T225105
CREATED:20180203T180254Z
LAST-MODIFIED:20180203T180254Z
UID:25516-1549049400-1549054800@gideon-church.org
SUMMARY:Friday Prayer Meeting
DESCRIPTION:Join us every Friday for prayers and to share the word of God together\n“Ask and it will be given to you; seek and you shall find; knock and the door will be opened to you. For everyone who asks receives; he who seeks finds; and to him who knocks\, the door will be opened.” Matthew 7:7\,8
URL:https://gideon-church.org/event/friday-prayer-meeting-2019-02-01/
LOCATION:Gideon Church\, 7315 New Hampshire Ave\,\, Takoma Park\, MD\, 20912\, United States
CATEGORIES:Prayer Service
END:VEVENT
BEGIN:VEVENT
DTSTART;TZID=UTC:20190130T200000
DTEND;TZID=UTC:20190130T210000
DTSTAMP:20260421T225105
CREATED:20180203T175504Z
LAST-MODIFIED:20190315T152025Z
UID:25780-1548878400-1548882000@gideon-church.org
SUMMARY:Wednessay Prayer Line
DESCRIPTION:Join us every Wednesday from anywhere over the phone to pray together and share the word of God\nPrayer Line Number: (712) 770-4010\nCode: 744881#\nPlayback Number: (712) 770-4019\nCode: 744881#
URL:https://gideon-church.org/event/thursday-prayer-line-2019-01-30/
CATEGORIES:Prayer Service
END:VEVENT
BEGIN:VEVENT
DTSTART;TZID=UTC:20190125T193000
DTEND;TZID=UTC:20190125T210000
DTSTAMP:20260421T225105
CREATED:20180203T180254Z
LAST-MODIFIED:20180203T180254Z
UID:25515-1548444600-1548450000@gideon-church.org
SUMMARY:Friday Prayer Meeting
DESCRIPTION:Join us every Friday for prayers and to share the word of God together\n“Ask and it will be given to you; seek and you shall find; knock and the door will be opened to you. For everyone who asks receives; he who seeks finds; and to him who knocks\, the door will be opened.” Matthew 7:7\,8
URL:https://gideon-church.org/event/friday-prayer-meeting-2019-01-25/
LOCATION:Gideon Church\, 7315 New Hampshire Ave\,\, Takoma Park\, MD\, 20912\, United States
CATEGORIES:Prayer Service
END:VEVENT
BEGIN:VEVENT
DTSTART;TZID=UTC:20190123T200000
DTEND;TZID=UTC:20190123T210000
DTSTAMP:20260421T225105
CREATED:20180203T175504Z
LAST-MODIFIED:20190315T152023Z
UID:25779-1548273600-1548277200@gideon-church.org
SUMMARY:Wednessay Prayer Line
DESCRIPTION:Join us every Wednesday from anywhere over the phone to pray together and share the word of God\nPrayer Line Number: (712) 770-4010\nCode: 744881#\nPlayback Number: (712) 770-4019\nCode: 744881#
URL:https://gideon-church.org/event/thursday-prayer-line-2019-01-23/
CATEGORIES:Prayer Service
END:VEVENT
BEGIN:VEVENT
DTSTART;TZID=UTC:20190118T193000
DTEND;TZID=UTC:20190118T210000
DTSTAMP:20260421T225105
CREATED:20180203T180254Z
LAST-MODIFIED:20180203T180254Z
UID:25514-1547839800-1547845200@gideon-church.org
SUMMARY:Friday Prayer Meeting
DESCRIPTION:Join us every Friday for prayers and to share the word of God together\n“Ask and it will be given to you; seek and you shall find; knock and the door will be opened to you. For everyone who asks receives; he who seeks finds; and to him who knocks\, the door will be opened.” Matthew 7:7\,8
URL:https://gideon-church.org/event/friday-prayer-meeting-2019-01-18/
LOCATION:Gideon Church\, 7315 New Hampshire Ave\,\, Takoma Park\, MD\, 20912\, United States
CATEGORIES:Prayer Service
END:VEVENT
BEGIN:VEVENT
DTSTART;TZID=UTC:20190116T200000
DTEND;TZID=UTC:20190116T210000
DTSTAMP:20260421T225105
CREATED:20180203T175504Z
LAST-MODIFIED:20190315T152023Z
UID:25778-1547668800-1547672400@gideon-church.org
SUMMARY:Wednessay Prayer Line
DESCRIPTION:Join us every Wednesday from anywhere over the phone to pray together and share the word of God\nPrayer Line Number: (712) 770-4010\nCode: 744881#\nPlayback Number: (712) 770-4019\nCode: 744881#
URL:https://gideon-church.org/event/thursday-prayer-line-2019-01-16/
CATEGORIES:Prayer Service
END:VEVENT
BEGIN:VEVENT
DTSTART;TZID=UTC:20190111T193000
DTEND;TZID=UTC:20190111T210000
DTSTAMP:20260421T225105
CREATED:20180203T180254Z
LAST-MODIFIED:20180203T180254Z
UID:25513-1547235000-1547240400@gideon-church.org
SUMMARY:Friday Prayer Meeting
DESCRIPTION:Join us every Friday for prayers and to share the word of God together\n“Ask and it will be given to you; seek and you shall find; knock and the door will be opened to you. For everyone who asks receives; he who seeks finds; and to him who knocks\, the door will be opened.” Matthew 7:7\,8
URL:https://gideon-church.org/event/friday-prayer-meeting-2019-01-11/
LOCATION:Gideon Church\, 7315 New Hampshire Ave\,\, Takoma Park\, MD\, 20912\, United States
CATEGORIES:Prayer Service
END:VEVENT
BEGIN:VEVENT
DTSTART;TZID=UTC:20190109T200000
DTEND;TZID=UTC:20190109T210000
DTSTAMP:20260421T225105
CREATED:20180203T175504Z
LAST-MODIFIED:20190315T152023Z
UID:25777-1547064000-1547067600@gideon-church.org
SUMMARY:Wednessay Prayer Line
DESCRIPTION:Join us every Wednesday from anywhere over the phone to pray together and share the word of God\nPrayer Line Number: (712) 770-4010\nCode: 744881#\nPlayback Number: (712) 770-4019\nCode: 744881#
URL:https://gideon-church.org/event/thursday-prayer-line-2019-01-09/
CATEGORIES:Prayer Service
END:VEVENT
BEGIN:VEVENT
DTSTART;TZID=UTC:20190104T193000
DTEND;TZID=UTC:20190104T210000
DTSTAMP:20260421T225105
CREATED:20180203T180254Z
LAST-MODIFIED:20180203T180254Z
UID:25512-1546630200-1546635600@gideon-church.org
SUMMARY:Friday Prayer Meeting
DESCRIPTION:Join us every Friday for prayers and to share the word of God together\n“Ask and it will be given to you; seek and you shall find; knock and the door will be opened to you. For everyone who asks receives; he who seeks finds; and to him who knocks\, the door will be opened.” Matthew 7:7\,8
URL:https://gideon-church.org/event/friday-prayer-meeting-2019-01-04/
LOCATION:Gideon Church\, 7315 New Hampshire Ave\,\, Takoma Park\, MD\, 20912\, United States
CATEGORIES:Prayer Service
END:VEVENT
BEGIN:VEVENT
DTSTART;TZID=UTC:20190102T200000
DTEND;TZID=UTC:20190102T210000
DTSTAMP:20260421T225105
CREATED:20180203T175504Z
LAST-MODIFIED:20190315T152022Z
UID:25776-1546459200-1546462800@gideon-church.org
SUMMARY:Wednessay Prayer Line
DESCRIPTION:Join us every Wednesday from anywhere over the phone to pray together and share the word of God\nPrayer Line Number: (712) 770-4010\nCode: 744881#\nPlayback Number: (712) 770-4019\nCode: 744881#
URL:https://gideon-church.org/event/thursday-prayer-line-2019-01-02/
CATEGORIES:Prayer Service
END:VEVENT
BEGIN:VEVENT
DTSTART;TZID=UTC:20181228T193000
DTEND;TZID=UTC:20181228T210000
DTSTAMP:20260421T225105
CREATED:20180203T180254Z
LAST-MODIFIED:20180203T180254Z
UID:25511-1546025400-1546030800@gideon-church.org
SUMMARY:Friday Prayer Meeting
DESCRIPTION:Join us every Friday for prayers and to share the word of God together\n“Ask and it will be given to you; seek and you shall find; knock and the door will be opened to you. For everyone who asks receives; he who seeks finds; and to him who knocks\, the door will be opened.” Matthew 7:7\,8
URL:https://gideon-church.org/event/friday-prayer-meeting-2018-12-28/
LOCATION:Gideon Church\, 7315 New Hampshire Ave\,\, Takoma Park\, MD\, 20912\, United States
CATEGORIES:Prayer Service
END:VEVENT
BEGIN:VEVENT
DTSTART;TZID=UTC:20181226T200000
DTEND;TZID=UTC:20181226T210000
DTSTAMP:20260421T225105
CREATED:20180203T175504Z
LAST-MODIFIED:20190315T152022Z
UID:25775-1545854400-1545858000@gideon-church.org
SUMMARY:Wednessay Prayer Line
DESCRIPTION:Join us every Wednesday from anywhere over the phone to pray together and share the word of God\nPrayer Line Number: (712) 770-4010\nCode: 744881#\nPlayback Number: (712) 770-4019\nCode: 744881#
URL:https://gideon-church.org/event/thursday-prayer-line-2018-12-26/
CATEGORIES:Prayer Service
END:VEVENT
BEGIN:VEVENT
DTSTART;TZID=UTC:20181221T193000
DTEND;TZID=UTC:20181221T210000
DTSTAMP:20260421T225105
CREATED:20180203T180254Z
LAST-MODIFIED:20180203T180254Z
UID:25510-1545420600-1545426000@gideon-church.org
SUMMARY:Friday Prayer Meeting
DESCRIPTION:Join us every Friday for prayers and to share the word of God together\n“Ask and it will be given to you; seek and you shall find; knock and the door will be opened to you. For everyone who asks receives; he who seeks finds; and to him who knocks\, the door will be opened.” Matthew 7:7\,8
URL:https://gideon-church.org/event/friday-prayer-meeting-2018-12-21/
LOCATION:Gideon Church\, 7315 New Hampshire Ave\,\, Takoma Park\, MD\, 20912\, United States
CATEGORIES:Prayer Service
END:VEVENT
BEGIN:VEVENT
DTSTART;TZID=UTC:20181219T200000
DTEND;TZID=UTC:20181219T210000
DTSTAMP:20260421T225105
CREATED:20180203T175504Z
LAST-MODIFIED:20190315T152022Z
UID:25774-1545249600-1545253200@gideon-church.org
SUMMARY:Wednessay Prayer Line
DESCRIPTION:Join us every Wednesday from anywhere over the phone to pray together and share the word of God\nPrayer Line Number: (712) 770-4010\nCode: 744881#\nPlayback Number: (712) 770-4019\nCode: 744881#
URL:https://gideon-church.org/event/thursday-prayer-line-2018-12-19/
CATEGORIES:Prayer Service
END:VEVENT
BEGIN:VEVENT
DTSTART;TZID=UTC:20181214T193000
DTEND;TZID=UTC:20181214T210000
DTSTAMP:20260421T225105
CREATED:20180203T180254Z
LAST-MODIFIED:20180203T180254Z
UID:25509-1544815800-1544821200@gideon-church.org
SUMMARY:Friday Prayer Meeting
DESCRIPTION:Join us every Friday for prayers and to share the word of God together\n“Ask and it will be given to you; seek and you shall find; knock and the door will be opened to you. For everyone who asks receives; he who seeks finds; and to him who knocks\, the door will be opened.” Matthew 7:7\,8
URL:https://gideon-church.org/event/friday-prayer-meeting-2018-12-14/
LOCATION:Gideon Church\, 7315 New Hampshire Ave\,\, Takoma Park\, MD\, 20912\, United States
CATEGORIES:Prayer Service
END:VEVENT
BEGIN:VEVENT
DTSTART;TZID=UTC:20181212T200000
DTEND;TZID=UTC:20181212T210000
DTSTAMP:20260421T225105
CREATED:20180203T175504Z
LAST-MODIFIED:20190315T152021Z
UID:25773-1544644800-1544648400@gideon-church.org
SUMMARY:Wednessay Prayer Line
DESCRIPTION:Join us every Wednesday from anywhere over the phone to pray together and share the word of God\nPrayer Line Number: (712) 770-4010\nCode: 744881#\nPlayback Number: (712) 770-4019\nCode: 744881#
URL:https://gideon-church.org/event/thursday-prayer-line-2018-12-12/
CATEGORIES:Prayer Service
END:VEVENT
BEGIN:VEVENT
DTSTART;TZID=UTC:20181207T193000
DTEND;TZID=UTC:20181207T210000
DTSTAMP:20260421T225105
CREATED:20180203T180254Z
LAST-MODIFIED:20180203T180254Z
UID:25508-1544211000-1544216400@gideon-church.org
SUMMARY:Friday Prayer Meeting
DESCRIPTION:Join us every Friday for prayers and to share the word of God together\n“Ask and it will be given to you; seek and you shall find; knock and the door will be opened to you. For everyone who asks receives; he who seeks finds; and to him who knocks\, the door will be opened.” Matthew 7:7\,8
URL:https://gideon-church.org/event/friday-prayer-meeting-2018-12-07/
LOCATION:Gideon Church\, 7315 New Hampshire Ave\,\, Takoma Park\, MD\, 20912\, United States
CATEGORIES:Prayer Service
END:VEVENT
BEGIN:VEVENT
DTSTART;TZID=UTC:20181205T200000
DTEND;TZID=UTC:20181205T210000
DTSTAMP:20260421T225105
CREATED:20180203T175504Z
LAST-MODIFIED:20190315T152021Z
UID:25772-1544040000-1544043600@gideon-church.org
SUMMARY:Wednessay Prayer Line
DESCRIPTION:Join us every Wednesday from anywhere over the phone to pray together and share the word of God\nPrayer Line Number: (712) 770-4010\nCode: 744881#\nPlayback Number: (712) 770-4019\nCode: 744881#
URL:https://gideon-church.org/event/thursday-prayer-line-2018-12-05/
CATEGORIES:Prayer Service
END:VEVENT
BEGIN:VEVENT
DTSTART;TZID=UTC:20181130T193000
DTEND;TZID=UTC:20181130T210000
DTSTAMP:20260421T225105
CREATED:20180203T180254Z
LAST-MODIFIED:20180203T180254Z
UID:25507-1543606200-1543611600@gideon-church.org
SUMMARY:Friday Prayer Meeting
DESCRIPTION:Join us every Friday for prayers and to share the word of God together\n“Ask and it will be given to you; seek and you shall find; knock and the door will be opened to you. For everyone who asks receives; he who seeks finds; and to him who knocks\, the door will be opened.” Matthew 7:7\,8
URL:https://gideon-church.org/event/friday-prayer-meeting-2018-11-30/
LOCATION:Gideon Church\, 7315 New Hampshire Ave\,\, Takoma Park\, MD\, 20912\, United States
CATEGORIES:Prayer Service
END:VEVENT
BEGIN:VEVENT
DTSTART;TZID=UTC:20181128T200000
DTEND;TZID=UTC:20181128T210000
DTSTAMP:20260421T225105
CREATED:20180203T175504Z
LAST-MODIFIED:20190315T152021Z
UID:25771-1543435200-1543438800@gideon-church.org
SUMMARY:Wednessay Prayer Line
DESCRIPTION:Join us every Wednesday from anywhere over the phone to pray together and share the word of God\nPrayer Line Number: (712) 770-4010\nCode: 744881#\nPlayback Number: (712) 770-4019\nCode: 744881#
URL:https://gideon-church.org/event/thursday-prayer-line-2018-11-28/
CATEGORIES:Prayer Service
END:VEVENT
END:VCALENDAR