BEGIN:VCALENDAR
VERSION:2.0
PRODID:-//Gideon Church - ECPv6.15.16//NONSGML v1.0//EN
CALSCALE:GREGORIAN
METHOD:PUBLISH
X-ORIGINAL-URL:https://gideon-church.org
X-WR-CALDESC:Events for Gideon Church
REFRESH-INTERVAL;VALUE=DURATION:PT1H
X-Robots-Tag:noindex
X-PUBLISHED-TTL:PT1H
BEGIN:VTIMEZONE
TZID:UTC
BEGIN:STANDARD
TZOFFSETFROM:+0000
TZOFFSETTO:+0000
TZNAME:UTC
DTSTART:20170101T000000
END:STANDARD
END:VTIMEZONE
BEGIN:VEVENT
DTSTART;TZID=UTC:20181019T193000
DTEND;TZID=UTC:20181019T210000
DTSTAMP:20260422T052741
CREATED:20180203T180254Z
LAST-MODIFIED:20180203T180254Z
UID:25501-1539977400-1539982800@gideon-church.org
SUMMARY:Friday Prayer Meeting
DESCRIPTION:Join us every Friday for prayers and to share the word of God together\n“Ask and it will be given to you; seek and you shall find; knock and the door will be opened to you. For everyone who asks receives; he who seeks finds; and to him who knocks\, the door will be opened.” Matthew 7:7\,8
URL:https://gideon-church.org/event/friday-prayer-meeting-2018-10-19/
LOCATION:Gideon Church\, 7315 New Hampshire Ave\,\, Takoma Park\, MD\, 20912\, United States
CATEGORIES:Prayer Service
END:VEVENT
BEGIN:VEVENT
DTSTART;TZID=UTC:20181017T200000
DTEND;TZID=UTC:20181017T210000
DTSTAMP:20260422T052741
CREATED:20180203T175504Z
LAST-MODIFIED:20190315T152017Z
UID:25765-1539806400-1539810000@gideon-church.org
SUMMARY:Wednessay Prayer Line
DESCRIPTION:Join us every Wednesday from anywhere over the phone to pray together and share the word of God\nPrayer Line Number: (712) 770-4010\nCode: 744881#\nPlayback Number: (712) 770-4019\nCode: 744881#
URL:https://gideon-church.org/event/thursday-prayer-line-2018-10-17/
CATEGORIES:Prayer Service
END:VEVENT
BEGIN:VEVENT
DTSTART;TZID=UTC:20181012T193000
DTEND;TZID=UTC:20181012T210000
DTSTAMP:20260422T052741
CREATED:20180203T180254Z
LAST-MODIFIED:20180203T180254Z
UID:25500-1539372600-1539378000@gideon-church.org
SUMMARY:Friday Prayer Meeting
DESCRIPTION:Join us every Friday for prayers and to share the word of God together\n“Ask and it will be given to you; seek and you shall find; knock and the door will be opened to you. For everyone who asks receives; he who seeks finds; and to him who knocks\, the door will be opened.” Matthew 7:7\,8
URL:https://gideon-church.org/event/friday-prayer-meeting-2018-10-12/
LOCATION:Gideon Church\, 7315 New Hampshire Ave\,\, Takoma Park\, MD\, 20912\, United States
CATEGORIES:Prayer Service
END:VEVENT
BEGIN:VEVENT
DTSTART;TZID=UTC:20181010T200000
DTEND;TZID=UTC:20181010T210000
DTSTAMP:20260422T052741
CREATED:20180203T175504Z
LAST-MODIFIED:20190315T152017Z
UID:25764-1539201600-1539205200@gideon-church.org
SUMMARY:Wednessay Prayer Line
DESCRIPTION:Join us every Wednesday from anywhere over the phone to pray together and share the word of God\nPrayer Line Number: (712) 770-4010\nCode: 744881#\nPlayback Number: (712) 770-4019\nCode: 744881#
URL:https://gideon-church.org/event/thursday-prayer-line-2018-10-10/
CATEGORIES:Prayer Service
END:VEVENT
BEGIN:VEVENT
DTSTART;TZID=UTC:20181005T193000
DTEND;TZID=UTC:20181005T210000
DTSTAMP:20260422T052741
CREATED:20180203T180254Z
LAST-MODIFIED:20180203T180254Z
UID:25499-1538767800-1538773200@gideon-church.org
SUMMARY:Friday Prayer Meeting
DESCRIPTION:Join us every Friday for prayers and to share the word of God together\n“Ask and it will be given to you; seek and you shall find; knock and the door will be opened to you. For everyone who asks receives; he who seeks finds; and to him who knocks\, the door will be opened.” Matthew 7:7\,8
URL:https://gideon-church.org/event/friday-prayer-meeting-2018-10-05/
LOCATION:Gideon Church\, 7315 New Hampshire Ave\,\, Takoma Park\, MD\, 20912\, United States
CATEGORIES:Prayer Service
END:VEVENT
BEGIN:VEVENT
DTSTART;TZID=UTC:20181003T200000
DTEND;TZID=UTC:20181003T210000
DTSTAMP:20260422T052741
CREATED:20180203T175504Z
LAST-MODIFIED:20190315T152017Z
UID:25763-1538596800-1538600400@gideon-church.org
SUMMARY:Wednessay Prayer Line
DESCRIPTION:Join us every Wednesday from anywhere over the phone to pray together and share the word of God\nPrayer Line Number: (712) 770-4010\nCode: 744881#\nPlayback Number: (712) 770-4019\nCode: 744881#
URL:https://gideon-church.org/event/thursday-prayer-line-2018-10-03/
CATEGORIES:Prayer Service
END:VEVENT
BEGIN:VEVENT
DTSTART;TZID=UTC:20180928T193000
DTEND;TZID=UTC:20180928T210000
DTSTAMP:20260422T052741
CREATED:20180203T180254Z
LAST-MODIFIED:20180203T180254Z
UID:25498-1538163000-1538168400@gideon-church.org
SUMMARY:Friday Prayer Meeting
DESCRIPTION:Join us every Friday for prayers and to share the word of God together\n“Ask and it will be given to you; seek and you shall find; knock and the door will be opened to you. For everyone who asks receives; he who seeks finds; and to him who knocks\, the door will be opened.” Matthew 7:7\,8
URL:https://gideon-church.org/event/friday-prayer-meeting-2018-09-28/
LOCATION:Gideon Church\, 7315 New Hampshire Ave\,\, Takoma Park\, MD\, 20912\, United States
CATEGORIES:Prayer Service
END:VEVENT
BEGIN:VEVENT
DTSTART;TZID=UTC:20180926T200000
DTEND;TZID=UTC:20180926T210000
DTSTAMP:20260422T052741
CREATED:20180203T175504Z
LAST-MODIFIED:20190315T152016Z
UID:25762-1537992000-1537995600@gideon-church.org
SUMMARY:Wednessay Prayer Line
DESCRIPTION:Join us every Wednesday from anywhere over the phone to pray together and share the word of God\nPrayer Line Number: (712) 770-4010\nCode: 744881#\nPlayback Number: (712) 770-4019\nCode: 744881#
URL:https://gideon-church.org/event/thursday-prayer-line-2018-09-26/
CATEGORIES:Prayer Service
END:VEVENT
BEGIN:VEVENT
DTSTART;TZID=UTC:20180921T193000
DTEND;TZID=UTC:20180921T210000
DTSTAMP:20260422T052741
CREATED:20180203T180254Z
LAST-MODIFIED:20180203T180254Z
UID:25497-1537558200-1537563600@gideon-church.org
SUMMARY:Friday Prayer Meeting
DESCRIPTION:Join us every Friday for prayers and to share the word of God together\n“Ask and it will be given to you; seek and you shall find; knock and the door will be opened to you. For everyone who asks receives; he who seeks finds; and to him who knocks\, the door will be opened.” Matthew 7:7\,8
URL:https://gideon-church.org/event/friday-prayer-meeting-2018-09-21/
LOCATION:Gideon Church\, 7315 New Hampshire Ave\,\, Takoma Park\, MD\, 20912\, United States
CATEGORIES:Prayer Service
END:VEVENT
BEGIN:VEVENT
DTSTART;TZID=UTC:20180919T200000
DTEND;TZID=UTC:20180919T210000
DTSTAMP:20260422T052741
CREATED:20180203T175504Z
LAST-MODIFIED:20190315T152016Z
UID:25761-1537387200-1537390800@gideon-church.org
SUMMARY:Wednessay Prayer Line
DESCRIPTION:Join us every Wednesday from anywhere over the phone to pray together and share the word of God\nPrayer Line Number: (712) 770-4010\nCode: 744881#\nPlayback Number: (712) 770-4019\nCode: 744881#
URL:https://gideon-church.org/event/thursday-prayer-line-2018-09-19/
CATEGORIES:Prayer Service
END:VEVENT
BEGIN:VEVENT
DTSTART;TZID=UTC:20180914T193000
DTEND;TZID=UTC:20180914T210000
DTSTAMP:20260422T052741
CREATED:20180203T180254Z
LAST-MODIFIED:20180203T180254Z
UID:25496-1536953400-1536958800@gideon-church.org
SUMMARY:Friday Prayer Meeting
DESCRIPTION:Join us every Friday for prayers and to share the word of God together\n“Ask and it will be given to you; seek and you shall find; knock and the door will be opened to you. For everyone who asks receives; he who seeks finds; and to him who knocks\, the door will be opened.” Matthew 7:7\,8
URL:https://gideon-church.org/event/friday-prayer-meeting-2018-09-14/
LOCATION:Gideon Church\, 7315 New Hampshire Ave\,\, Takoma Park\, MD\, 20912\, United States
CATEGORIES:Prayer Service
END:VEVENT
BEGIN:VEVENT
DTSTART;TZID=UTC:20180912T200000
DTEND;TZID=UTC:20180912T210000
DTSTAMP:20260422T052741
CREATED:20180203T175504Z
LAST-MODIFIED:20190315T152016Z
UID:25760-1536782400-1536786000@gideon-church.org
SUMMARY:Wednessay Prayer Line
DESCRIPTION:Join us every Wednesday from anywhere over the phone to pray together and share the word of God\nPrayer Line Number: (712) 770-4010\nCode: 744881#\nPlayback Number: (712) 770-4019\nCode: 744881#
URL:https://gideon-church.org/event/thursday-prayer-line-2018-09-12/
CATEGORIES:Prayer Service
END:VEVENT
BEGIN:VEVENT
DTSTART;TZID=UTC:20180907T193000
DTEND;TZID=UTC:20180907T210000
DTSTAMP:20260422T052741
CREATED:20180203T180254Z
LAST-MODIFIED:20180203T180254Z
UID:25495-1536348600-1536354000@gideon-church.org
SUMMARY:Friday Prayer Meeting
DESCRIPTION:Join us every Friday for prayers and to share the word of God together\n“Ask and it will be given to you; seek and you shall find; knock and the door will be opened to you. For everyone who asks receives; he who seeks finds; and to him who knocks\, the door will be opened.” Matthew 7:7\,8
URL:https://gideon-church.org/event/friday-prayer-meeting-2018-09-07/
LOCATION:Gideon Church\, 7315 New Hampshire Ave\,\, Takoma Park\, MD\, 20912\, United States
CATEGORIES:Prayer Service
END:VEVENT
BEGIN:VEVENT
DTSTART;TZID=UTC:20180905T200000
DTEND;TZID=UTC:20180905T210000
DTSTAMP:20260422T052741
CREATED:20180203T175504Z
LAST-MODIFIED:20190315T152015Z
UID:25759-1536177600-1536181200@gideon-church.org
SUMMARY:Wednessay Prayer Line
DESCRIPTION:Join us every Wednesday from anywhere over the phone to pray together and share the word of God\nPrayer Line Number: (712) 770-4010\nCode: 744881#\nPlayback Number: (712) 770-4019\nCode: 744881#
URL:https://gideon-church.org/event/thursday-prayer-line-2018-09-05/
CATEGORIES:Prayer Service
END:VEVENT
BEGIN:VEVENT
DTSTART;TZID=UTC:20180831T193000
DTEND;TZID=UTC:20180831T210000
DTSTAMP:20260422T052741
CREATED:20180203T180254Z
LAST-MODIFIED:20180203T180254Z
UID:25494-1535743800-1535749200@gideon-church.org
SUMMARY:Friday Prayer Meeting
DESCRIPTION:Join us every Friday for prayers and to share the word of God together\n“Ask and it will be given to you; seek and you shall find; knock and the door will be opened to you. For everyone who asks receives; he who seeks finds; and to him who knocks\, the door will be opened.” Matthew 7:7\,8
URL:https://gideon-church.org/event/friday-prayer-meeting-2018-08-31/
LOCATION:Gideon Church\, 7315 New Hampshire Ave\,\, Takoma Park\, MD\, 20912\, United States
CATEGORIES:Prayer Service
END:VEVENT
BEGIN:VEVENT
DTSTART;TZID=UTC:20180829T200000
DTEND;TZID=UTC:20180829T210000
DTSTAMP:20260422T052741
CREATED:20180203T175504Z
LAST-MODIFIED:20190315T152014Z
UID:25758-1535572800-1535576400@gideon-church.org
SUMMARY:Wednessay Prayer Line
DESCRIPTION:Join us every Wednesday from anywhere over the phone to pray together and share the word of God\nPrayer Line Number: (712) 770-4010\nCode: 744881#\nPlayback Number: (712) 770-4019\nCode: 744881#
URL:https://gideon-church.org/event/thursday-prayer-line-2018-08-29/
CATEGORIES:Prayer Service
END:VEVENT
BEGIN:VEVENT
DTSTART;TZID=UTC:20180824T193000
DTEND;TZID=UTC:20180824T210000
DTSTAMP:20260422T052742
CREATED:20180203T180254Z
LAST-MODIFIED:20180203T180254Z
UID:25493-1535139000-1535144400@gideon-church.org
SUMMARY:Friday Prayer Meeting
DESCRIPTION:Join us every Friday for prayers and to share the word of God together\n“Ask and it will be given to you; seek and you shall find; knock and the door will be opened to you. For everyone who asks receives; he who seeks finds; and to him who knocks\, the door will be opened.” Matthew 7:7\,8
URL:https://gideon-church.org/event/friday-prayer-meeting-2018-08-24/
LOCATION:Gideon Church\, 7315 New Hampshire Ave\,\, Takoma Park\, MD\, 20912\, United States
CATEGORIES:Prayer Service
END:VEVENT
BEGIN:VEVENT
DTSTART;TZID=UTC:20180822T200000
DTEND;TZID=UTC:20180822T210000
DTSTAMP:20260422T052742
CREATED:20180203T175504Z
LAST-MODIFIED:20190315T152014Z
UID:25757-1534968000-1534971600@gideon-church.org
SUMMARY:Wednessay Prayer Line
DESCRIPTION:Join us every Wednesday from anywhere over the phone to pray together and share the word of God\nPrayer Line Number: (712) 770-4010\nCode: 744881#\nPlayback Number: (712) 770-4019\nCode: 744881#
URL:https://gideon-church.org/event/thursday-prayer-line-2018-08-22/
CATEGORIES:Prayer Service
END:VEVENT
BEGIN:VEVENT
DTSTART;TZID=UTC:20180817T193000
DTEND;TZID=UTC:20180817T210000
DTSTAMP:20260422T052742
CREATED:20180203T180254Z
LAST-MODIFIED:20180203T180254Z
UID:25492-1534534200-1534539600@gideon-church.org
SUMMARY:Friday Prayer Meeting
DESCRIPTION:Join us every Friday for prayers and to share the word of God together\n“Ask and it will be given to you; seek and you shall find; knock and the door will be opened to you. For everyone who asks receives; he who seeks finds; and to him who knocks\, the door will be opened.” Matthew 7:7\,8
URL:https://gideon-church.org/event/friday-prayer-meeting-2018-08-17/
LOCATION:Gideon Church\, 7315 New Hampshire Ave\,\, Takoma Park\, MD\, 20912\, United States
CATEGORIES:Prayer Service
END:VEVENT
BEGIN:VEVENT
DTSTART;TZID=UTC:20180815T200000
DTEND;TZID=UTC:20180815T210000
DTSTAMP:20260422T052742
CREATED:20180203T175504Z
LAST-MODIFIED:20190315T152014Z
UID:25756-1534363200-1534366800@gideon-church.org
SUMMARY:Wednessay Prayer Line
DESCRIPTION:Join us every Wednesday from anywhere over the phone to pray together and share the word of God\nPrayer Line Number: (712) 770-4010\nCode: 744881#\nPlayback Number: (712) 770-4019\nCode: 744881#
URL:https://gideon-church.org/event/thursday-prayer-line-2018-08-15/
CATEGORIES:Prayer Service
END:VEVENT
BEGIN:VEVENT
DTSTART;TZID=UTC:20180810T193000
DTEND;TZID=UTC:20180810T210000
DTSTAMP:20260422T052742
CREATED:20180203T180254Z
LAST-MODIFIED:20180203T180254Z
UID:25491-1533929400-1533934800@gideon-church.org
SUMMARY:Friday Prayer Meeting
DESCRIPTION:Join us every Friday for prayers and to share the word of God together\n“Ask and it will be given to you; seek and you shall find; knock and the door will be opened to you. For everyone who asks receives; he who seeks finds; and to him who knocks\, the door will be opened.” Matthew 7:7\,8
URL:https://gideon-church.org/event/friday-prayer-meeting-2018-08-10/
LOCATION:Gideon Church\, 7315 New Hampshire Ave\,\, Takoma Park\, MD\, 20912\, United States
CATEGORIES:Prayer Service
END:VEVENT
BEGIN:VEVENT
DTSTART;TZID=UTC:20180808T200000
DTEND;TZID=UTC:20180808T210000
DTSTAMP:20260422T052742
CREATED:20180203T175504Z
LAST-MODIFIED:20190315T152013Z
UID:25755-1533758400-1533762000@gideon-church.org
SUMMARY:Wednessay Prayer Line
DESCRIPTION:Join us every Wednesday from anywhere over the phone to pray together and share the word of God\nPrayer Line Number: (712) 770-4010\nCode: 744881#\nPlayback Number: (712) 770-4019\nCode: 744881#
URL:https://gideon-church.org/event/thursday-prayer-line-2018-08-08/
CATEGORIES:Prayer Service
END:VEVENT
BEGIN:VEVENT
DTSTART;TZID=UTC:20180803T193000
DTEND;TZID=UTC:20180803T210000
DTSTAMP:20260422T052742
CREATED:20180203T180254Z
LAST-MODIFIED:20180203T180254Z
UID:25490-1533324600-1533330000@gideon-church.org
SUMMARY:Friday Prayer Meeting
DESCRIPTION:Join us every Friday for prayers and to share the word of God together\n“Ask and it will be given to you; seek and you shall find; knock and the door will be opened to you. For everyone who asks receives; he who seeks finds; and to him who knocks\, the door will be opened.” Matthew 7:7\,8
URL:https://gideon-church.org/event/friday-prayer-meeting-2018-08-03/
LOCATION:Gideon Church\, 7315 New Hampshire Ave\,\, Takoma Park\, MD\, 20912\, United States
CATEGORIES:Prayer Service
END:VEVENT
BEGIN:VEVENT
DTSTART;TZID=UTC:20180801T200000
DTEND;TZID=UTC:20180801T210000
DTSTAMP:20260422T052742
CREATED:20180203T175504Z
LAST-MODIFIED:20190315T152013Z
UID:25754-1533153600-1533157200@gideon-church.org
SUMMARY:Wednessay Prayer Line
DESCRIPTION:Join us every Wednesday from anywhere over the phone to pray together and share the word of God\nPrayer Line Number: (712) 770-4010\nCode: 744881#\nPlayback Number: (712) 770-4019\nCode: 744881#
URL:https://gideon-church.org/event/thursday-prayer-line-2018-08-01/
CATEGORIES:Prayer Service
END:VEVENT
BEGIN:VEVENT
DTSTART;TZID=UTC:20180727T193000
DTEND;TZID=UTC:20180727T210000
DTSTAMP:20260422T052742
CREATED:20180203T180254Z
LAST-MODIFIED:20180203T180254Z
UID:25489-1532719800-1532725200@gideon-church.org
SUMMARY:Friday Prayer Meeting
DESCRIPTION:Join us every Friday for prayers and to share the word of God together\n“Ask and it will be given to you; seek and you shall find; knock and the door will be opened to you. For everyone who asks receives; he who seeks finds; and to him who knocks\, the door will be opened.” Matthew 7:7\,8
URL:https://gideon-church.org/event/friday-prayer-meeting-2018-07-27/
LOCATION:Gideon Church\, 7315 New Hampshire Ave\,\, Takoma Park\, MD\, 20912\, United States
CATEGORIES:Prayer Service
END:VEVENT
BEGIN:VEVENT
DTSTART;TZID=UTC:20180725T200000
DTEND;TZID=UTC:20180725T210000
DTSTAMP:20260422T052742
CREATED:20180203T175504Z
LAST-MODIFIED:20190315T152013Z
UID:25753-1532548800-1532552400@gideon-church.org
SUMMARY:Wednessay Prayer Line
DESCRIPTION:Join us every Wednesday from anywhere over the phone to pray together and share the word of God\nPrayer Line Number: (712) 770-4010\nCode: 744881#\nPlayback Number: (712) 770-4019\nCode: 744881#
URL:https://gideon-church.org/event/thursday-prayer-line-2018-07-25/
CATEGORIES:Prayer Service
END:VEVENT
BEGIN:VEVENT
DTSTART;TZID=UTC:20180720T193000
DTEND;TZID=UTC:20180720T210000
DTSTAMP:20260422T052742
CREATED:20180203T180254Z
LAST-MODIFIED:20180203T180254Z
UID:25488-1532115000-1532120400@gideon-church.org
SUMMARY:Friday Prayer Meeting
DESCRIPTION:Join us every Friday for prayers and to share the word of God together\n“Ask and it will be given to you; seek and you shall find; knock and the door will be opened to you. For everyone who asks receives; he who seeks finds; and to him who knocks\, the door will be opened.” Matthew 7:7\,8
URL:https://gideon-church.org/event/friday-prayer-meeting-2018-07-20/
LOCATION:Gideon Church\, 7315 New Hampshire Ave\,\, Takoma Park\, MD\, 20912\, United States
CATEGORIES:Prayer Service
END:VEVENT
BEGIN:VEVENT
DTSTART;TZID=UTC:20180718T200000
DTEND;TZID=UTC:20180718T210000
DTSTAMP:20260422T052742
CREATED:20180203T175504Z
LAST-MODIFIED:20190315T152012Z
UID:25752-1531944000-1531947600@gideon-church.org
SUMMARY:Wednessay Prayer Line
DESCRIPTION:Join us every Wednesday from anywhere over the phone to pray together and share the word of God\nPrayer Line Number: (712) 770-4010\nCode: 744881#\nPlayback Number: (712) 770-4019\nCode: 744881#
URL:https://gideon-church.org/event/thursday-prayer-line-2018-07-18/
CATEGORIES:Prayer Service
END:VEVENT
BEGIN:VEVENT
DTSTART;TZID=UTC:20180713T193000
DTEND;TZID=UTC:20180713T210000
DTSTAMP:20260422T052742
CREATED:20180203T180254Z
LAST-MODIFIED:20180203T180254Z
UID:25487-1531510200-1531515600@gideon-church.org
SUMMARY:Friday Prayer Meeting
DESCRIPTION:Join us every Friday for prayers and to share the word of God together\n“Ask and it will be given to you; seek and you shall find; knock and the door will be opened to you. For everyone who asks receives; he who seeks finds; and to him who knocks\, the door will be opened.” Matthew 7:7\,8
URL:https://gideon-church.org/event/friday-prayer-meeting-2018-07-13/
LOCATION:Gideon Church\, 7315 New Hampshire Ave\,\, Takoma Park\, MD\, 20912\, United States
CATEGORIES:Prayer Service
END:VEVENT
BEGIN:VEVENT
DTSTART;TZID=UTC:20180711T200000
DTEND;TZID=UTC:20180711T210000
DTSTAMP:20260422T052742
CREATED:20180203T175504Z
LAST-MODIFIED:20190315T152012Z
UID:25751-1531339200-1531342800@gideon-church.org
SUMMARY:Wednessay Prayer Line
DESCRIPTION:Join us every Wednesday from anywhere over the phone to pray together and share the word of God\nPrayer Line Number: (712) 770-4010\nCode: 744881#\nPlayback Number: (712) 770-4019\nCode: 744881#
URL:https://gideon-church.org/event/thursday-prayer-line-2018-07-11/
CATEGORIES:Prayer Service
END:VEVENT
END:VCALENDAR