BEGIN:VCALENDAR
VERSION:2.0
PRODID:-//Gideon Church - ECPv6.15.16//NONSGML v1.0//EN
CALSCALE:GREGORIAN
METHOD:PUBLISH
X-WR-CALNAME:Gideon Church
X-ORIGINAL-URL:https://gideon-church.org
X-WR-CALDESC:Events for Gideon Church
REFRESH-INTERVAL;VALUE=DURATION:PT1H
X-Robots-Tag:noindex
X-PUBLISHED-TTL:PT1H
BEGIN:VTIMEZONE
TZID:UTC
BEGIN:STANDARD
TZOFFSETFROM:+0000
TZOFFSETTO:+0000
TZNAME:UTC
DTSTART:20190101T000000
END:STANDARD
END:VTIMEZONE
BEGIN:VEVENT
DTSTART;TZID=UTC:20200304T193000
DTEND;TZID=UTC:20200304T210000
DTSTAMP:20260421T145825
CREATED:20180203T174555Z
LAST-MODIFIED:20180203T174555Z
UID:25462-1583350200-1583355600@gideon-church.org
SUMMARY:Bible Study
DESCRIPTION:The Bible is God’s word to us. It is God’s way of revealing Himself through stories\, starting with creation to the birth of Christ to His call on our lives. One of the ways we’re instructed to grow in our walk with the Lord is to study His word. \nJoin us every Wednesday to study the bible together
URL:https://gideon-church.org/event/bible-study-2020-03-04/
LOCATION:Gideon Church\, 7315 New Hampshire Ave\,\, Takoma Park\, MD\, 20912\, United States
CATEGORIES:Bible Study
END:VEVENT
BEGIN:VEVENT
DTSTART;TZID=UTC:20200301T130000
DTEND;TZID=UTC:20200301T150000
DTSTAMP:20260421T145826
CREATED:20180203T172026Z
LAST-MODIFIED:20190315T153721Z
UID:26027-1583067600-1583074800@gideon-church.org
SUMMARY:Sunday Service
DESCRIPTION:Our Sunday morning worship is one of the best things we do here at Gideon Church. Feel free to join us at any of our services. \nJoin us every Sunday @ 1:00pm\n\n1:00pm – 1:20pm Welcome and prayer of exhortation\n1:20pm – 1:48pm Praising and worship\n1:48pm – 2:10pm Sermon\n2:10pm – 2:15pm Tithes and offering\n2:15pm Welcome new members\n2:50pm Announce\n2:55pm closing prayer\n3:00pm Blessing from Pastor Faustin
URL:https://gideon-church.org/event/sunday-service-2020-03-01/
LOCATION:Gideon Church\, 7315 New Hampshire Ave\,\, Takoma Park\, MD\, 20912\, United States
CATEGORIES:Service
END:VEVENT
BEGIN:VEVENT
DTSTART;TZID=UTC:20200228T193000
DTEND;TZID=UTC:20200228T210000
DTSTAMP:20260421T145826
CREATED:20180203T180254Z
LAST-MODIFIED:20180203T180254Z
UID:25572-1582918200-1582923600@gideon-church.org
SUMMARY:Friday Prayer Meeting
DESCRIPTION:Join us every Friday for prayers and to share the word of God together\n“Ask and it will be given to you; seek and you shall find; knock and the door will be opened to you. For everyone who asks receives; he who seeks finds; and to him who knocks\, the door will be opened.” Matthew 7:7\,8
URL:https://gideon-church.org/event/friday-prayer-meeting-2020-02-28/
LOCATION:Gideon Church\, 7315 New Hampshire Ave\,\, Takoma Park\, MD\, 20912\, United States
CATEGORIES:Prayer Service
END:VEVENT
BEGIN:VEVENT
DTSTART;TZID=UTC:20200226T200000
DTEND;TZID=UTC:20200226T210000
DTSTAMP:20260421T145826
CREATED:20180203T175504Z
LAST-MODIFIED:20190315T152049Z
UID:25836-1582747200-1582750800@gideon-church.org
SUMMARY:Wednessay Prayer Line
DESCRIPTION:Join us every Wednesday from anywhere over the phone to pray together and share the word of God\nPrayer Line Number: (712) 770-4010\nCode: 744881#\nPlayback Number: (712) 770-4019\nCode: 744881#
URL:https://gideon-church.org/event/thursday-prayer-line-2020-02-26/
CATEGORIES:Prayer Service
END:VEVENT
BEGIN:VEVENT
DTSTART;TZID=UTC:20200226T193000
DTEND;TZID=UTC:20200226T210000
DTSTAMP:20260421T145826
CREATED:20180203T174555Z
LAST-MODIFIED:20180203T174555Z
UID:25461-1582745400-1582750800@gideon-church.org
SUMMARY:Bible Study
DESCRIPTION:The Bible is God’s word to us. It is God’s way of revealing Himself through stories\, starting with creation to the birth of Christ to His call on our lives. One of the ways we’re instructed to grow in our walk with the Lord is to study His word. \nJoin us every Wednesday to study the bible together
URL:https://gideon-church.org/event/bible-study-2020-02-26/
LOCATION:Gideon Church\, 7315 New Hampshire Ave\,\, Takoma Park\, MD\, 20912\, United States
CATEGORIES:Bible Study
END:VEVENT
BEGIN:VEVENT
DTSTART;TZID=UTC:20200223T130000
DTEND;TZID=UTC:20200223T150000
DTSTAMP:20260421T145826
CREATED:20180203T172026Z
LAST-MODIFIED:20190315T153721Z
UID:26026-1582462800-1582470000@gideon-church.org
SUMMARY:Sunday Service
DESCRIPTION:Our Sunday morning worship is one of the best things we do here at Gideon Church. Feel free to join us at any of our services. \nJoin us every Sunday @ 1:00pm\n\n1:00pm – 1:20pm Welcome and prayer of exhortation\n1:20pm – 1:48pm Praising and worship\n1:48pm – 2:10pm Sermon\n2:10pm – 2:15pm Tithes and offering\n2:15pm Welcome new members\n2:50pm Announce\n2:55pm closing prayer\n3:00pm Blessing from Pastor Faustin
URL:https://gideon-church.org/event/sunday-service-2020-02-23/
LOCATION:Gideon Church\, 7315 New Hampshire Ave\,\, Takoma Park\, MD\, 20912\, United States
CATEGORIES:Service
END:VEVENT
BEGIN:VEVENT
DTSTART;TZID=UTC:20200221T193000
DTEND;TZID=UTC:20200221T210000
DTSTAMP:20260421T145826
CREATED:20180203T180254Z
LAST-MODIFIED:20180203T180254Z
UID:25571-1582313400-1582318800@gideon-church.org
SUMMARY:Friday Prayer Meeting
DESCRIPTION:Join us every Friday for prayers and to share the word of God together\n“Ask and it will be given to you; seek and you shall find; knock and the door will be opened to you. For everyone who asks receives; he who seeks finds; and to him who knocks\, the door will be opened.” Matthew 7:7\,8
URL:https://gideon-church.org/event/friday-prayer-meeting-2020-02-21/
LOCATION:Gideon Church\, 7315 New Hampshire Ave\,\, Takoma Park\, MD\, 20912\, United States
CATEGORIES:Prayer Service
END:VEVENT
BEGIN:VEVENT
DTSTART;TZID=UTC:20200219T200000
DTEND;TZID=UTC:20200219T210000
DTSTAMP:20260421T145826
CREATED:20180203T175504Z
LAST-MODIFIED:20190315T152048Z
UID:25835-1582142400-1582146000@gideon-church.org
SUMMARY:Wednessay Prayer Line
DESCRIPTION:Join us every Wednesday from anywhere over the phone to pray together and share the word of God\nPrayer Line Number: (712) 770-4010\nCode: 744881#\nPlayback Number: (712) 770-4019\nCode: 744881#
URL:https://gideon-church.org/event/thursday-prayer-line-2020-02-19/
CATEGORIES:Prayer Service
END:VEVENT
BEGIN:VEVENT
DTSTART;TZID=UTC:20200219T193000
DTEND;TZID=UTC:20200219T210000
DTSTAMP:20260421T145826
CREATED:20180203T174555Z
LAST-MODIFIED:20180203T174555Z
UID:25460-1582140600-1582146000@gideon-church.org
SUMMARY:Bible Study
DESCRIPTION:The Bible is God’s word to us. It is God’s way of revealing Himself through stories\, starting with creation to the birth of Christ to His call on our lives. One of the ways we’re instructed to grow in our walk with the Lord is to study His word. \nJoin us every Wednesday to study the bible together
URL:https://gideon-church.org/event/bible-study-2020-02-19/
LOCATION:Gideon Church\, 7315 New Hampshire Ave\,\, Takoma Park\, MD\, 20912\, United States
CATEGORIES:Bible Study
END:VEVENT
BEGIN:VEVENT
DTSTART;TZID=UTC:20200216T130000
DTEND;TZID=UTC:20200216T150000
DTSTAMP:20260421T145826
CREATED:20180203T172026Z
LAST-MODIFIED:20190315T153721Z
UID:26025-1581858000-1581865200@gideon-church.org
SUMMARY:Sunday Service
DESCRIPTION:Our Sunday morning worship is one of the best things we do here at Gideon Church. Feel free to join us at any of our services. \nJoin us every Sunday @ 1:00pm\n\n1:00pm – 1:20pm Welcome and prayer of exhortation\n1:20pm – 1:48pm Praising and worship\n1:48pm – 2:10pm Sermon\n2:10pm – 2:15pm Tithes and offering\n2:15pm Welcome new members\n2:50pm Announce\n2:55pm closing prayer\n3:00pm Blessing from Pastor Faustin
URL:https://gideon-church.org/event/sunday-service-2020-02-16/
LOCATION:Gideon Church\, 7315 New Hampshire Ave\,\, Takoma Park\, MD\, 20912\, United States
CATEGORIES:Service
END:VEVENT
BEGIN:VEVENT
DTSTART;TZID=UTC:20200214T193000
DTEND;TZID=UTC:20200214T210000
DTSTAMP:20260421T145826
CREATED:20180203T180254Z
LAST-MODIFIED:20180203T180254Z
UID:25570-1581708600-1581714000@gideon-church.org
SUMMARY:Friday Prayer Meeting
DESCRIPTION:Join us every Friday for prayers and to share the word of God together\n“Ask and it will be given to you; seek and you shall find; knock and the door will be opened to you. For everyone who asks receives; he who seeks finds; and to him who knocks\, the door will be opened.” Matthew 7:7\,8
URL:https://gideon-church.org/event/friday-prayer-meeting-2020-02-14/
LOCATION:Gideon Church\, 7315 New Hampshire Ave\,\, Takoma Park\, MD\, 20912\, United States
CATEGORIES:Prayer Service
END:VEVENT
BEGIN:VEVENT
DTSTART;TZID=UTC:20200212T200000
DTEND;TZID=UTC:20200212T210000
DTSTAMP:20260421T145826
CREATED:20180203T175504Z
LAST-MODIFIED:20190315T152048Z
UID:25834-1581537600-1581541200@gideon-church.org
SUMMARY:Wednessay Prayer Line
DESCRIPTION:Join us every Wednesday from anywhere over the phone to pray together and share the word of God\nPrayer Line Number: (712) 770-4010\nCode: 744881#\nPlayback Number: (712) 770-4019\nCode: 744881#
URL:https://gideon-church.org/event/thursday-prayer-line-2020-02-12/
CATEGORIES:Prayer Service
END:VEVENT
BEGIN:VEVENT
DTSTART;TZID=UTC:20200212T193000
DTEND;TZID=UTC:20200212T210000
DTSTAMP:20260421T145826
CREATED:20180203T174555Z
LAST-MODIFIED:20180203T174555Z
UID:25459-1581535800-1581541200@gideon-church.org
SUMMARY:Bible Study
DESCRIPTION:The Bible is God’s word to us. It is God’s way of revealing Himself through stories\, starting with creation to the birth of Christ to His call on our lives. One of the ways we’re instructed to grow in our walk with the Lord is to study His word. \nJoin us every Wednesday to study the bible together
URL:https://gideon-church.org/event/bible-study-2020-02-12/
LOCATION:Gideon Church\, 7315 New Hampshire Ave\,\, Takoma Park\, MD\, 20912\, United States
CATEGORIES:Bible Study
END:VEVENT
BEGIN:VEVENT
DTSTART;TZID=UTC:20200209T130000
DTEND;TZID=UTC:20200209T150000
DTSTAMP:20260421T145826
CREATED:20180203T172026Z
LAST-MODIFIED:20190315T153721Z
UID:26024-1581253200-1581260400@gideon-church.org
SUMMARY:Sunday Service
DESCRIPTION:Our Sunday morning worship is one of the best things we do here at Gideon Church. Feel free to join us at any of our services. \nJoin us every Sunday @ 1:00pm\n\n1:00pm – 1:20pm Welcome and prayer of exhortation\n1:20pm – 1:48pm Praising and worship\n1:48pm – 2:10pm Sermon\n2:10pm – 2:15pm Tithes and offering\n2:15pm Welcome new members\n2:50pm Announce\n2:55pm closing prayer\n3:00pm Blessing from Pastor Faustin
URL:https://gideon-church.org/event/sunday-service-2020-02-09/
LOCATION:Gideon Church\, 7315 New Hampshire Ave\,\, Takoma Park\, MD\, 20912\, United States
CATEGORIES:Service
END:VEVENT
BEGIN:VEVENT
DTSTART;TZID=UTC:20200207T193000
DTEND;TZID=UTC:20200207T210000
DTSTAMP:20260421T145826
CREATED:20180203T180254Z
LAST-MODIFIED:20180203T180254Z
UID:25569-1581103800-1581109200@gideon-church.org
SUMMARY:Friday Prayer Meeting
DESCRIPTION:Join us every Friday for prayers and to share the word of God together\n“Ask and it will be given to you; seek and you shall find; knock and the door will be opened to you. For everyone who asks receives; he who seeks finds; and to him who knocks\, the door will be opened.” Matthew 7:7\,8
URL:https://gideon-church.org/event/friday-prayer-meeting-2020-02-07/
LOCATION:Gideon Church\, 7315 New Hampshire Ave\,\, Takoma Park\, MD\, 20912\, United States
CATEGORIES:Prayer Service
END:VEVENT
BEGIN:VEVENT
DTSTART;TZID=UTC:20200205T200000
DTEND;TZID=UTC:20200205T210000
DTSTAMP:20260421T145826
CREATED:20180203T175504Z
LAST-MODIFIED:20190315T152048Z
UID:25833-1580932800-1580936400@gideon-church.org
SUMMARY:Wednessay Prayer Line
DESCRIPTION:Join us every Wednesday from anywhere over the phone to pray together and share the word of God\nPrayer Line Number: (712) 770-4010\nCode: 744881#\nPlayback Number: (712) 770-4019\nCode: 744881#
URL:https://gideon-church.org/event/thursday-prayer-line-2020-02-05/
CATEGORIES:Prayer Service
END:VEVENT
BEGIN:VEVENT
DTSTART;TZID=UTC:20200205T193000
DTEND;TZID=UTC:20200205T210000
DTSTAMP:20260421T145826
CREATED:20180203T174555Z
LAST-MODIFIED:20180203T174555Z
UID:25458-1580931000-1580936400@gideon-church.org
SUMMARY:Bible Study
DESCRIPTION:The Bible is God’s word to us. It is God’s way of revealing Himself through stories\, starting with creation to the birth of Christ to His call on our lives. One of the ways we’re instructed to grow in our walk with the Lord is to study His word. \nJoin us every Wednesday to study the bible together
URL:https://gideon-church.org/event/bible-study-2020-02-05/
LOCATION:Gideon Church\, 7315 New Hampshire Ave\,\, Takoma Park\, MD\, 20912\, United States
CATEGORIES:Bible Study
END:VEVENT
BEGIN:VEVENT
DTSTART;TZID=UTC:20200202T130000
DTEND;TZID=UTC:20200202T150000
DTSTAMP:20260421T145826
CREATED:20180203T172026Z
LAST-MODIFIED:20190315T153720Z
UID:26023-1580648400-1580655600@gideon-church.org
SUMMARY:Sunday Service
DESCRIPTION:Our Sunday morning worship is one of the best things we do here at Gideon Church. Feel free to join us at any of our services. \nJoin us every Sunday @ 1:00pm\n\n1:00pm – 1:20pm Welcome and prayer of exhortation\n1:20pm – 1:48pm Praising and worship\n1:48pm – 2:10pm Sermon\n2:10pm – 2:15pm Tithes and offering\n2:15pm Welcome new members\n2:50pm Announce\n2:55pm closing prayer\n3:00pm Blessing from Pastor Faustin
URL:https://gideon-church.org/event/sunday-service-2020-02-02/
LOCATION:Gideon Church\, 7315 New Hampshire Ave\,\, Takoma Park\, MD\, 20912\, United States
CATEGORIES:Service
END:VEVENT
BEGIN:VEVENT
DTSTART;TZID=UTC:20200131T193000
DTEND;TZID=UTC:20200131T210000
DTSTAMP:20260421T145826
CREATED:20180203T180254Z
LAST-MODIFIED:20180203T180254Z
UID:25568-1580499000-1580504400@gideon-church.org
SUMMARY:Friday Prayer Meeting
DESCRIPTION:Join us every Friday for prayers and to share the word of God together\n“Ask and it will be given to you; seek and you shall find; knock and the door will be opened to you. For everyone who asks receives; he who seeks finds; and to him who knocks\, the door will be opened.” Matthew 7:7\,8
URL:https://gideon-church.org/event/friday-prayer-meeting-2020-01-31/
LOCATION:Gideon Church\, 7315 New Hampshire Ave\,\, Takoma Park\, MD\, 20912\, United States
CATEGORIES:Prayer Service
END:VEVENT
BEGIN:VEVENT
DTSTART;TZID=UTC:20200129T200000
DTEND;TZID=UTC:20200129T210000
DTSTAMP:20260421T145826
CREATED:20180203T175504Z
LAST-MODIFIED:20190315T152047Z
UID:25832-1580328000-1580331600@gideon-church.org
SUMMARY:Wednessay Prayer Line
DESCRIPTION:Join us every Wednesday from anywhere over the phone to pray together and share the word of God\nPrayer Line Number: (712) 770-4010\nCode: 744881#\nPlayback Number: (712) 770-4019\nCode: 744881#
URL:https://gideon-church.org/event/thursday-prayer-line-2020-01-29/
CATEGORIES:Prayer Service
END:VEVENT
BEGIN:VEVENT
DTSTART;TZID=UTC:20200129T193000
DTEND;TZID=UTC:20200129T210000
DTSTAMP:20260421T145826
CREATED:20180203T174555Z
LAST-MODIFIED:20180203T174555Z
UID:25457-1580326200-1580331600@gideon-church.org
SUMMARY:Bible Study
DESCRIPTION:The Bible is God’s word to us. It is God’s way of revealing Himself through stories\, starting with creation to the birth of Christ to His call on our lives. One of the ways we’re instructed to grow in our walk with the Lord is to study His word. \nJoin us every Wednesday to study the bible together
URL:https://gideon-church.org/event/bible-study-2020-01-29/
LOCATION:Gideon Church\, 7315 New Hampshire Ave\,\, Takoma Park\, MD\, 20912\, United States
CATEGORIES:Bible Study
END:VEVENT
BEGIN:VEVENT
DTSTART;TZID=UTC:20200126T130000
DTEND;TZID=UTC:20200126T150000
DTSTAMP:20260421T145826
CREATED:20180203T172026Z
LAST-MODIFIED:20190315T153720Z
UID:26022-1580043600-1580050800@gideon-church.org
SUMMARY:Sunday Service
DESCRIPTION:Our Sunday morning worship is one of the best things we do here at Gideon Church. Feel free to join us at any of our services. \nJoin us every Sunday @ 1:00pm\n\n1:00pm – 1:20pm Welcome and prayer of exhortation\n1:20pm – 1:48pm Praising and worship\n1:48pm – 2:10pm Sermon\n2:10pm – 2:15pm Tithes and offering\n2:15pm Welcome new members\n2:50pm Announce\n2:55pm closing prayer\n3:00pm Blessing from Pastor Faustin
URL:https://gideon-church.org/event/sunday-service-2020-01-26/
LOCATION:Gideon Church\, 7315 New Hampshire Ave\,\, Takoma Park\, MD\, 20912\, United States
CATEGORIES:Service
END:VEVENT
BEGIN:VEVENT
DTSTART;TZID=UTC:20200124T193000
DTEND;TZID=UTC:20200124T210000
DTSTAMP:20260421T145826
CREATED:20180203T180254Z
LAST-MODIFIED:20180203T180254Z
UID:25567-1579894200-1579899600@gideon-church.org
SUMMARY:Friday Prayer Meeting
DESCRIPTION:Join us every Friday for prayers and to share the word of God together\n“Ask and it will be given to you; seek and you shall find; knock and the door will be opened to you. For everyone who asks receives; he who seeks finds; and to him who knocks\, the door will be opened.” Matthew 7:7\,8
URL:https://gideon-church.org/event/friday-prayer-meeting-2020-01-24/
LOCATION:Gideon Church\, 7315 New Hampshire Ave\,\, Takoma Park\, MD\, 20912\, United States
CATEGORIES:Prayer Service
END:VEVENT
BEGIN:VEVENT
DTSTART;TZID=UTC:20200122T200000
DTEND;TZID=UTC:20200122T210000
DTSTAMP:20260421T145826
CREATED:20180203T175504Z
LAST-MODIFIED:20190315T152047Z
UID:25831-1579723200-1579726800@gideon-church.org
SUMMARY:Wednessay Prayer Line
DESCRIPTION:Join us every Wednesday from anywhere over the phone to pray together and share the word of God\nPrayer Line Number: (712) 770-4010\nCode: 744881#\nPlayback Number: (712) 770-4019\nCode: 744881#
URL:https://gideon-church.org/event/thursday-prayer-line-2020-01-22/
CATEGORIES:Prayer Service
END:VEVENT
BEGIN:VEVENT
DTSTART;TZID=UTC:20200122T193000
DTEND;TZID=UTC:20200122T210000
DTSTAMP:20260421T145826
CREATED:20180203T174555Z
LAST-MODIFIED:20180203T174555Z
UID:25456-1579721400-1579726800@gideon-church.org
SUMMARY:Bible Study
DESCRIPTION:The Bible is God’s word to us. It is God’s way of revealing Himself through stories\, starting with creation to the birth of Christ to His call on our lives. One of the ways we’re instructed to grow in our walk with the Lord is to study His word. \nJoin us every Wednesday to study the bible together
URL:https://gideon-church.org/event/bible-study-2020-01-22/
LOCATION:Gideon Church\, 7315 New Hampshire Ave\,\, Takoma Park\, MD\, 20912\, United States
CATEGORIES:Bible Study
END:VEVENT
BEGIN:VEVENT
DTSTART;TZID=UTC:20200119T130000
DTEND;TZID=UTC:20200119T150000
DTSTAMP:20260421T145826
CREATED:20180203T172026Z
LAST-MODIFIED:20190315T153720Z
UID:26021-1579438800-1579446000@gideon-church.org
SUMMARY:Sunday Service
DESCRIPTION:Our Sunday morning worship is one of the best things we do here at Gideon Church. Feel free to join us at any of our services. \nJoin us every Sunday @ 1:00pm\n\n1:00pm – 1:20pm Welcome and prayer of exhortation\n1:20pm – 1:48pm Praising and worship\n1:48pm – 2:10pm Sermon\n2:10pm – 2:15pm Tithes and offering\n2:15pm Welcome new members\n2:50pm Announce\n2:55pm closing prayer\n3:00pm Blessing from Pastor Faustin
URL:https://gideon-church.org/event/sunday-service-2020-01-19/
LOCATION:Gideon Church\, 7315 New Hampshire Ave\,\, Takoma Park\, MD\, 20912\, United States
CATEGORIES:Service
END:VEVENT
BEGIN:VEVENT
DTSTART;TZID=UTC:20200117T193000
DTEND;TZID=UTC:20200117T210000
DTSTAMP:20260421T145826
CREATED:20180203T180254Z
LAST-MODIFIED:20180203T180254Z
UID:25566-1579289400-1579294800@gideon-church.org
SUMMARY:Friday Prayer Meeting
DESCRIPTION:Join us every Friday for prayers and to share the word of God together\n“Ask and it will be given to you; seek and you shall find; knock and the door will be opened to you. For everyone who asks receives; he who seeks finds; and to him who knocks\, the door will be opened.” Matthew 7:7\,8
URL:https://gideon-church.org/event/friday-prayer-meeting-2020-01-17/
LOCATION:Gideon Church\, 7315 New Hampshire Ave\,\, Takoma Park\, MD\, 20912\, United States
CATEGORIES:Prayer Service
END:VEVENT
BEGIN:VEVENT
DTSTART;TZID=UTC:20200115T200000
DTEND;TZID=UTC:20200115T210000
DTSTAMP:20260421T145826
CREATED:20180203T175504Z
LAST-MODIFIED:20190315T152047Z
UID:25830-1579118400-1579122000@gideon-church.org
SUMMARY:Wednessay Prayer Line
DESCRIPTION:Join us every Wednesday from anywhere over the phone to pray together and share the word of God\nPrayer Line Number: (712) 770-4010\nCode: 744881#\nPlayback Number: (712) 770-4019\nCode: 744881#
URL:https://gideon-church.org/event/thursday-prayer-line-2020-01-15/
CATEGORIES:Prayer Service
END:VEVENT
BEGIN:VEVENT
DTSTART;TZID=UTC:20200115T193000
DTEND;TZID=UTC:20200115T210000
DTSTAMP:20260421T145826
CREATED:20180203T174555Z
LAST-MODIFIED:20180203T174555Z
UID:25455-1579116600-1579122000@gideon-church.org
SUMMARY:Bible Study
DESCRIPTION:The Bible is God’s word to us. It is God’s way of revealing Himself through stories\, starting with creation to the birth of Christ to His call on our lives. One of the ways we’re instructed to grow in our walk with the Lord is to study His word. \nJoin us every Wednesday to study the bible together
URL:https://gideon-church.org/event/bible-study-2020-01-15/
LOCATION:Gideon Church\, 7315 New Hampshire Ave\,\, Takoma Park\, MD\, 20912\, United States
CATEGORIES:Bible Study
END:VEVENT
BEGIN:VEVENT
DTSTART;TZID=UTC:20200112T130000
DTEND;TZID=UTC:20200112T150000
DTSTAMP:20260421T145826
CREATED:20180203T172026Z
LAST-MODIFIED:20190315T153720Z
UID:26020-1578834000-1578841200@gideon-church.org
SUMMARY:Sunday Service
DESCRIPTION:Our Sunday morning worship is one of the best things we do here at Gideon Church. Feel free to join us at any of our services. \nJoin us every Sunday @ 1:00pm\n\n1:00pm – 1:20pm Welcome and prayer of exhortation\n1:20pm – 1:48pm Praising and worship\n1:48pm – 2:10pm Sermon\n2:10pm – 2:15pm Tithes and offering\n2:15pm Welcome new members\n2:50pm Announce\n2:55pm closing prayer\n3:00pm Blessing from Pastor Faustin
URL:https://gideon-church.org/event/sunday-service-2020-01-12/
LOCATION:Gideon Church\, 7315 New Hampshire Ave\,\, Takoma Park\, MD\, 20912\, United States
CATEGORIES:Service
END:VEVENT
END:VCALENDAR