BEGIN:VCALENDAR
VERSION:2.0
PRODID:-//Gideon Church - ECPv6.15.16//NONSGML v1.0//EN
CALSCALE:GREGORIAN
METHOD:PUBLISH
X-ORIGINAL-URL:https://gideon-church.org
X-WR-CALDESC:Events for Gideon Church
REFRESH-INTERVAL;VALUE=DURATION:PT1H
X-Robots-Tag:noindex
X-PUBLISHED-TTL:PT1H
BEGIN:VTIMEZONE
TZID:UTC
BEGIN:STANDARD
TZOFFSETFROM:+0000
TZOFFSETTO:+0000
TZNAME:UTC
DTSTART:20180101T000000
END:STANDARD
END:VTIMEZONE
BEGIN:VEVENT
DTSTART;TZID=UTC:20200110T193000
DTEND;TZID=UTC:20200110T210000
DTSTAMP:20260421T235837
CREATED:20180203T180254Z
LAST-MODIFIED:20180203T180254Z
UID:25565-1578684600-1578690000@gideon-church.org
SUMMARY:Friday Prayer Meeting
DESCRIPTION:Join us every Friday for prayers and to share the word of God together\n“Ask and it will be given to you; seek and you shall find; knock and the door will be opened to you. For everyone who asks receives; he who seeks finds; and to him who knocks\, the door will be opened.” Matthew 7:7\,8
URL:https://gideon-church.org/event/friday-prayer-meeting-2020-01-10/
LOCATION:Gideon Church\, 7315 New Hampshire Ave\,\, Takoma Park\, MD\, 20912\, United States
CATEGORIES:Prayer Service
END:VEVENT
BEGIN:VEVENT
DTSTART;TZID=UTC:20200108T200000
DTEND;TZID=UTC:20200108T210000
DTSTAMP:20260421T235837
CREATED:20180203T175504Z
LAST-MODIFIED:20190315T152046Z
UID:25829-1578513600-1578517200@gideon-church.org
SUMMARY:Wednessay Prayer Line
DESCRIPTION:Join us every Wednesday from anywhere over the phone to pray together and share the word of God\nPrayer Line Number: (712) 770-4010\nCode: 744881#\nPlayback Number: (712) 770-4019\nCode: 744881#
URL:https://gideon-church.org/event/thursday-prayer-line-2020-01-08/
CATEGORIES:Prayer Service
END:VEVENT
BEGIN:VEVENT
DTSTART;TZID=UTC:20200108T193000
DTEND;TZID=UTC:20200108T210000
DTSTAMP:20260421T235837
CREATED:20180203T174555Z
LAST-MODIFIED:20180203T174555Z
UID:25454-1578511800-1578517200@gideon-church.org
SUMMARY:Bible Study
DESCRIPTION:The Bible is God’s word to us. It is God’s way of revealing Himself through stories\, starting with creation to the birth of Christ to His call on our lives. One of the ways we’re instructed to grow in our walk with the Lord is to study His word. \nJoin us every Wednesday to study the bible together
URL:https://gideon-church.org/event/bible-study-2020-01-08/
LOCATION:Gideon Church\, 7315 New Hampshire Ave\,\, Takoma Park\, MD\, 20912\, United States
CATEGORIES:Bible Study
END:VEVENT
BEGIN:VEVENT
DTSTART;TZID=UTC:20200105T130000
DTEND;TZID=UTC:20200105T150000
DTSTAMP:20260421T235837
CREATED:20180203T172026Z
LAST-MODIFIED:20190315T153720Z
UID:26019-1578229200-1578236400@gideon-church.org
SUMMARY:Sunday Service
DESCRIPTION:Our Sunday morning worship is one of the best things we do here at Gideon Church. Feel free to join us at any of our services. \nJoin us every Sunday @ 1:00pm\n\n1:00pm – 1:20pm Welcome and prayer of exhortation\n1:20pm – 1:48pm Praising and worship\n1:48pm – 2:10pm Sermon\n2:10pm – 2:15pm Tithes and offering\n2:15pm Welcome new members\n2:50pm Announce\n2:55pm closing prayer\n3:00pm Blessing from Pastor Faustin
URL:https://gideon-church.org/event/sunday-service-2020-01-05/
LOCATION:Gideon Church\, 7315 New Hampshire Ave\,\, Takoma Park\, MD\, 20912\, United States
CATEGORIES:Service
END:VEVENT
BEGIN:VEVENT
DTSTART;TZID=UTC:20200103T193000
DTEND;TZID=UTC:20200103T210000
DTSTAMP:20260421T235837
CREATED:20180203T180254Z
LAST-MODIFIED:20180203T180254Z
UID:25564-1578079800-1578085200@gideon-church.org
SUMMARY:Friday Prayer Meeting
DESCRIPTION:Join us every Friday for prayers and to share the word of God together\n“Ask and it will be given to you; seek and you shall find; knock and the door will be opened to you. For everyone who asks receives; he who seeks finds; and to him who knocks\, the door will be opened.” Matthew 7:7\,8
URL:https://gideon-church.org/event/friday-prayer-meeting-2020-01-03/
LOCATION:Gideon Church\, 7315 New Hampshire Ave\,\, Takoma Park\, MD\, 20912\, United States
CATEGORIES:Prayer Service
END:VEVENT
BEGIN:VEVENT
DTSTART;TZID=UTC:20200101T200000
DTEND;TZID=UTC:20200101T210000
DTSTAMP:20260421T235837
CREATED:20180203T175504Z
LAST-MODIFIED:20190315T152045Z
UID:25828-1577908800-1577912400@gideon-church.org
SUMMARY:Wednessay Prayer Line
DESCRIPTION:Join us every Wednesday from anywhere over the phone to pray together and share the word of God\nPrayer Line Number: (712) 770-4010\nCode: 744881#\nPlayback Number: (712) 770-4019\nCode: 744881#
URL:https://gideon-church.org/event/thursday-prayer-line-2020-01-01/
CATEGORIES:Prayer Service
END:VEVENT
BEGIN:VEVENT
DTSTART;TZID=UTC:20200101T193000
DTEND;TZID=UTC:20200101T210000
DTSTAMP:20260421T235837
CREATED:20180203T174555Z
LAST-MODIFIED:20180203T174555Z
UID:25453-1577907000-1577912400@gideon-church.org
SUMMARY:Bible Study
DESCRIPTION:The Bible is God’s word to us. It is God’s way of revealing Himself through stories\, starting with creation to the birth of Christ to His call on our lives. One of the ways we’re instructed to grow in our walk with the Lord is to study His word. \nJoin us every Wednesday to study the bible together
URL:https://gideon-church.org/event/bible-study-2020-01-01/
LOCATION:Gideon Church\, 7315 New Hampshire Ave\,\, Takoma Park\, MD\, 20912\, United States
CATEGORIES:Bible Study
END:VEVENT
BEGIN:VEVENT
DTSTART;TZID=UTC:20191229T130000
DTEND;TZID=UTC:20191229T150000
DTSTAMP:20260421T235837
CREATED:20180203T172026Z
LAST-MODIFIED:20190315T153718Z
UID:26018-1577624400-1577631600@gideon-church.org
SUMMARY:Sunday Service
DESCRIPTION:Our Sunday morning worship is one of the best things we do here at Gideon Church. Feel free to join us at any of our services. \nJoin us every Sunday @ 1:00pm\n\n1:00pm – 1:20pm Welcome and prayer of exhortation\n1:20pm – 1:48pm Praising and worship\n1:48pm – 2:10pm Sermon\n2:10pm – 2:15pm Tithes and offering\n2:15pm Welcome new members\n2:50pm Announce\n2:55pm closing prayer\n3:00pm Blessing from Pastor Faustin
URL:https://gideon-church.org/event/sunday-service-2019-12-29/
LOCATION:Gideon Church\, 7315 New Hampshire Ave\,\, Takoma Park\, MD\, 20912\, United States
CATEGORIES:Service
END:VEVENT
BEGIN:VEVENT
DTSTART;TZID=UTC:20191227T193000
DTEND;TZID=UTC:20191227T210000
DTSTAMP:20260421T235837
CREATED:20180203T180254Z
LAST-MODIFIED:20180203T180254Z
UID:25563-1577475000-1577480400@gideon-church.org
SUMMARY:Friday Prayer Meeting
DESCRIPTION:Join us every Friday for prayers and to share the word of God together\n“Ask and it will be given to you; seek and you shall find; knock and the door will be opened to you. For everyone who asks receives; he who seeks finds; and to him who knocks\, the door will be opened.” Matthew 7:7\,8
URL:https://gideon-church.org/event/friday-prayer-meeting-2019-12-27/
LOCATION:Gideon Church\, 7315 New Hampshire Ave\,\, Takoma Park\, MD\, 20912\, United States
CATEGORIES:Prayer Service
END:VEVENT
BEGIN:VEVENT
DTSTART;TZID=UTC:20191225T200000
DTEND;TZID=UTC:20191225T210000
DTSTAMP:20260421T235837
CREATED:20180203T175504Z
LAST-MODIFIED:20190315T152045Z
UID:25827-1577304000-1577307600@gideon-church.org
SUMMARY:Wednessay Prayer Line
DESCRIPTION:Join us every Wednesday from anywhere over the phone to pray together and share the word of God\nPrayer Line Number: (712) 770-4010\nCode: 744881#\nPlayback Number: (712) 770-4019\nCode: 744881#
URL:https://gideon-church.org/event/thursday-prayer-line-2019-12-25/
CATEGORIES:Prayer Service
END:VEVENT
BEGIN:VEVENT
DTSTART;TZID=UTC:20191225T193000
DTEND;TZID=UTC:20191225T210000
DTSTAMP:20260421T235837
CREATED:20180203T174555Z
LAST-MODIFIED:20180203T174555Z
UID:25452-1577302200-1577307600@gideon-church.org
SUMMARY:Bible Study
DESCRIPTION:The Bible is God’s word to us. It is God’s way of revealing Himself through stories\, starting with creation to the birth of Christ to His call on our lives. One of the ways we’re instructed to grow in our walk with the Lord is to study His word. \nJoin us every Wednesday to study the bible together
URL:https://gideon-church.org/event/bible-study-2019-12-25/
LOCATION:Gideon Church\, 7315 New Hampshire Ave\,\, Takoma Park\, MD\, 20912\, United States
CATEGORIES:Bible Study
END:VEVENT
BEGIN:VEVENT
DTSTART;TZID=UTC:20191222T130000
DTEND;TZID=UTC:20191222T150000
DTSTAMP:20260421T235837
CREATED:20180203T172026Z
LAST-MODIFIED:20190315T153718Z
UID:26017-1577019600-1577026800@gideon-church.org
SUMMARY:Sunday Service
DESCRIPTION:Our Sunday morning worship is one of the best things we do here at Gideon Church. Feel free to join us at any of our services. \nJoin us every Sunday @ 1:00pm\n\n1:00pm – 1:20pm Welcome and prayer of exhortation\n1:20pm – 1:48pm Praising and worship\n1:48pm – 2:10pm Sermon\n2:10pm – 2:15pm Tithes and offering\n2:15pm Welcome new members\n2:50pm Announce\n2:55pm closing prayer\n3:00pm Blessing from Pastor Faustin
URL:https://gideon-church.org/event/sunday-service-2019-12-22/
LOCATION:Gideon Church\, 7315 New Hampshire Ave\,\, Takoma Park\, MD\, 20912\, United States
CATEGORIES:Service
END:VEVENT
BEGIN:VEVENT
DTSTART;TZID=UTC:20191220T193000
DTEND;TZID=UTC:20191220T210000
DTSTAMP:20260421T235837
CREATED:20180203T180254Z
LAST-MODIFIED:20180203T180254Z
UID:25562-1576870200-1576875600@gideon-church.org
SUMMARY:Friday Prayer Meeting
DESCRIPTION:Join us every Friday for prayers and to share the word of God together\n“Ask and it will be given to you; seek and you shall find; knock and the door will be opened to you. For everyone who asks receives; he who seeks finds; and to him who knocks\, the door will be opened.” Matthew 7:7\,8
URL:https://gideon-church.org/event/friday-prayer-meeting-2019-12-20/
LOCATION:Gideon Church\, 7315 New Hampshire Ave\,\, Takoma Park\, MD\, 20912\, United States
CATEGORIES:Prayer Service
END:VEVENT
BEGIN:VEVENT
DTSTART;TZID=UTC:20191218T200000
DTEND;TZID=UTC:20191218T210000
DTSTAMP:20260421T235837
CREATED:20180203T175504Z
LAST-MODIFIED:20190315T152045Z
UID:25826-1576699200-1576702800@gideon-church.org
SUMMARY:Wednessay Prayer Line
DESCRIPTION:Join us every Wednesday from anywhere over the phone to pray together and share the word of God\nPrayer Line Number: (712) 770-4010\nCode: 744881#\nPlayback Number: (712) 770-4019\nCode: 744881#
URL:https://gideon-church.org/event/thursday-prayer-line-2019-12-18/
CATEGORIES:Prayer Service
END:VEVENT
BEGIN:VEVENT
DTSTART;TZID=UTC:20191218T193000
DTEND;TZID=UTC:20191218T210000
DTSTAMP:20260421T235837
CREATED:20180203T174555Z
LAST-MODIFIED:20180203T174555Z
UID:25451-1576697400-1576702800@gideon-church.org
SUMMARY:Bible Study
DESCRIPTION:The Bible is God’s word to us. It is God’s way of revealing Himself through stories\, starting with creation to the birth of Christ to His call on our lives. One of the ways we’re instructed to grow in our walk with the Lord is to study His word. \nJoin us every Wednesday to study the bible together
URL:https://gideon-church.org/event/bible-study-2019-12-18/
LOCATION:Gideon Church\, 7315 New Hampshire Ave\,\, Takoma Park\, MD\, 20912\, United States
CATEGORIES:Bible Study
END:VEVENT
BEGIN:VEVENT
DTSTART;TZID=UTC:20191215T130000
DTEND;TZID=UTC:20191215T150000
DTSTAMP:20260421T235837
CREATED:20180203T172026Z
LAST-MODIFIED:20190315T153718Z
UID:26016-1576414800-1576422000@gideon-church.org
SUMMARY:Sunday Service
DESCRIPTION:Our Sunday morning worship is one of the best things we do here at Gideon Church. Feel free to join us at any of our services. \nJoin us every Sunday @ 1:00pm\n\n1:00pm – 1:20pm Welcome and prayer of exhortation\n1:20pm – 1:48pm Praising and worship\n1:48pm – 2:10pm Sermon\n2:10pm – 2:15pm Tithes and offering\n2:15pm Welcome new members\n2:50pm Announce\n2:55pm closing prayer\n3:00pm Blessing from Pastor Faustin
URL:https://gideon-church.org/event/sunday-service-2019-12-15/
LOCATION:Gideon Church\, 7315 New Hampshire Ave\,\, Takoma Park\, MD\, 20912\, United States
CATEGORIES:Service
END:VEVENT
BEGIN:VEVENT
DTSTART;TZID=UTC:20191213T193000
DTEND;TZID=UTC:20191213T210000
DTSTAMP:20260421T235837
CREATED:20180203T180254Z
LAST-MODIFIED:20180203T180254Z
UID:25561-1576265400-1576270800@gideon-church.org
SUMMARY:Friday Prayer Meeting
DESCRIPTION:Join us every Friday for prayers and to share the word of God together\n“Ask and it will be given to you; seek and you shall find; knock and the door will be opened to you. For everyone who asks receives; he who seeks finds; and to him who knocks\, the door will be opened.” Matthew 7:7\,8
URL:https://gideon-church.org/event/friday-prayer-meeting-2019-12-13/
LOCATION:Gideon Church\, 7315 New Hampshire Ave\,\, Takoma Park\, MD\, 20912\, United States
CATEGORIES:Prayer Service
END:VEVENT
BEGIN:VEVENT
DTSTART;TZID=UTC:20191211T200000
DTEND;TZID=UTC:20191211T210000
DTSTAMP:20260421T235837
CREATED:20180203T175504Z
LAST-MODIFIED:20190315T152045Z
UID:25825-1576094400-1576098000@gideon-church.org
SUMMARY:Wednessay Prayer Line
DESCRIPTION:Join us every Wednesday from anywhere over the phone to pray together and share the word of God\nPrayer Line Number: (712) 770-4010\nCode: 744881#\nPlayback Number: (712) 770-4019\nCode: 744881#
URL:https://gideon-church.org/event/thursday-prayer-line-2019-12-11/
CATEGORIES:Prayer Service
END:VEVENT
BEGIN:VEVENT
DTSTART;TZID=UTC:20191211T193000
DTEND;TZID=UTC:20191211T210000
DTSTAMP:20260421T235837
CREATED:20180203T174555Z
LAST-MODIFIED:20180203T174555Z
UID:25450-1576092600-1576098000@gideon-church.org
SUMMARY:Bible Study
DESCRIPTION:The Bible is God’s word to us. It is God’s way of revealing Himself through stories\, starting with creation to the birth of Christ to His call on our lives. One of the ways we’re instructed to grow in our walk with the Lord is to study His word. \nJoin us every Wednesday to study the bible together
URL:https://gideon-church.org/event/bible-study-2019-12-11/
LOCATION:Gideon Church\, 7315 New Hampshire Ave\,\, Takoma Park\, MD\, 20912\, United States
CATEGORIES:Bible Study
END:VEVENT
BEGIN:VEVENT
DTSTART;TZID=UTC:20191208T130000
DTEND;TZID=UTC:20191208T150000
DTSTAMP:20260421T235837
CREATED:20180203T172026Z
LAST-MODIFIED:20190315T153718Z
UID:26015-1575810000-1575817200@gideon-church.org
SUMMARY:Sunday Service
DESCRIPTION:Our Sunday morning worship is one of the best things we do here at Gideon Church. Feel free to join us at any of our services. \nJoin us every Sunday @ 1:00pm\n\n1:00pm – 1:20pm Welcome and prayer of exhortation\n1:20pm – 1:48pm Praising and worship\n1:48pm – 2:10pm Sermon\n2:10pm – 2:15pm Tithes and offering\n2:15pm Welcome new members\n2:50pm Announce\n2:55pm closing prayer\n3:00pm Blessing from Pastor Faustin
URL:https://gideon-church.org/event/sunday-service-2019-12-08/
LOCATION:Gideon Church\, 7315 New Hampshire Ave\,\, Takoma Park\, MD\, 20912\, United States
CATEGORIES:Service
END:VEVENT
BEGIN:VEVENT
DTSTART;TZID=UTC:20191206T193000
DTEND;TZID=UTC:20191206T210000
DTSTAMP:20260421T235837
CREATED:20180203T180254Z
LAST-MODIFIED:20180203T180254Z
UID:25560-1575660600-1575666000@gideon-church.org
SUMMARY:Friday Prayer Meeting
DESCRIPTION:Join us every Friday for prayers and to share the word of God together\n“Ask and it will be given to you; seek and you shall find; knock and the door will be opened to you. For everyone who asks receives; he who seeks finds; and to him who knocks\, the door will be opened.” Matthew 7:7\,8
URL:https://gideon-church.org/event/friday-prayer-meeting-2019-12-06/
LOCATION:Gideon Church\, 7315 New Hampshire Ave\,\, Takoma Park\, MD\, 20912\, United States
CATEGORIES:Prayer Service
END:VEVENT
BEGIN:VEVENT
DTSTART;TZID=UTC:20191204T200000
DTEND;TZID=UTC:20191204T210000
DTSTAMP:20260421T235837
CREATED:20180203T175504Z
LAST-MODIFIED:20190315T152044Z
UID:25824-1575489600-1575493200@gideon-church.org
SUMMARY:Wednessay Prayer Line
DESCRIPTION:Join us every Wednesday from anywhere over the phone to pray together and share the word of God\nPrayer Line Number: (712) 770-4010\nCode: 744881#\nPlayback Number: (712) 770-4019\nCode: 744881#
URL:https://gideon-church.org/event/thursday-prayer-line-2019-12-04/
CATEGORIES:Prayer Service
END:VEVENT
BEGIN:VEVENT
DTSTART;TZID=UTC:20191204T193000
DTEND;TZID=UTC:20191204T210000
DTSTAMP:20260421T235837
CREATED:20180203T174555Z
LAST-MODIFIED:20180203T174555Z
UID:25449-1575487800-1575493200@gideon-church.org
SUMMARY:Bible Study
DESCRIPTION:The Bible is God’s word to us. It is God’s way of revealing Himself through stories\, starting with creation to the birth of Christ to His call on our lives. One of the ways we’re instructed to grow in our walk with the Lord is to study His word. \nJoin us every Wednesday to study the bible together
URL:https://gideon-church.org/event/bible-study-2019-12-04/
LOCATION:Gideon Church\, 7315 New Hampshire Ave\,\, Takoma Park\, MD\, 20912\, United States
CATEGORIES:Bible Study
END:VEVENT
BEGIN:VEVENT
DTSTART;TZID=UTC:20191201T130000
DTEND;TZID=UTC:20191201T150000
DTSTAMP:20260421T235837
CREATED:20180203T172026Z
LAST-MODIFIED:20190315T153717Z
UID:26014-1575205200-1575212400@gideon-church.org
SUMMARY:Sunday Service
DESCRIPTION:Our Sunday morning worship is one of the best things we do here at Gideon Church. Feel free to join us at any of our services. \nJoin us every Sunday @ 1:00pm\n\n1:00pm – 1:20pm Welcome and prayer of exhortation\n1:20pm – 1:48pm Praising and worship\n1:48pm – 2:10pm Sermon\n2:10pm – 2:15pm Tithes and offering\n2:15pm Welcome new members\n2:50pm Announce\n2:55pm closing prayer\n3:00pm Blessing from Pastor Faustin
URL:https://gideon-church.org/event/sunday-service-2019-12-01/
LOCATION:Gideon Church\, 7315 New Hampshire Ave\,\, Takoma Park\, MD\, 20912\, United States
CATEGORIES:Service
END:VEVENT
BEGIN:VEVENT
DTSTART;TZID=UTC:20191129T193000
DTEND;TZID=UTC:20191129T210000
DTSTAMP:20260421T235837
CREATED:20180203T180254Z
LAST-MODIFIED:20180203T180254Z
UID:25559-1575055800-1575061200@gideon-church.org
SUMMARY:Friday Prayer Meeting
DESCRIPTION:Join us every Friday for prayers and to share the word of God together\n“Ask and it will be given to you; seek and you shall find; knock and the door will be opened to you. For everyone who asks receives; he who seeks finds; and to him who knocks\, the door will be opened.” Matthew 7:7\,8
URL:https://gideon-church.org/event/friday-prayer-meeting-2019-11-29/
LOCATION:Gideon Church\, 7315 New Hampshire Ave\,\, Takoma Park\, MD\, 20912\, United States
CATEGORIES:Prayer Service
END:VEVENT
BEGIN:VEVENT
DTSTART;TZID=UTC:20191127T200000
DTEND;TZID=UTC:20191127T210000
DTSTAMP:20260421T235837
CREATED:20180203T175504Z
LAST-MODIFIED:20190315T152044Z
UID:25823-1574884800-1574888400@gideon-church.org
SUMMARY:Wednessay Prayer Line
DESCRIPTION:Join us every Wednesday from anywhere over the phone to pray together and share the word of God\nPrayer Line Number: (712) 770-4010\nCode: 744881#\nPlayback Number: (712) 770-4019\nCode: 744881#
URL:https://gideon-church.org/event/thursday-prayer-line-2019-11-27/
CATEGORIES:Prayer Service
END:VEVENT
BEGIN:VEVENT
DTSTART;TZID=UTC:20191127T193000
DTEND;TZID=UTC:20191127T210000
DTSTAMP:20260421T235837
CREATED:20180203T174555Z
LAST-MODIFIED:20180203T174555Z
UID:25448-1574883000-1574888400@gideon-church.org
SUMMARY:Bible Study
DESCRIPTION:The Bible is God’s word to us. It is God’s way of revealing Himself through stories\, starting with creation to the birth of Christ to His call on our lives. One of the ways we’re instructed to grow in our walk with the Lord is to study His word. \nJoin us every Wednesday to study the bible together
URL:https://gideon-church.org/event/bible-study-2019-11-27/
LOCATION:Gideon Church\, 7315 New Hampshire Ave\,\, Takoma Park\, MD\, 20912\, United States
CATEGORIES:Bible Study
END:VEVENT
BEGIN:VEVENT
DTSTART;TZID=UTC:20191124T130000
DTEND;TZID=UTC:20191124T150000
DTSTAMP:20260421T235837
CREATED:20180203T172026Z
LAST-MODIFIED:20190315T153717Z
UID:26013-1574600400-1574607600@gideon-church.org
SUMMARY:Sunday Service
DESCRIPTION:Our Sunday morning worship is one of the best things we do here at Gideon Church. Feel free to join us at any of our services. \nJoin us every Sunday @ 1:00pm\n\n1:00pm – 1:20pm Welcome and prayer of exhortation\n1:20pm – 1:48pm Praising and worship\n1:48pm – 2:10pm Sermon\n2:10pm – 2:15pm Tithes and offering\n2:15pm Welcome new members\n2:50pm Announce\n2:55pm closing prayer\n3:00pm Blessing from Pastor Faustin
URL:https://gideon-church.org/event/sunday-service-2019-11-24/
LOCATION:Gideon Church\, 7315 New Hampshire Ave\,\, Takoma Park\, MD\, 20912\, United States
CATEGORIES:Service
END:VEVENT
BEGIN:VEVENT
DTSTART;TZID=UTC:20191122T193000
DTEND;TZID=UTC:20191122T210000
DTSTAMP:20260421T235837
CREATED:20180203T180254Z
LAST-MODIFIED:20180203T180254Z
UID:25558-1574451000-1574456400@gideon-church.org
SUMMARY:Friday Prayer Meeting
DESCRIPTION:Join us every Friday for prayers and to share the word of God together\n“Ask and it will be given to you; seek and you shall find; knock and the door will be opened to you. For everyone who asks receives; he who seeks finds; and to him who knocks\, the door will be opened.” Matthew 7:7\,8
URL:https://gideon-church.org/event/friday-prayer-meeting-2019-11-22/
LOCATION:Gideon Church\, 7315 New Hampshire Ave\,\, Takoma Park\, MD\, 20912\, United States
CATEGORIES:Prayer Service
END:VEVENT
BEGIN:VEVENT
DTSTART;TZID=UTC:20191120T200000
DTEND;TZID=UTC:20191120T210000
DTSTAMP:20260421T235837
CREATED:20180203T175504Z
LAST-MODIFIED:20190315T152044Z
UID:25822-1574280000-1574283600@gideon-church.org
SUMMARY:Wednessay Prayer Line
DESCRIPTION:Join us every Wednesday from anywhere over the phone to pray together and share the word of God\nPrayer Line Number: (712) 770-4010\nCode: 744881#\nPlayback Number: (712) 770-4019\nCode: 744881#
URL:https://gideon-church.org/event/thursday-prayer-line-2019-11-20/
CATEGORIES:Prayer Service
END:VEVENT
END:VCALENDAR