BEGIN:VCALENDAR
VERSION:2.0
PRODID:-//Gideon Church - ECPv6.15.16//NONSGML v1.0//EN
CALSCALE:GREGORIAN
METHOD:PUBLISH
X-ORIGINAL-URL:https://gideon-church.org
X-WR-CALDESC:Events for Gideon Church
REFRESH-INTERVAL;VALUE=DURATION:PT1H
X-Robots-Tag:noindex
X-PUBLISHED-TTL:PT1H
BEGIN:VTIMEZONE
TZID:UTC
BEGIN:STANDARD
TZOFFSETFROM:+0000
TZOFFSETTO:+0000
TZNAME:UTC
DTSTART:20180101T000000
END:STANDARD
END:VTIMEZONE
BEGIN:VEVENT
DTSTART;TZID=UTC:20190515T200000
DTEND;TZID=UTC:20190515T210000
DTSTAMP:20260422T215959
CREATED:20180203T175504Z
LAST-MODIFIED:20190315T152032Z
UID:25795-1557950400-1557954000@gideon-church.org
SUMMARY:Wednessay Prayer Line
DESCRIPTION:Join us every Wednesday from anywhere over the phone to pray together and share the word of God\nPrayer Line Number: (712) 770-4010\nCode: 744881#\nPlayback Number: (712) 770-4019\nCode: 744881#
URL:https://gideon-church.org/event/thursday-prayer-line-2019-05-15/
LOCATION:MD
CATEGORIES:Prayer Service
END:VEVENT
BEGIN:VEVENT
DTSTART;TZID=UTC:20190515T193000
DTEND;TZID=UTC:20190515T210000
DTSTAMP:20260422T215959
CREATED:20180203T174555Z
LAST-MODIFIED:20180203T174555Z
UID:25420-1557948600-1557954000@gideon-church.org
SUMMARY:Bible Study
DESCRIPTION:The Bible is God’s word to us. It is God’s way of revealing Himself through stories\, starting with creation to the birth of Christ to His call on our lives. One of the ways we’re instructed to grow in our walk with the Lord is to study His word. \nJoin us every Wednesday to study the bible together
URL:https://gideon-church.org/event/bible-study-2019-05-15/
LOCATION:Gideon Church\, 7315 New Hampshire Ave\,\, Takoma Park\, MD\, 20912\, United States
CATEGORIES:Bible Study
END:VEVENT
BEGIN:VEVENT
DTSTART;TZID=UTC:20190512T130000
DTEND;TZID=UTC:20190512T150000
DTSTAMP:20260422T215959
CREATED:20180203T172026Z
LAST-MODIFIED:20190315T153707Z
UID:25985-1557666000-1557673200@gideon-church.org
SUMMARY:Sunday Service
DESCRIPTION:Our Sunday morning worship is one of the best things we do here at Gideon Church. Feel free to join us at any of our services. \nJoin us every Sunday @ 1:00pm\n\n1:00pm – 1:20pm Welcome and prayer of exhortation\n1:20pm – 1:48pm Praising and worship\n1:48pm – 2:10pm Sermon\n2:10pm – 2:15pm Tithes and offering\n2:15pm Welcome new members\n2:50pm Announce\n2:55pm closing prayer\n3:00pm Blessing from Pastor Faustin
URL:https://gideon-church.org/event/sunday-service-2019-05-12/
LOCATION:Gideon Church\, 7315 New Hampshire Ave\,\, Takoma Park\, MD\, 20912\, United States
CATEGORIES:Service
END:VEVENT
BEGIN:VEVENT
DTSTART;TZID=UTC:20190510T193000
DTEND;TZID=UTC:20190510T210000
DTSTAMP:20260422T215959
CREATED:20180203T180254Z
LAST-MODIFIED:20180203T180254Z
UID:25530-1557516600-1557522000@gideon-church.org
SUMMARY:Friday Prayer Meeting
DESCRIPTION:Join us every Friday for prayers and to share the word of God together\n“Ask and it will be given to you; seek and you shall find; knock and the door will be opened to you. For everyone who asks receives; he who seeks finds; and to him who knocks\, the door will be opened.” Matthew 7:7\,8
URL:https://gideon-church.org/event/friday-prayer-meeting-2019-05-10/
LOCATION:Gideon Church\, 7315 New Hampshire Ave\,\, Takoma Park\, MD\, 20912\, United States
CATEGORIES:Prayer Service
END:VEVENT
BEGIN:VEVENT
DTSTART;TZID=UTC:20190508T200000
DTEND;TZID=UTC:20190508T210000
DTSTAMP:20260422T215959
CREATED:20180203T175504Z
LAST-MODIFIED:20190315T152031Z
UID:25794-1557345600-1557349200@gideon-church.org
SUMMARY:Wednessay Prayer Line
DESCRIPTION:Join us every Wednesday from anywhere over the phone to pray together and share the word of God\nPrayer Line Number: (712) 770-4010\nCode: 744881#\nPlayback Number: (712) 770-4019\nCode: 744881#
URL:https://gideon-church.org/event/thursday-prayer-line-2019-05-08/
LOCATION:MD
CATEGORIES:Prayer Service
END:VEVENT
BEGIN:VEVENT
DTSTART;TZID=UTC:20190508T193000
DTEND;TZID=UTC:20190508T210000
DTSTAMP:20260422T215959
CREATED:20180203T174555Z
LAST-MODIFIED:20180203T174555Z
UID:25419-1557343800-1557349200@gideon-church.org
SUMMARY:Bible Study
DESCRIPTION:The Bible is God’s word to us. It is God’s way of revealing Himself through stories\, starting with creation to the birth of Christ to His call on our lives. One of the ways we’re instructed to grow in our walk with the Lord is to study His word. \nJoin us every Wednesday to study the bible together
URL:https://gideon-church.org/event/bible-study-2019-05-08/
LOCATION:Gideon Church\, 7315 New Hampshire Ave\,\, Takoma Park\, MD\, 20912\, United States
CATEGORIES:Bible Study
END:VEVENT
BEGIN:VEVENT
DTSTART;TZID=UTC:20190505T130000
DTEND;TZID=UTC:20190505T150000
DTSTAMP:20260422T215959
CREATED:20180203T172026Z
LAST-MODIFIED:20190315T153706Z
UID:25984-1557061200-1557068400@gideon-church.org
SUMMARY:Sunday Service
DESCRIPTION:Our Sunday morning worship is one of the best things we do here at Gideon Church. Feel free to join us at any of our services. \nJoin us every Sunday @ 1:00pm\n\n1:00pm – 1:20pm Welcome and prayer of exhortation\n1:20pm – 1:48pm Praising and worship\n1:48pm – 2:10pm Sermon\n2:10pm – 2:15pm Tithes and offering\n2:15pm Welcome new members\n2:50pm Announce\n2:55pm closing prayer\n3:00pm Blessing from Pastor Faustin
URL:https://gideon-church.org/event/sunday-service-2019-05-05/
LOCATION:Gideon Church\, 7315 New Hampshire Ave\,\, Takoma Park\, MD\, 20912\, United States
CATEGORIES:Service
END:VEVENT
BEGIN:VEVENT
DTSTART;TZID=UTC:20190503T193000
DTEND;TZID=UTC:20190503T210000
DTSTAMP:20260422T215959
CREATED:20180203T180254Z
LAST-MODIFIED:20180203T180254Z
UID:25529-1556911800-1556917200@gideon-church.org
SUMMARY:Friday Prayer Meeting
DESCRIPTION:Join us every Friday for prayers and to share the word of God together\n“Ask and it will be given to you; seek and you shall find; knock and the door will be opened to you. For everyone who asks receives; he who seeks finds; and to him who knocks\, the door will be opened.” Matthew 7:7\,8
URL:https://gideon-church.org/event/friday-prayer-meeting-2019-05-03/
LOCATION:Gideon Church\, 7315 New Hampshire Ave\,\, Takoma Park\, MD\, 20912\, United States
CATEGORIES:Prayer Service
END:VEVENT
BEGIN:VEVENT
DTSTART;TZID=UTC:20190501T200000
DTEND;TZID=UTC:20190501T210000
DTSTAMP:20260422T215959
CREATED:20180203T175504Z
LAST-MODIFIED:20190315T152031Z
UID:25793-1556740800-1556744400@gideon-church.org
SUMMARY:Wednessay Prayer Line
DESCRIPTION:Join us every Wednesday from anywhere over the phone to pray together and share the word of God\nPrayer Line Number: (712) 770-4010\nCode: 744881#\nPlayback Number: (712) 770-4019\nCode: 744881#
URL:https://gideon-church.org/event/thursday-prayer-line-2019-05-01/
LOCATION:MD
CATEGORIES:Prayer Service
END:VEVENT
BEGIN:VEVENT
DTSTART;TZID=UTC:20190501T193000
DTEND;TZID=UTC:20190501T210000
DTSTAMP:20260422T215959
CREATED:20180203T174555Z
LAST-MODIFIED:20180203T174555Z
UID:25418-1556739000-1556744400@gideon-church.org
SUMMARY:Bible Study
DESCRIPTION:The Bible is God’s word to us. It is God’s way of revealing Himself through stories\, starting with creation to the birth of Christ to His call on our lives. One of the ways we’re instructed to grow in our walk with the Lord is to study His word. \nJoin us every Wednesday to study the bible together
URL:https://gideon-church.org/event/bible-study-2019-05-01/
LOCATION:Gideon Church\, 7315 New Hampshire Ave\,\, Takoma Park\, MD\, 20912\, United States
CATEGORIES:Bible Study
END:VEVENT
BEGIN:VEVENT
DTSTART;TZID=UTC:20190428T130000
DTEND;TZID=UTC:20190428T150000
DTSTAMP:20260422T215959
CREATED:20190315T151159Z
LAST-MODIFIED:20190315T151159Z
UID:26147-1556456400-1556463600@gideon-church.org
SUMMARY:3-Day Conference
DESCRIPTION:Come and worship with us. 3-day conference starting on April 26th – April 28th
URL:https://gideon-church.org/event/3-day-conference-2/
LOCATION:MD
END:VEVENT
BEGIN:VEVENT
DTSTART;TZID=UTC:20190428T130000
DTEND;TZID=UTC:20190428T150000
DTSTAMP:20260422T215959
CREATED:20180203T172026Z
LAST-MODIFIED:20190315T153706Z
UID:25983-1556456400-1556463600@gideon-church.org
SUMMARY:Sunday Service
DESCRIPTION:Our Sunday morning worship is one of the best things we do here at Gideon Church. Feel free to join us at any of our services. \nJoin us every Sunday @ 1:00pm\n\n1:00pm – 1:20pm Welcome and prayer of exhortation\n1:20pm – 1:48pm Praising and worship\n1:48pm – 2:10pm Sermon\n2:10pm – 2:15pm Tithes and offering\n2:15pm Welcome new members\n2:50pm Announce\n2:55pm closing prayer\n3:00pm Blessing from Pastor Faustin
URL:https://gideon-church.org/event/sunday-service-2019-04-28/
LOCATION:Gideon Church\, 7315 New Hampshire Ave\,\, Takoma Park\, MD\, 20912\, United States
CATEGORIES:Service
END:VEVENT
BEGIN:VEVENT
DTSTART;TZID=UTC:20190426T193000
DTEND;TZID=UTC:20190426T210000
DTSTAMP:20260422T215959
CREATED:20180203T180254Z
LAST-MODIFIED:20180203T180254Z
UID:25528-1556307000-1556312400@gideon-church.org
SUMMARY:Friday Prayer Meeting
DESCRIPTION:Join us every Friday for prayers and to share the word of God together\n“Ask and it will be given to you; seek and you shall find; knock and the door will be opened to you. For everyone who asks receives; he who seeks finds; and to him who knocks\, the door will be opened.” Matthew 7:7\,8
URL:https://gideon-church.org/event/friday-prayer-meeting-2019-04-26/
LOCATION:Gideon Church\, 7315 New Hampshire Ave\,\, Takoma Park\, MD\, 20912\, United States
CATEGORIES:Prayer Service
END:VEVENT
BEGIN:VEVENT
DTSTART;TZID=UTC:20190426T180000
DTEND;TZID=UTC:20190427T210000
DTSTAMP:20260422T215959
CREATED:20190315T151019Z
LAST-MODIFIED:20190315T151019Z
UID:26145-1556301600-1556398800@gideon-church.org
SUMMARY:3-Day Conference
DESCRIPTION:Come and worship with us. 3-day conference starting on April 26th – April 28th
URL:https://gideon-church.org/event/3-day-conference/
LOCATION:MD
END:VEVENT
BEGIN:VEVENT
DTSTART;TZID=UTC:20190424T200000
DTEND;TZID=UTC:20190424T210000
DTSTAMP:20260422T215959
CREATED:20180203T175504Z
LAST-MODIFIED:20190315T152030Z
UID:25792-1556136000-1556139600@gideon-church.org
SUMMARY:Wednessay Prayer Line
DESCRIPTION:Join us every Wednesday from anywhere over the phone to pray together and share the word of God\nPrayer Line Number: (712) 770-4010\nCode: 744881#\nPlayback Number: (712) 770-4019\nCode: 744881#
URL:https://gideon-church.org/event/thursday-prayer-line-2019-04-24/
LOCATION:MD
CATEGORIES:Prayer Service
END:VEVENT
BEGIN:VEVENT
DTSTART;TZID=UTC:20190424T193000
DTEND;TZID=UTC:20190424T210000
DTSTAMP:20260422T215959
CREATED:20180203T174555Z
LAST-MODIFIED:20180203T174555Z
UID:25417-1556134200-1556139600@gideon-church.org
SUMMARY:Bible Study
DESCRIPTION:The Bible is God’s word to us. It is God’s way of revealing Himself through stories\, starting with creation to the birth of Christ to His call on our lives. One of the ways we’re instructed to grow in our walk with the Lord is to study His word. \nJoin us every Wednesday to study the bible together
URL:https://gideon-church.org/event/bible-study-2019-04-24/
LOCATION:Gideon Church\, 7315 New Hampshire Ave\,\, Takoma Park\, MD\, 20912\, United States
CATEGORIES:Bible Study
END:VEVENT
BEGIN:VEVENT
DTSTART;TZID=UTC:20190421T130000
DTEND;TZID=UTC:20190421T150000
DTSTAMP:20260422T215959
CREATED:20180203T172026Z
LAST-MODIFIED:20190315T153706Z
UID:25982-1555851600-1555858800@gideon-church.org
SUMMARY:Sunday Service
DESCRIPTION:Our Sunday morning worship is one of the best things we do here at Gideon Church. Feel free to join us at any of our services. \nJoin us every Sunday @ 1:00pm\n\n1:00pm – 1:20pm Welcome and prayer of exhortation\n1:20pm – 1:48pm Praising and worship\n1:48pm – 2:10pm Sermon\n2:10pm – 2:15pm Tithes and offering\n2:15pm Welcome new members\n2:50pm Announce\n2:55pm closing prayer\n3:00pm Blessing from Pastor Faustin
URL:https://gideon-church.org/event/sunday-service-2019-04-21/
LOCATION:Gideon Church\, 7315 New Hampshire Ave\,\, Takoma Park\, MD\, 20912\, United States
CATEGORIES:Service
END:VEVENT
BEGIN:VEVENT
DTSTART;TZID=UTC:20190419T193000
DTEND;TZID=UTC:20190419T210000
DTSTAMP:20260422T215959
CREATED:20180203T180254Z
LAST-MODIFIED:20180203T180254Z
UID:25527-1555702200-1555707600@gideon-church.org
SUMMARY:Friday Prayer Meeting
DESCRIPTION:Join us every Friday for prayers and to share the word of God together\n“Ask and it will be given to you; seek and you shall find; knock and the door will be opened to you. For everyone who asks receives; he who seeks finds; and to him who knocks\, the door will be opened.” Matthew 7:7\,8
URL:https://gideon-church.org/event/friday-prayer-meeting-2019-04-19/
LOCATION:Gideon Church\, 7315 New Hampshire Ave\,\, Takoma Park\, MD\, 20912\, United States
CATEGORIES:Prayer Service
END:VEVENT
BEGIN:VEVENT
DTSTART;TZID=UTC:20190417T200000
DTEND;TZID=UTC:20190417T210000
DTSTAMP:20260422T215959
CREATED:20180203T175504Z
LAST-MODIFIED:20190315T152030Z
UID:25791-1555531200-1555534800@gideon-church.org
SUMMARY:Wednessay Prayer Line
DESCRIPTION:Join us every Wednesday from anywhere over the phone to pray together and share the word of God\nPrayer Line Number: (712) 770-4010\nCode: 744881#\nPlayback Number: (712) 770-4019\nCode: 744881#
URL:https://gideon-church.org/event/thursday-prayer-line-2019-04-17/
LOCATION:MD
CATEGORIES:Prayer Service
END:VEVENT
BEGIN:VEVENT
DTSTART;TZID=UTC:20190417T193000
DTEND;TZID=UTC:20190417T210000
DTSTAMP:20260422T215959
CREATED:20180203T174555Z
LAST-MODIFIED:20180203T174555Z
UID:25416-1555529400-1555534800@gideon-church.org
SUMMARY:Bible Study
DESCRIPTION:The Bible is God’s word to us. It is God’s way of revealing Himself through stories\, starting with creation to the birth of Christ to His call on our lives. One of the ways we’re instructed to grow in our walk with the Lord is to study His word. \nJoin us every Wednesday to study the bible together
URL:https://gideon-church.org/event/bible-study-2019-04-17/
LOCATION:Gideon Church\, 7315 New Hampshire Ave\,\, Takoma Park\, MD\, 20912\, United States
CATEGORIES:Bible Study
END:VEVENT
BEGIN:VEVENT
DTSTART;TZID=UTC:20190414T130000
DTEND;TZID=UTC:20190414T150000
DTSTAMP:20260422T215959
CREATED:20180203T172026Z
LAST-MODIFIED:20190315T153706Z
UID:25981-1555246800-1555254000@gideon-church.org
SUMMARY:Sunday Service
DESCRIPTION:Our Sunday morning worship is one of the best things we do here at Gideon Church. Feel free to join us at any of our services. \nJoin us every Sunday @ 1:00pm\n\n1:00pm – 1:20pm Welcome and prayer of exhortation\n1:20pm – 1:48pm Praising and worship\n1:48pm – 2:10pm Sermon\n2:10pm – 2:15pm Tithes and offering\n2:15pm Welcome new members\n2:50pm Announce\n2:55pm closing prayer\n3:00pm Blessing from Pastor Faustin
URL:https://gideon-church.org/event/sunday-service-2019-04-14/
LOCATION:Gideon Church\, 7315 New Hampshire Ave\,\, Takoma Park\, MD\, 20912\, United States
CATEGORIES:Service
END:VEVENT
BEGIN:VEVENT
DTSTART;TZID=UTC:20190412T193000
DTEND;TZID=UTC:20190412T210000
DTSTAMP:20260422T215959
CREATED:20180203T180254Z
LAST-MODIFIED:20180203T180254Z
UID:25526-1555097400-1555102800@gideon-church.org
SUMMARY:Friday Prayer Meeting
DESCRIPTION:Join us every Friday for prayers and to share the word of God together\n“Ask and it will be given to you; seek and you shall find; knock and the door will be opened to you. For everyone who asks receives; he who seeks finds; and to him who knocks\, the door will be opened.” Matthew 7:7\,8
URL:https://gideon-church.org/event/friday-prayer-meeting-2019-04-12/
LOCATION:Gideon Church\, 7315 New Hampshire Ave\,\, Takoma Park\, MD\, 20912\, United States
CATEGORIES:Prayer Service
END:VEVENT
BEGIN:VEVENT
DTSTART;TZID=UTC:20190410T200000
DTEND;TZID=UTC:20190410T210000
DTSTAMP:20260422T215959
CREATED:20180203T175504Z
LAST-MODIFIED:20190315T152030Z
UID:25790-1554926400-1554930000@gideon-church.org
SUMMARY:Wednessay Prayer Line
DESCRIPTION:Join us every Wednesday from anywhere over the phone to pray together and share the word of God\nPrayer Line Number: (712) 770-4010\nCode: 744881#\nPlayback Number: (712) 770-4019\nCode: 744881#
URL:https://gideon-church.org/event/thursday-prayer-line-2019-04-10/
LOCATION:MD
CATEGORIES:Prayer Service
END:VEVENT
BEGIN:VEVENT
DTSTART;TZID=UTC:20190410T193000
DTEND;TZID=UTC:20190410T210000
DTSTAMP:20260422T215959
CREATED:20180203T174555Z
LAST-MODIFIED:20180203T174555Z
UID:25415-1554924600-1554930000@gideon-church.org
SUMMARY:Bible Study
DESCRIPTION:The Bible is God’s word to us. It is God’s way of revealing Himself through stories\, starting with creation to the birth of Christ to His call on our lives. One of the ways we’re instructed to grow in our walk with the Lord is to study His word. \nJoin us every Wednesday to study the bible together
URL:https://gideon-church.org/event/bible-study-2019-04-10/
LOCATION:Gideon Church\, 7315 New Hampshire Ave\,\, Takoma Park\, MD\, 20912\, United States
CATEGORIES:Bible Study
END:VEVENT
BEGIN:VEVENT
DTSTART;TZID=UTC:20190407T130000
DTEND;TZID=UTC:20190407T150000
DTSTAMP:20260422T215959
CREATED:20180203T172026Z
LAST-MODIFIED:20190315T153706Z
UID:25980-1554642000-1554649200@gideon-church.org
SUMMARY:Sunday Service
DESCRIPTION:Our Sunday morning worship is one of the best things we do here at Gideon Church. Feel free to join us at any of our services. \nJoin us every Sunday @ 1:00pm\n\n1:00pm – 1:20pm Welcome and prayer of exhortation\n1:20pm – 1:48pm Praising and worship\n1:48pm – 2:10pm Sermon\n2:10pm – 2:15pm Tithes and offering\n2:15pm Welcome new members\n2:50pm Announce\n2:55pm closing prayer\n3:00pm Blessing from Pastor Faustin
URL:https://gideon-church.org/event/sunday-service-2019-04-07/
LOCATION:Gideon Church\, 7315 New Hampshire Ave\,\, Takoma Park\, MD\, 20912\, United States
CATEGORIES:Service
END:VEVENT
BEGIN:VEVENT
DTSTART;TZID=UTC:20190407T010000
DTEND;TZID=UTC:20190407T150000
DTSTAMP:20260422T215959
CREATED:20190315T150555Z
LAST-MODIFIED:20190315T150555Z
UID:26143-1554598800-1554649200@gideon-church.org
SUMMARY:Church Anniversary
DESCRIPTION:Celebrate with us on April 7th 2019
URL:https://gideon-church.org/event/church-anniversary/
LOCATION:MD
CATEGORIES:Conference
END:VEVENT
BEGIN:VEVENT
DTSTART;TZID=UTC:20190405T193000
DTEND;TZID=UTC:20190405T210000
DTSTAMP:20260422T215959
CREATED:20180203T180254Z
LAST-MODIFIED:20180203T180254Z
UID:25525-1554492600-1554498000@gideon-church.org
SUMMARY:Friday Prayer Meeting
DESCRIPTION:Join us every Friday for prayers and to share the word of God together\n“Ask and it will be given to you; seek and you shall find; knock and the door will be opened to you. For everyone who asks receives; he who seeks finds; and to him who knocks\, the door will be opened.” Matthew 7:7\,8
URL:https://gideon-church.org/event/friday-prayer-meeting-2019-04-05/
LOCATION:Gideon Church\, 7315 New Hampshire Ave\,\, Takoma Park\, MD\, 20912\, United States
CATEGORIES:Prayer Service
END:VEVENT
BEGIN:VEVENT
DTSTART;TZID=UTC:20190403T200000
DTEND;TZID=UTC:20190403T210000
DTSTAMP:20260422T215959
CREATED:20180203T175504Z
LAST-MODIFIED:20190315T152028Z
UID:25789-1554321600-1554325200@gideon-church.org
SUMMARY:Wednessay Prayer Line
DESCRIPTION:Join us every Wednesday from anywhere over the phone to pray together and share the word of God\nPrayer Line Number: (712) 770-4010\nCode: 744881#\nPlayback Number: (712) 770-4019\nCode: 744881#
URL:https://gideon-church.org/event/thursday-prayer-line-2019-04-03/
LOCATION:MD
CATEGORIES:Prayer Service
END:VEVENT
BEGIN:VEVENT
DTSTART;TZID=UTC:20190403T193000
DTEND;TZID=UTC:20190403T210000
DTSTAMP:20260422T215959
CREATED:20180203T174555Z
LAST-MODIFIED:20180203T174555Z
UID:25414-1554319800-1554325200@gideon-church.org
SUMMARY:Bible Study
DESCRIPTION:The Bible is God’s word to us. It is God’s way of revealing Himself through stories\, starting with creation to the birth of Christ to His call on our lives. One of the ways we’re instructed to grow in our walk with the Lord is to study His word. \nJoin us every Wednesday to study the bible together
URL:https://gideon-church.org/event/bible-study-2019-04-03/
LOCATION:Gideon Church\, 7315 New Hampshire Ave\,\, Takoma Park\, MD\, 20912\, United States
CATEGORIES:Bible Study
END:VEVENT
BEGIN:VEVENT
DTSTART;TZID=UTC:20190331T130000
DTEND;TZID=UTC:20190331T150000
DTSTAMP:20260422T215959
CREATED:20180203T172026Z
LAST-MODIFIED:20190315T153705Z
UID:25979-1554037200-1554044400@gideon-church.org
SUMMARY:Sunday Service
DESCRIPTION:Our Sunday morning worship is one of the best things we do here at Gideon Church. Feel free to join us at any of our services. \nJoin us every Sunday @ 1:00pm\n\n1:00pm – 1:20pm Welcome and prayer of exhortation\n1:20pm – 1:48pm Praising and worship\n1:48pm – 2:10pm Sermon\n2:10pm – 2:15pm Tithes and offering\n2:15pm Welcome new members\n2:50pm Announce\n2:55pm closing prayer\n3:00pm Blessing from Pastor Faustin
URL:https://gideon-church.org/event/sunday-service-2019-03-31/
LOCATION:Gideon Church\, 7315 New Hampshire Ave\,\, Takoma Park\, MD\, 20912\, United States
CATEGORIES:Service
END:VEVENT
END:VCALENDAR