BEGIN:VCALENDAR
VERSION:2.0
PRODID:-//Gideon Church - ECPv6.15.16//NONSGML v1.0//EN
CALSCALE:GREGORIAN
METHOD:PUBLISH
X-ORIGINAL-URL:https://gideon-church.org
X-WR-CALDESC:Events for Gideon Church
REFRESH-INTERVAL;VALUE=DURATION:PT1H
X-Robots-Tag:noindex
X-PUBLISHED-TTL:PT1H
BEGIN:VTIMEZONE
TZID:UTC
BEGIN:STANDARD
TZOFFSETFROM:+0000
TZOFFSETTO:+0000
TZNAME:UTC
DTSTART:20170101T000000
END:STANDARD
END:VTIMEZONE
BEGIN:VEVENT
DTSTART;TZID=UTC:20181128T200000
DTEND;TZID=UTC:20181128T210000
DTSTAMP:20260425T132958
CREATED:20180203T175504Z
LAST-MODIFIED:20190315T152021Z
UID:25771-1543435200-1543438800@gideon-church.org
SUMMARY:Wednessay Prayer Line
DESCRIPTION:Join us every Wednesday from anywhere over the phone to pray together and share the word of God\nPrayer Line Number: (712) 770-4010\nCode: 744881#\nPlayback Number: (712) 770-4019\nCode: 744881#
URL:https://gideon-church.org/event/thursday-prayer-line-2018-11-28/
LOCATION:MD
CATEGORIES:Prayer Service
END:VEVENT
BEGIN:VEVENT
DTSTART;TZID=UTC:20181128T193000
DTEND;TZID=UTC:20181128T210000
DTSTAMP:20260425T132958
CREATED:20180203T174555Z
LAST-MODIFIED:20180203T174555Z
UID:25396-1543433400-1543438800@gideon-church.org
SUMMARY:Bible Study
DESCRIPTION:The Bible is God’s word to us. It is God’s way of revealing Himself through stories\, starting with creation to the birth of Christ to His call on our lives. One of the ways we’re instructed to grow in our walk with the Lord is to study His word. \nJoin us every Wednesday to study the bible together
URL:https://gideon-church.org/event/bible-study-2018-11-28/
LOCATION:Gideon Church\, 7315 New Hampshire Ave\,\, Takoma Park\, MD\, 20912\, United States
CATEGORIES:Bible Study
END:VEVENT
BEGIN:VEVENT
DTSTART;TZID=UTC:20181125T130000
DTEND;TZID=UTC:20181125T150000
DTSTAMP:20260425T132958
CREATED:20180203T172026Z
LAST-MODIFIED:20190315T153658Z
UID:25961-1543150800-1543158000@gideon-church.org
SUMMARY:Sunday Service
DESCRIPTION:Our Sunday morning worship is one of the best things we do here at Gideon Church. Feel free to join us at any of our services. \nJoin us every Sunday @ 1:00pm\n\n1:00pm – 1:20pm Welcome and prayer of exhortation\n1:20pm – 1:48pm Praising and worship\n1:48pm – 2:10pm Sermon\n2:10pm – 2:15pm Tithes and offering\n2:15pm Welcome new members\n2:50pm Announce\n2:55pm closing prayer\n3:00pm Blessing from Pastor Faustin
URL:https://gideon-church.org/event/sunday-service-2018-11-25/
LOCATION:Gideon Church\, 7315 New Hampshire Ave\,\, Takoma Park\, MD\, 20912\, United States
CATEGORIES:Service
END:VEVENT
BEGIN:VEVENT
DTSTART;TZID=UTC:20181123T193000
DTEND;TZID=UTC:20181123T210000
DTSTAMP:20260425T132958
CREATED:20180203T180254Z
LAST-MODIFIED:20180203T180254Z
UID:25506-1543001400-1543006800@gideon-church.org
SUMMARY:Friday Prayer Meeting
DESCRIPTION:Join us every Friday for prayers and to share the word of God together\n“Ask and it will be given to you; seek and you shall find; knock and the door will be opened to you. For everyone who asks receives; he who seeks finds; and to him who knocks\, the door will be opened.” Matthew 7:7\,8
URL:https://gideon-church.org/event/friday-prayer-meeting-2018-11-23/
LOCATION:Gideon Church\, 7315 New Hampshire Ave\,\, Takoma Park\, MD\, 20912\, United States
CATEGORIES:Prayer Service
END:VEVENT
BEGIN:VEVENT
DTSTART;TZID=UTC:20181121T200000
DTEND;TZID=UTC:20181121T210000
DTSTAMP:20260425T132958
CREATED:20180203T175504Z
LAST-MODIFIED:20190315T152021Z
UID:25770-1542830400-1542834000@gideon-church.org
SUMMARY:Wednessay Prayer Line
DESCRIPTION:Join us every Wednesday from anywhere over the phone to pray together and share the word of God\nPrayer Line Number: (712) 770-4010\nCode: 744881#\nPlayback Number: (712) 770-4019\nCode: 744881#
URL:https://gideon-church.org/event/thursday-prayer-line-2018-11-21/
LOCATION:MD
CATEGORIES:Prayer Service
END:VEVENT
BEGIN:VEVENT
DTSTART;TZID=UTC:20181121T193000
DTEND;TZID=UTC:20181121T210000
DTSTAMP:20260425T132958
CREATED:20180203T174555Z
LAST-MODIFIED:20180203T174555Z
UID:25395-1542828600-1542834000@gideon-church.org
SUMMARY:Bible Study
DESCRIPTION:The Bible is God’s word to us. It is God’s way of revealing Himself through stories\, starting with creation to the birth of Christ to His call on our lives. One of the ways we’re instructed to grow in our walk with the Lord is to study His word. \nJoin us every Wednesday to study the bible together
URL:https://gideon-church.org/event/bible-study-2018-11-21/
LOCATION:Gideon Church\, 7315 New Hampshire Ave\,\, Takoma Park\, MD\, 20912\, United States
CATEGORIES:Bible Study
END:VEVENT
BEGIN:VEVENT
DTSTART;TZID=UTC:20181118T130000
DTEND;TZID=UTC:20181118T150000
DTSTAMP:20260425T132958
CREATED:20180203T172026Z
LAST-MODIFIED:20190315T153658Z
UID:25960-1542546000-1542553200@gideon-church.org
SUMMARY:Sunday Service
DESCRIPTION:Our Sunday morning worship is one of the best things we do here at Gideon Church. Feel free to join us at any of our services. \nJoin us every Sunday @ 1:00pm\n\n1:00pm – 1:20pm Welcome and prayer of exhortation\n1:20pm – 1:48pm Praising and worship\n1:48pm – 2:10pm Sermon\n2:10pm – 2:15pm Tithes and offering\n2:15pm Welcome new members\n2:50pm Announce\n2:55pm closing prayer\n3:00pm Blessing from Pastor Faustin
URL:https://gideon-church.org/event/sunday-service-2018-11-18/
LOCATION:Gideon Church\, 7315 New Hampshire Ave\,\, Takoma Park\, MD\, 20912\, United States
CATEGORIES:Service
END:VEVENT
BEGIN:VEVENT
DTSTART;TZID=UTC:20181116T193000
DTEND;TZID=UTC:20181116T210000
DTSTAMP:20260425T132958
CREATED:20180203T180254Z
LAST-MODIFIED:20180203T180254Z
UID:25505-1542396600-1542402000@gideon-church.org
SUMMARY:Friday Prayer Meeting
DESCRIPTION:Join us every Friday for prayers and to share the word of God together\n“Ask and it will be given to you; seek and you shall find; knock and the door will be opened to you. For everyone who asks receives; he who seeks finds; and to him who knocks\, the door will be opened.” Matthew 7:7\,8
URL:https://gideon-church.org/event/friday-prayer-meeting-2018-11-16/
LOCATION:Gideon Church\, 7315 New Hampshire Ave\,\, Takoma Park\, MD\, 20912\, United States
CATEGORIES:Prayer Service
END:VEVENT
BEGIN:VEVENT
DTSTART;TZID=UTC:20181114T200000
DTEND;TZID=UTC:20181114T210000
DTSTAMP:20260425T132958
CREATED:20180203T175504Z
LAST-MODIFIED:20190315T152019Z
UID:25769-1542225600-1542229200@gideon-church.org
SUMMARY:Wednessay Prayer Line
DESCRIPTION:Join us every Wednesday from anywhere over the phone to pray together and share the word of God\nPrayer Line Number: (712) 770-4010\nCode: 744881#\nPlayback Number: (712) 770-4019\nCode: 744881#
URL:https://gideon-church.org/event/thursday-prayer-line-2018-11-14/
LOCATION:MD
CATEGORIES:Prayer Service
END:VEVENT
BEGIN:VEVENT
DTSTART;TZID=UTC:20181114T193000
DTEND;TZID=UTC:20181114T210000
DTSTAMP:20260425T132958
CREATED:20180203T174555Z
LAST-MODIFIED:20180203T174555Z
UID:25394-1542223800-1542229200@gideon-church.org
SUMMARY:Bible Study
DESCRIPTION:The Bible is God’s word to us. It is God’s way of revealing Himself through stories\, starting with creation to the birth of Christ to His call on our lives. One of the ways we’re instructed to grow in our walk with the Lord is to study His word. \nJoin us every Wednesday to study the bible together
URL:https://gideon-church.org/event/bible-study-2018-11-14/
LOCATION:Gideon Church\, 7315 New Hampshire Ave\,\, Takoma Park\, MD\, 20912\, United States
CATEGORIES:Bible Study
END:VEVENT
BEGIN:VEVENT
DTSTART;TZID=UTC:20181111T130000
DTEND;TZID=UTC:20181111T150000
DTSTAMP:20260425T132958
CREATED:20180203T172026Z
LAST-MODIFIED:20190315T153658Z
UID:25959-1541941200-1541948400@gideon-church.org
SUMMARY:Sunday Service
DESCRIPTION:Our Sunday morning worship is one of the best things we do here at Gideon Church. Feel free to join us at any of our services. \nJoin us every Sunday @ 1:00pm\n\n1:00pm – 1:20pm Welcome and prayer of exhortation\n1:20pm – 1:48pm Praising and worship\n1:48pm – 2:10pm Sermon\n2:10pm – 2:15pm Tithes and offering\n2:15pm Welcome new members\n2:50pm Announce\n2:55pm closing prayer\n3:00pm Blessing from Pastor Faustin
URL:https://gideon-church.org/event/sunday-service-2018-11-11/
LOCATION:Gideon Church\, 7315 New Hampshire Ave\,\, Takoma Park\, MD\, 20912\, United States
CATEGORIES:Service
END:VEVENT
BEGIN:VEVENT
DTSTART;TZID=UTC:20181109T193000
DTEND;TZID=UTC:20181109T210000
DTSTAMP:20260425T132958
CREATED:20180203T180254Z
LAST-MODIFIED:20180203T180254Z
UID:25504-1541791800-1541797200@gideon-church.org
SUMMARY:Friday Prayer Meeting
DESCRIPTION:Join us every Friday for prayers and to share the word of God together\n“Ask and it will be given to you; seek and you shall find; knock and the door will be opened to you. For everyone who asks receives; he who seeks finds; and to him who knocks\, the door will be opened.” Matthew 7:7\,8
URL:https://gideon-church.org/event/friday-prayer-meeting-2018-11-09/
LOCATION:Gideon Church\, 7315 New Hampshire Ave\,\, Takoma Park\, MD\, 20912\, United States
CATEGORIES:Prayer Service
END:VEVENT
BEGIN:VEVENT
DTSTART;TZID=UTC:20181107T200000
DTEND;TZID=UTC:20181107T210000
DTSTAMP:20260425T132958
CREATED:20180203T175504Z
LAST-MODIFIED:20190315T152018Z
UID:25768-1541620800-1541624400@gideon-church.org
SUMMARY:Wednessay Prayer Line
DESCRIPTION:Join us every Wednesday from anywhere over the phone to pray together and share the word of God\nPrayer Line Number: (712) 770-4010\nCode: 744881#\nPlayback Number: (712) 770-4019\nCode: 744881#
URL:https://gideon-church.org/event/thursday-prayer-line-2018-11-07/
LOCATION:MD
CATEGORIES:Prayer Service
END:VEVENT
BEGIN:VEVENT
DTSTART;TZID=UTC:20181107T193000
DTEND;TZID=UTC:20181107T210000
DTSTAMP:20260425T132958
CREATED:20180203T174555Z
LAST-MODIFIED:20180203T174555Z
UID:25393-1541619000-1541624400@gideon-church.org
SUMMARY:Bible Study
DESCRIPTION:The Bible is God’s word to us. It is God’s way of revealing Himself through stories\, starting with creation to the birth of Christ to His call on our lives. One of the ways we’re instructed to grow in our walk with the Lord is to study His word. \nJoin us every Wednesday to study the bible together
URL:https://gideon-church.org/event/bible-study-2018-11-07/
LOCATION:Gideon Church\, 7315 New Hampshire Ave\,\, Takoma Park\, MD\, 20912\, United States
CATEGORIES:Bible Study
END:VEVENT
BEGIN:VEVENT
DTSTART;TZID=UTC:20181104T130000
DTEND;TZID=UTC:20181104T150000
DTSTAMP:20260425T132958
CREATED:20180203T172026Z
LAST-MODIFIED:20190315T153657Z
UID:25958-1541336400-1541343600@gideon-church.org
SUMMARY:Sunday Service
DESCRIPTION:Our Sunday morning worship is one of the best things we do here at Gideon Church. Feel free to join us at any of our services. \nJoin us every Sunday @ 1:00pm\n\n1:00pm – 1:20pm Welcome and prayer of exhortation\n1:20pm – 1:48pm Praising and worship\n1:48pm – 2:10pm Sermon\n2:10pm – 2:15pm Tithes and offering\n2:15pm Welcome new members\n2:50pm Announce\n2:55pm closing prayer\n3:00pm Blessing from Pastor Faustin
URL:https://gideon-church.org/event/sunday-service-2018-11-04/
LOCATION:Gideon Church\, 7315 New Hampshire Ave\,\, Takoma Park\, MD\, 20912\, United States
CATEGORIES:Service
END:VEVENT
BEGIN:VEVENT
DTSTART;TZID=UTC:20181102T220000
DTEND;TZID=UTC:20181103T010000
DTSTAMP:20260425T132958
CREATED:20180203T192950Z
LAST-MODIFIED:20190301T172825Z
UID:25053-1541196000-1541206800@gideon-church.org
SUMMARY:Friday Overnight Prayer Meeting
DESCRIPTION:Join us every first Friday of every month for prayer\, praise and worship\nWith prayer being the genesis of this body\, we remain faithful to the call to being a house of prayer and maintain Friday night prayer meetings. \n“Ask and it will be given to you; seek and you shall find; knock and the door will be opened to you. For everyone who asks receives; he who seeks finds; and to him who knocks\, the door will be opened.” Matthew 7:7\,8
URL:https://gideon-church.org/event/friday-overnight-prayer-meeting-2018-11-02/
LOCATION:Gideon Church\, 7315 New Hampshire Ave\,\, Takoma Park\, MD\, 20912\, United States
CATEGORIES:Service
END:VEVENT
BEGIN:VEVENT
DTSTART;TZID=UTC:20181102T193000
DTEND;TZID=UTC:20181102T210000
DTSTAMP:20260425T132958
CREATED:20180203T180254Z
LAST-MODIFIED:20180203T180254Z
UID:25503-1541187000-1541192400@gideon-church.org
SUMMARY:Friday Prayer Meeting
DESCRIPTION:Join us every Friday for prayers and to share the word of God together\n“Ask and it will be given to you; seek and you shall find; knock and the door will be opened to you. For everyone who asks receives; he who seeks finds; and to him who knocks\, the door will be opened.” Matthew 7:7\,8
URL:https://gideon-church.org/event/friday-prayer-meeting-2018-11-02/
LOCATION:Gideon Church\, 7315 New Hampshire Ave\,\, Takoma Park\, MD\, 20912\, United States
CATEGORIES:Prayer Service
END:VEVENT
BEGIN:VEVENT
DTSTART;TZID=UTC:20181031T200000
DTEND;TZID=UTC:20181031T210000
DTSTAMP:20260425T132958
CREATED:20180203T175504Z
LAST-MODIFIED:20190315T152018Z
UID:25767-1541016000-1541019600@gideon-church.org
SUMMARY:Wednessay Prayer Line
DESCRIPTION:Join us every Wednesday from anywhere over the phone to pray together and share the word of God\nPrayer Line Number: (712) 770-4010\nCode: 744881#\nPlayback Number: (712) 770-4019\nCode: 744881#
URL:https://gideon-church.org/event/thursday-prayer-line-2018-10-31/
LOCATION:MD
CATEGORIES:Prayer Service
END:VEVENT
BEGIN:VEVENT
DTSTART;TZID=UTC:20181031T193000
DTEND;TZID=UTC:20181031T210000
DTSTAMP:20260425T132958
CREATED:20180203T174555Z
LAST-MODIFIED:20180203T174555Z
UID:25392-1541014200-1541019600@gideon-church.org
SUMMARY:Bible Study
DESCRIPTION:The Bible is God’s word to us. It is God’s way of revealing Himself through stories\, starting with creation to the birth of Christ to His call on our lives. One of the ways we’re instructed to grow in our walk with the Lord is to study His word. \nJoin us every Wednesday to study the bible together
URL:https://gideon-church.org/event/bible-study-2018-10-31/
LOCATION:Gideon Church\, 7315 New Hampshire Ave\,\, Takoma Park\, MD\, 20912\, United States
CATEGORIES:Bible Study
END:VEVENT
BEGIN:VEVENT
DTSTART;TZID=UTC:20181028T130000
DTEND;TZID=UTC:20181028T150000
DTSTAMP:20260425T132958
CREATED:20180203T172026Z
LAST-MODIFIED:20190315T153656Z
UID:25957-1540731600-1540738800@gideon-church.org
SUMMARY:Sunday Service
DESCRIPTION:Our Sunday morning worship is one of the best things we do here at Gideon Church. Feel free to join us at any of our services. \nJoin us every Sunday @ 1:00pm\n\n1:00pm – 1:20pm Welcome and prayer of exhortation\n1:20pm – 1:48pm Praising and worship\n1:48pm – 2:10pm Sermon\n2:10pm – 2:15pm Tithes and offering\n2:15pm Welcome new members\n2:50pm Announce\n2:55pm closing prayer\n3:00pm Blessing from Pastor Faustin
URL:https://gideon-church.org/event/sunday-service-2018-10-28/
LOCATION:Gideon Church\, 7315 New Hampshire Ave\,\, Takoma Park\, MD\, 20912\, United States
CATEGORIES:Service
END:VEVENT
BEGIN:VEVENT
DTSTART;TZID=UTC:20181026T193000
DTEND;TZID=UTC:20181026T210000
DTSTAMP:20260425T132958
CREATED:20180203T180254Z
LAST-MODIFIED:20180203T180254Z
UID:25502-1540582200-1540587600@gideon-church.org
SUMMARY:Friday Prayer Meeting
DESCRIPTION:Join us every Friday for prayers and to share the word of God together\n“Ask and it will be given to you; seek and you shall find; knock and the door will be opened to you. For everyone who asks receives; he who seeks finds; and to him who knocks\, the door will be opened.” Matthew 7:7\,8
URL:https://gideon-church.org/event/friday-prayer-meeting-2018-10-26/
LOCATION:Gideon Church\, 7315 New Hampshire Ave\,\, Takoma Park\, MD\, 20912\, United States
CATEGORIES:Prayer Service
END:VEVENT
BEGIN:VEVENT
DTSTART;TZID=UTC:20181024T200000
DTEND;TZID=UTC:20181024T210000
DTSTAMP:20260425T132958
CREATED:20180203T175504Z
LAST-MODIFIED:20190315T152018Z
UID:25766-1540411200-1540414800@gideon-church.org
SUMMARY:Wednessay Prayer Line
DESCRIPTION:Join us every Wednesday from anywhere over the phone to pray together and share the word of God\nPrayer Line Number: (712) 770-4010\nCode: 744881#\nPlayback Number: (712) 770-4019\nCode: 744881#
URL:https://gideon-church.org/event/thursday-prayer-line-2018-10-24/
LOCATION:MD
CATEGORIES:Prayer Service
END:VEVENT
BEGIN:VEVENT
DTSTART;TZID=UTC:20181024T193000
DTEND;TZID=UTC:20181024T210000
DTSTAMP:20260425T132958
CREATED:20180203T174555Z
LAST-MODIFIED:20180203T174555Z
UID:25391-1540409400-1540414800@gideon-church.org
SUMMARY:Bible Study
DESCRIPTION:The Bible is God’s word to us. It is God’s way of revealing Himself through stories\, starting with creation to the birth of Christ to His call on our lives. One of the ways we’re instructed to grow in our walk with the Lord is to study His word. \nJoin us every Wednesday to study the bible together
URL:https://gideon-church.org/event/bible-study-2018-10-24/
LOCATION:Gideon Church\, 7315 New Hampshire Ave\,\, Takoma Park\, MD\, 20912\, United States
CATEGORIES:Bible Study
END:VEVENT
BEGIN:VEVENT
DTSTART;TZID=UTC:20181021T130000
DTEND;TZID=UTC:20181021T150000
DTSTAMP:20260425T132958
CREATED:20180203T172026Z
LAST-MODIFIED:20190315T153656Z
UID:25956-1540126800-1540134000@gideon-church.org
SUMMARY:Sunday Service
DESCRIPTION:Our Sunday morning worship is one of the best things we do here at Gideon Church. Feel free to join us at any of our services. \nJoin us every Sunday @ 1:00pm\n\n1:00pm – 1:20pm Welcome and prayer of exhortation\n1:20pm – 1:48pm Praising and worship\n1:48pm – 2:10pm Sermon\n2:10pm – 2:15pm Tithes and offering\n2:15pm Welcome new members\n2:50pm Announce\n2:55pm closing prayer\n3:00pm Blessing from Pastor Faustin
URL:https://gideon-church.org/event/sunday-service-2018-10-21/
LOCATION:Gideon Church\, 7315 New Hampshire Ave\,\, Takoma Park\, MD\, 20912\, United States
CATEGORIES:Service
END:VEVENT
BEGIN:VEVENT
DTSTART;TZID=UTC:20181019T193000
DTEND;TZID=UTC:20181019T210000
DTSTAMP:20260425T132958
CREATED:20180203T180254Z
LAST-MODIFIED:20180203T180254Z
UID:25501-1539977400-1539982800@gideon-church.org
SUMMARY:Friday Prayer Meeting
DESCRIPTION:Join us every Friday for prayers and to share the word of God together\n“Ask and it will be given to you; seek and you shall find; knock and the door will be opened to you. For everyone who asks receives; he who seeks finds; and to him who knocks\, the door will be opened.” Matthew 7:7\,8
URL:https://gideon-church.org/event/friday-prayer-meeting-2018-10-19/
LOCATION:Gideon Church\, 7315 New Hampshire Ave\,\, Takoma Park\, MD\, 20912\, United States
CATEGORIES:Prayer Service
END:VEVENT
BEGIN:VEVENT
DTSTART;TZID=UTC:20181017T200000
DTEND;TZID=UTC:20181017T210000
DTSTAMP:20260425T132958
CREATED:20180203T175504Z
LAST-MODIFIED:20190315T152017Z
UID:25765-1539806400-1539810000@gideon-church.org
SUMMARY:Wednessay Prayer Line
DESCRIPTION:Join us every Wednesday from anywhere over the phone to pray together and share the word of God\nPrayer Line Number: (712) 770-4010\nCode: 744881#\nPlayback Number: (712) 770-4019\nCode: 744881#
URL:https://gideon-church.org/event/thursday-prayer-line-2018-10-17/
LOCATION:MD
CATEGORIES:Prayer Service
END:VEVENT
BEGIN:VEVENT
DTSTART;TZID=UTC:20181017T193000
DTEND;TZID=UTC:20181017T210000
DTSTAMP:20260425T132958
CREATED:20180203T174555Z
LAST-MODIFIED:20180203T174555Z
UID:25390-1539804600-1539810000@gideon-church.org
SUMMARY:Bible Study
DESCRIPTION:The Bible is God’s word to us. It is God’s way of revealing Himself through stories\, starting with creation to the birth of Christ to His call on our lives. One of the ways we’re instructed to grow in our walk with the Lord is to study His word. \nJoin us every Wednesday to study the bible together
URL:https://gideon-church.org/event/bible-study-2018-10-17/
LOCATION:Gideon Church\, 7315 New Hampshire Ave\,\, Takoma Park\, MD\, 20912\, United States
CATEGORIES:Bible Study
END:VEVENT
BEGIN:VEVENT
DTSTART;TZID=UTC:20181014T130000
DTEND;TZID=UTC:20181014T150000
DTSTAMP:20260425T132958
CREATED:20180203T172026Z
LAST-MODIFIED:20190315T153656Z
UID:25955-1539522000-1539529200@gideon-church.org
SUMMARY:Sunday Service
DESCRIPTION:Our Sunday morning worship is one of the best things we do here at Gideon Church. Feel free to join us at any of our services. \nJoin us every Sunday @ 1:00pm\n\n1:00pm – 1:20pm Welcome and prayer of exhortation\n1:20pm – 1:48pm Praising and worship\n1:48pm – 2:10pm Sermon\n2:10pm – 2:15pm Tithes and offering\n2:15pm Welcome new members\n2:50pm Announce\n2:55pm closing prayer\n3:00pm Blessing from Pastor Faustin
URL:https://gideon-church.org/event/sunday-service-2018-10-14/
LOCATION:Gideon Church\, 7315 New Hampshire Ave\,\, Takoma Park\, MD\, 20912\, United States
CATEGORIES:Service
END:VEVENT
BEGIN:VEVENT
DTSTART;TZID=UTC:20181012T193000
DTEND;TZID=UTC:20181012T210000
DTSTAMP:20260425T132958
CREATED:20180203T180254Z
LAST-MODIFIED:20180203T180254Z
UID:25500-1539372600-1539378000@gideon-church.org
SUMMARY:Friday Prayer Meeting
DESCRIPTION:Join us every Friday for prayers and to share the word of God together\n“Ask and it will be given to you; seek and you shall find; knock and the door will be opened to you. For everyone who asks receives; he who seeks finds; and to him who knocks\, the door will be opened.” Matthew 7:7\,8
URL:https://gideon-church.org/event/friday-prayer-meeting-2018-10-12/
LOCATION:Gideon Church\, 7315 New Hampshire Ave\,\, Takoma Park\, MD\, 20912\, United States
CATEGORIES:Prayer Service
END:VEVENT
BEGIN:VEVENT
DTSTART;TZID=UTC:20181010T200000
DTEND;TZID=UTC:20181010T210000
DTSTAMP:20260425T132958
CREATED:20180203T175504Z
LAST-MODIFIED:20190315T152017Z
UID:25764-1539201600-1539205200@gideon-church.org
SUMMARY:Wednessay Prayer Line
DESCRIPTION:Join us every Wednesday from anywhere over the phone to pray together and share the word of God\nPrayer Line Number: (712) 770-4010\nCode: 744881#\nPlayback Number: (712) 770-4019\nCode: 744881#
URL:https://gideon-church.org/event/thursday-prayer-line-2018-10-10/
LOCATION:MD
CATEGORIES:Prayer Service
END:VEVENT
END:VCALENDAR