BEGIN:VCALENDAR
VERSION:2.0
PRODID:-//Gideon Church - ECPv6.15.16//NONSGML v1.0//EN
CALSCALE:GREGORIAN
METHOD:PUBLISH
X-WR-CALNAME:Gideon Church
X-ORIGINAL-URL:https://gideon-church.org
X-WR-CALDESC:Events for Gideon Church
REFRESH-INTERVAL;VALUE=DURATION:PT1H
X-Robots-Tag:noindex
X-PUBLISHED-TTL:PT1H
BEGIN:VTIMEZONE
TZID:UTC
BEGIN:STANDARD
TZOFFSETFROM:+0000
TZOFFSETTO:+0000
TZNAME:UTC
DTSTART:20170101T000000
END:STANDARD
END:VTIMEZONE
BEGIN:VEVENT
DTSTART;TZID=UTC:20180718T200000
DTEND;TZID=UTC:20180718T210000
DTSTAMP:20260426T013234
CREATED:20180203T175504Z
LAST-MODIFIED:20190315T152012Z
UID:25752-1531944000-1531947600@gideon-church.org
SUMMARY:Wednessay Prayer Line
DESCRIPTION:Join us every Wednesday from anywhere over the phone to pray together and share the word of God\nPrayer Line Number: (712) 770-4010\nCode: 744881#\nPlayback Number: (712) 770-4019\nCode: 744881#
URL:https://gideon-church.org/event/thursday-prayer-line-2018-07-18/
LOCATION:MD
CATEGORIES:Prayer Service
END:VEVENT
BEGIN:VEVENT
DTSTART;TZID=UTC:20180718T193000
DTEND;TZID=UTC:20180718T210000
DTSTAMP:20260426T013234
CREATED:20180203T174555Z
LAST-MODIFIED:20180203T174555Z
UID:25377-1531942200-1531947600@gideon-church.org
SUMMARY:Bible Study
DESCRIPTION:The Bible is God’s word to us. It is God’s way of revealing Himself through stories\, starting with creation to the birth of Christ to His call on our lives. One of the ways we’re instructed to grow in our walk with the Lord is to study His word. \nJoin us every Wednesday to study the bible together
URL:https://gideon-church.org/event/bible-study-2018-07-18/
LOCATION:Gideon Church\, 7315 New Hampshire Ave\,\, Takoma Park\, MD\, 20912\, United States
CATEGORIES:Bible Study
END:VEVENT
BEGIN:VEVENT
DTSTART;TZID=UTC:20180715T130000
DTEND;TZID=UTC:20180715T150000
DTSTAMP:20260426T013234
CREATED:20180203T172026Z
LAST-MODIFIED:20190315T153652Z
UID:25942-1531659600-1531666800@gideon-church.org
SUMMARY:Sunday Service
DESCRIPTION:Our Sunday morning worship is one of the best things we do here at Gideon Church. Feel free to join us at any of our services. \nJoin us every Sunday @ 1:00pm\n\n1:00pm – 1:20pm Welcome and prayer of exhortation\n1:20pm – 1:48pm Praising and worship\n1:48pm – 2:10pm Sermon\n2:10pm – 2:15pm Tithes and offering\n2:15pm Welcome new members\n2:50pm Announce\n2:55pm closing prayer\n3:00pm Blessing from Pastor Faustin
URL:https://gideon-church.org/event/sunday-service-2018-07-15/
LOCATION:Gideon Church\, 7315 New Hampshire Ave\,\, Takoma Park\, MD\, 20912\, United States
CATEGORIES:Service
END:VEVENT
BEGIN:VEVENT
DTSTART;TZID=UTC:20180713T193000
DTEND;TZID=UTC:20180713T210000
DTSTAMP:20260426T013234
CREATED:20180203T180254Z
LAST-MODIFIED:20180203T180254Z
UID:25487-1531510200-1531515600@gideon-church.org
SUMMARY:Friday Prayer Meeting
DESCRIPTION:Join us every Friday for prayers and to share the word of God together\n“Ask and it will be given to you; seek and you shall find; knock and the door will be opened to you. For everyone who asks receives; he who seeks finds; and to him who knocks\, the door will be opened.” Matthew 7:7\,8
URL:https://gideon-church.org/event/friday-prayer-meeting-2018-07-13/
LOCATION:Gideon Church\, 7315 New Hampshire Ave\,\, Takoma Park\, MD\, 20912\, United States
CATEGORIES:Prayer Service
END:VEVENT
BEGIN:VEVENT
DTSTART;TZID=UTC:20180711T200000
DTEND;TZID=UTC:20180711T210000
DTSTAMP:20260426T013234
CREATED:20180203T175504Z
LAST-MODIFIED:20190315T152012Z
UID:25751-1531339200-1531342800@gideon-church.org
SUMMARY:Wednessay Prayer Line
DESCRIPTION:Join us every Wednesday from anywhere over the phone to pray together and share the word of God\nPrayer Line Number: (712) 770-4010\nCode: 744881#\nPlayback Number: (712) 770-4019\nCode: 744881#
URL:https://gideon-church.org/event/thursday-prayer-line-2018-07-11/
LOCATION:MD
CATEGORIES:Prayer Service
END:VEVENT
BEGIN:VEVENT
DTSTART;TZID=UTC:20180711T193000
DTEND;TZID=UTC:20180711T210000
DTSTAMP:20260426T013234
CREATED:20180203T174555Z
LAST-MODIFIED:20180203T174555Z
UID:25376-1531337400-1531342800@gideon-church.org
SUMMARY:Bible Study
DESCRIPTION:The Bible is God’s word to us. It is God’s way of revealing Himself through stories\, starting with creation to the birth of Christ to His call on our lives. One of the ways we’re instructed to grow in our walk with the Lord is to study His word. \nJoin us every Wednesday to study the bible together
URL:https://gideon-church.org/event/bible-study-2018-07-11/
LOCATION:Gideon Church\, 7315 New Hampshire Ave\,\, Takoma Park\, MD\, 20912\, United States
CATEGORIES:Bible Study
END:VEVENT
BEGIN:VEVENT
DTSTART;TZID=UTC:20180708T130000
DTEND;TZID=UTC:20180708T150000
DTSTAMP:20260426T013234
CREATED:20180203T172026Z
LAST-MODIFIED:20190315T153651Z
UID:25941-1531054800-1531062000@gideon-church.org
SUMMARY:Sunday Service
DESCRIPTION:Our Sunday morning worship is one of the best things we do here at Gideon Church. Feel free to join us at any of our services. \nJoin us every Sunday @ 1:00pm\n\n1:00pm – 1:20pm Welcome and prayer of exhortation\n1:20pm – 1:48pm Praising and worship\n1:48pm – 2:10pm Sermon\n2:10pm – 2:15pm Tithes and offering\n2:15pm Welcome new members\n2:50pm Announce\n2:55pm closing prayer\n3:00pm Blessing from Pastor Faustin
URL:https://gideon-church.org/event/sunday-service-2018-07-08/
LOCATION:Gideon Church\, 7315 New Hampshire Ave\,\, Takoma Park\, MD\, 20912\, United States
CATEGORIES:Service
END:VEVENT
BEGIN:VEVENT
DTSTART;TZID=UTC:20180706T220000
DTEND;TZID=UTC:20180707T010000
DTSTAMP:20260426T013234
CREATED:20180203T192950Z
LAST-MODIFIED:20190301T172824Z
UID:25049-1530914400-1530925200@gideon-church.org
SUMMARY:Friday Overnight Prayer Meeting
DESCRIPTION:Join us every first Friday of every month for prayer\, praise and worship\nWith prayer being the genesis of this body\, we remain faithful to the call to being a house of prayer and maintain Friday night prayer meetings. \n“Ask and it will be given to you; seek and you shall find; knock and the door will be opened to you. For everyone who asks receives; he who seeks finds; and to him who knocks\, the door will be opened.” Matthew 7:7\,8
URL:https://gideon-church.org/event/friday-overnight-prayer-meeting-2018-07-06/
LOCATION:Gideon Church\, 7315 New Hampshire Ave\,\, Takoma Park\, MD\, 20912\, United States
CATEGORIES:Service
END:VEVENT
BEGIN:VEVENT
DTSTART;TZID=UTC:20180706T193000
DTEND;TZID=UTC:20180706T210000
DTSTAMP:20260426T013234
CREATED:20180203T180254Z
LAST-MODIFIED:20180203T180254Z
UID:25486-1530905400-1530910800@gideon-church.org
SUMMARY:Friday Prayer Meeting
DESCRIPTION:Join us every Friday for prayers and to share the word of God together\n“Ask and it will be given to you; seek and you shall find; knock and the door will be opened to you. For everyone who asks receives; he who seeks finds; and to him who knocks\, the door will be opened.” Matthew 7:7\,8
URL:https://gideon-church.org/event/friday-prayer-meeting-2018-07-06/
LOCATION:Gideon Church\, 7315 New Hampshire Ave\,\, Takoma Park\, MD\, 20912\, United States
CATEGORIES:Prayer Service
END:VEVENT
BEGIN:VEVENT
DTSTART;TZID=UTC:20180704T200000
DTEND;TZID=UTC:20180704T210000
DTSTAMP:20260426T013234
CREATED:20180203T175504Z
LAST-MODIFIED:20190315T152012Z
UID:25750-1530734400-1530738000@gideon-church.org
SUMMARY:Wednessay Prayer Line
DESCRIPTION:Join us every Wednesday from anywhere over the phone to pray together and share the word of God\nPrayer Line Number: (712) 770-4010\nCode: 744881#\nPlayback Number: (712) 770-4019\nCode: 744881#
URL:https://gideon-church.org/event/thursday-prayer-line-2018-07-04/
LOCATION:MD
CATEGORIES:Prayer Service
END:VEVENT
BEGIN:VEVENT
DTSTART;TZID=UTC:20180704T193000
DTEND;TZID=UTC:20180704T210000
DTSTAMP:20260426T013234
CREATED:20180203T174555Z
LAST-MODIFIED:20180203T174555Z
UID:25375-1530732600-1530738000@gideon-church.org
SUMMARY:Bible Study
DESCRIPTION:The Bible is God’s word to us. It is God’s way of revealing Himself through stories\, starting with creation to the birth of Christ to His call on our lives. One of the ways we’re instructed to grow in our walk with the Lord is to study His word. \nJoin us every Wednesday to study the bible together
URL:https://gideon-church.org/event/bible-study-2018-07-04/
LOCATION:Gideon Church\, 7315 New Hampshire Ave\,\, Takoma Park\, MD\, 20912\, United States
CATEGORIES:Bible Study
END:VEVENT
BEGIN:VEVENT
DTSTART;TZID=UTC:20180701T130000
DTEND;TZID=UTC:20180701T150000
DTSTAMP:20260426T013234
CREATED:20180203T172026Z
LAST-MODIFIED:20190315T153651Z
UID:25940-1530450000-1530457200@gideon-church.org
SUMMARY:Sunday Service
DESCRIPTION:Our Sunday morning worship is one of the best things we do here at Gideon Church. Feel free to join us at any of our services. \nJoin us every Sunday @ 1:00pm\n\n1:00pm – 1:20pm Welcome and prayer of exhortation\n1:20pm – 1:48pm Praising and worship\n1:48pm – 2:10pm Sermon\n2:10pm – 2:15pm Tithes and offering\n2:15pm Welcome new members\n2:50pm Announce\n2:55pm closing prayer\n3:00pm Blessing from Pastor Faustin
URL:https://gideon-church.org/event/sunday-service-2018-07-01/
LOCATION:Gideon Church\, 7315 New Hampshire Ave\,\, Takoma Park\, MD\, 20912\, United States
CATEGORIES:Service
END:VEVENT
BEGIN:VEVENT
DTSTART;TZID=UTC:20180629T193000
DTEND;TZID=UTC:20180629T210000
DTSTAMP:20260426T013234
CREATED:20180203T180254Z
LAST-MODIFIED:20180203T180254Z
UID:25485-1530300600-1530306000@gideon-church.org
SUMMARY:Friday Prayer Meeting
DESCRIPTION:Join us every Friday for prayers and to share the word of God together\n“Ask and it will be given to you; seek and you shall find; knock and the door will be opened to you. For everyone who asks receives; he who seeks finds; and to him who knocks\, the door will be opened.” Matthew 7:7\,8
URL:https://gideon-church.org/event/friday-prayer-meeting-2018-06-29/
LOCATION:Gideon Church\, 7315 New Hampshire Ave\,\, Takoma Park\, MD\, 20912\, United States
CATEGORIES:Prayer Service
END:VEVENT
BEGIN:VEVENT
DTSTART;TZID=UTC:20180627T200000
DTEND;TZID=UTC:20180627T210000
DTSTAMP:20260426T013234
CREATED:20180203T175504Z
LAST-MODIFIED:20190315T152010Z
UID:25749-1530129600-1530133200@gideon-church.org
SUMMARY:Wednessay Prayer Line
DESCRIPTION:Join us every Wednesday from anywhere over the phone to pray together and share the word of God\nPrayer Line Number: (712) 770-4010\nCode: 744881#\nPlayback Number: (712) 770-4019\nCode: 744881#
URL:https://gideon-church.org/event/thursday-prayer-line-2018-06-27/
LOCATION:MD
CATEGORIES:Prayer Service
END:VEVENT
BEGIN:VEVENT
DTSTART;TZID=UTC:20180627T193000
DTEND;TZID=UTC:20180627T210000
DTSTAMP:20260426T013234
CREATED:20180203T174555Z
LAST-MODIFIED:20180203T174555Z
UID:25374-1530127800-1530133200@gideon-church.org
SUMMARY:Bible Study
DESCRIPTION:The Bible is God’s word to us. It is God’s way of revealing Himself through stories\, starting with creation to the birth of Christ to His call on our lives. One of the ways we’re instructed to grow in our walk with the Lord is to study His word. \nJoin us every Wednesday to study the bible together
URL:https://gideon-church.org/event/bible-study-2018-06-27/
LOCATION:Gideon Church\, 7315 New Hampshire Ave\,\, Takoma Park\, MD\, 20912\, United States
CATEGORIES:Bible Study
END:VEVENT
BEGIN:VEVENT
DTSTART;TZID=UTC:20180624T130000
DTEND;TZID=UTC:20180624T150000
DTSTAMP:20260426T013234
CREATED:20180203T172026Z
LAST-MODIFIED:20190315T153651Z
UID:25939-1529845200-1529852400@gideon-church.org
SUMMARY:Sunday Service
DESCRIPTION:Our Sunday morning worship is one of the best things we do here at Gideon Church. Feel free to join us at any of our services. \nJoin us every Sunday @ 1:00pm\n\n1:00pm – 1:20pm Welcome and prayer of exhortation\n1:20pm – 1:48pm Praising and worship\n1:48pm – 2:10pm Sermon\n2:10pm – 2:15pm Tithes and offering\n2:15pm Welcome new members\n2:50pm Announce\n2:55pm closing prayer\n3:00pm Blessing from Pastor Faustin
URL:https://gideon-church.org/event/sunday-service-2018-06-24/
LOCATION:Gideon Church\, 7315 New Hampshire Ave\,\, Takoma Park\, MD\, 20912\, United States
CATEGORIES:Service
END:VEVENT
BEGIN:VEVENT
DTSTART;TZID=UTC:20180622T193000
DTEND;TZID=UTC:20180622T210000
DTSTAMP:20260426T013234
CREATED:20180203T180254Z
LAST-MODIFIED:20180203T180254Z
UID:25484-1529695800-1529701200@gideon-church.org
SUMMARY:Friday Prayer Meeting
DESCRIPTION:Join us every Friday for prayers and to share the word of God together\n“Ask and it will be given to you; seek and you shall find; knock and the door will be opened to you. For everyone who asks receives; he who seeks finds; and to him who knocks\, the door will be opened.” Matthew 7:7\,8
URL:https://gideon-church.org/event/friday-prayer-meeting-2018-06-22/
LOCATION:Gideon Church\, 7315 New Hampshire Ave\,\, Takoma Park\, MD\, 20912\, United States
CATEGORIES:Prayer Service
END:VEVENT
BEGIN:VEVENT
DTSTART;TZID=UTC:20180620T200000
DTEND;TZID=UTC:20180620T210000
DTSTAMP:20260426T013234
CREATED:20180203T175504Z
LAST-MODIFIED:20190315T152010Z
UID:25748-1529524800-1529528400@gideon-church.org
SUMMARY:Wednessay Prayer Line
DESCRIPTION:Join us every Wednesday from anywhere over the phone to pray together and share the word of God\nPrayer Line Number: (712) 770-4010\nCode: 744881#\nPlayback Number: (712) 770-4019\nCode: 744881#
URL:https://gideon-church.org/event/thursday-prayer-line-2018-06-20/
LOCATION:MD
CATEGORIES:Prayer Service
END:VEVENT
BEGIN:VEVENT
DTSTART;TZID=UTC:20180620T193000
DTEND;TZID=UTC:20180620T210000
DTSTAMP:20260426T013234
CREATED:20180203T174555Z
LAST-MODIFIED:20180203T174555Z
UID:25373-1529523000-1529528400@gideon-church.org
SUMMARY:Bible Study
DESCRIPTION:The Bible is God’s word to us. It is God’s way of revealing Himself through stories\, starting with creation to the birth of Christ to His call on our lives. One of the ways we’re instructed to grow in our walk with the Lord is to study His word. \nJoin us every Wednesday to study the bible together
URL:https://gideon-church.org/event/bible-study-2018-06-20/
LOCATION:Gideon Church\, 7315 New Hampshire Ave\,\, Takoma Park\, MD\, 20912\, United States
CATEGORIES:Bible Study
END:VEVENT
BEGIN:VEVENT
DTSTART;TZID=UTC:20180617T130000
DTEND;TZID=UTC:20180617T150000
DTSTAMP:20260426T013234
CREATED:20180203T172026Z
LAST-MODIFIED:20190315T153649Z
UID:25938-1529240400-1529247600@gideon-church.org
SUMMARY:Sunday Service
DESCRIPTION:Our Sunday morning worship is one of the best things we do here at Gideon Church. Feel free to join us at any of our services. \nJoin us every Sunday @ 1:00pm\n\n1:00pm – 1:20pm Welcome and prayer of exhortation\n1:20pm – 1:48pm Praising and worship\n1:48pm – 2:10pm Sermon\n2:10pm – 2:15pm Tithes and offering\n2:15pm Welcome new members\n2:50pm Announce\n2:55pm closing prayer\n3:00pm Blessing from Pastor Faustin
URL:https://gideon-church.org/event/sunday-service-2018-06-17/
LOCATION:Gideon Church\, 7315 New Hampshire Ave\,\, Takoma Park\, MD\, 20912\, United States
CATEGORIES:Service
END:VEVENT
BEGIN:VEVENT
DTSTART;TZID=UTC:20180615T193000
DTEND;TZID=UTC:20180615T210000
DTSTAMP:20260426T013234
CREATED:20180203T180254Z
LAST-MODIFIED:20180203T180254Z
UID:25483-1529091000-1529096400@gideon-church.org
SUMMARY:Friday Prayer Meeting
DESCRIPTION:Join us every Friday for prayers and to share the word of God together\n“Ask and it will be given to you; seek and you shall find; knock and the door will be opened to you. For everyone who asks receives; he who seeks finds; and to him who knocks\, the door will be opened.” Matthew 7:7\,8
URL:https://gideon-church.org/event/friday-prayer-meeting-2018-06-15/
LOCATION:Gideon Church\, 7315 New Hampshire Ave\,\, Takoma Park\, MD\, 20912\, United States
CATEGORIES:Prayer Service
END:VEVENT
BEGIN:VEVENT
DTSTART;TZID=UTC:20180613T200000
DTEND;TZID=UTC:20180613T210000
DTSTAMP:20260426T013234
CREATED:20180203T175504Z
LAST-MODIFIED:20190315T152010Z
UID:25747-1528920000-1528923600@gideon-church.org
SUMMARY:Wednessay Prayer Line
DESCRIPTION:Join us every Wednesday from anywhere over the phone to pray together and share the word of God\nPrayer Line Number: (712) 770-4010\nCode: 744881#\nPlayback Number: (712) 770-4019\nCode: 744881#
URL:https://gideon-church.org/event/thursday-prayer-line-2018-06-13/
LOCATION:MD
CATEGORIES:Prayer Service
END:VEVENT
BEGIN:VEVENT
DTSTART;TZID=UTC:20180613T193000
DTEND;TZID=UTC:20180613T210000
DTSTAMP:20260426T013234
CREATED:20180203T174555Z
LAST-MODIFIED:20180203T174555Z
UID:25372-1528918200-1528923600@gideon-church.org
SUMMARY:Bible Study
DESCRIPTION:The Bible is God’s word to us. It is God’s way of revealing Himself through stories\, starting with creation to the birth of Christ to His call on our lives. One of the ways we’re instructed to grow in our walk with the Lord is to study His word. \nJoin us every Wednesday to study the bible together
URL:https://gideon-church.org/event/bible-study-2018-06-13/
LOCATION:Gideon Church\, 7315 New Hampshire Ave\,\, Takoma Park\, MD\, 20912\, United States
CATEGORIES:Bible Study
END:VEVENT
BEGIN:VEVENT
DTSTART;TZID=UTC:20180610T130000
DTEND;TZID=UTC:20180610T150000
DTSTAMP:20260426T013234
CREATED:20180203T172026Z
LAST-MODIFIED:20190315T153649Z
UID:25937-1528635600-1528642800@gideon-church.org
SUMMARY:Sunday Service
DESCRIPTION:Our Sunday morning worship is one of the best things we do here at Gideon Church. Feel free to join us at any of our services. \nJoin us every Sunday @ 1:00pm\n\n1:00pm – 1:20pm Welcome and prayer of exhortation\n1:20pm – 1:48pm Praising and worship\n1:48pm – 2:10pm Sermon\n2:10pm – 2:15pm Tithes and offering\n2:15pm Welcome new members\n2:50pm Announce\n2:55pm closing prayer\n3:00pm Blessing from Pastor Faustin
URL:https://gideon-church.org/event/sunday-service-2018-06-10/
LOCATION:Gideon Church\, 7315 New Hampshire Ave\,\, Takoma Park\, MD\, 20912\, United States
CATEGORIES:Service
END:VEVENT
BEGIN:VEVENT
DTSTART;TZID=UTC:20180608T193000
DTEND;TZID=UTC:20180608T210000
DTSTAMP:20260426T013234
CREATED:20180203T180254Z
LAST-MODIFIED:20180203T180254Z
UID:25482-1528486200-1528491600@gideon-church.org
SUMMARY:Friday Prayer Meeting
DESCRIPTION:Join us every Friday for prayers and to share the word of God together\n“Ask and it will be given to you; seek and you shall find; knock and the door will be opened to you. For everyone who asks receives; he who seeks finds; and to him who knocks\, the door will be opened.” Matthew 7:7\,8
URL:https://gideon-church.org/event/friday-prayer-meeting-2018-06-08/
LOCATION:Gideon Church\, 7315 New Hampshire Ave\,\, Takoma Park\, MD\, 20912\, United States
CATEGORIES:Prayer Service
END:VEVENT
BEGIN:VEVENT
DTSTART;TZID=UTC:20180606T200000
DTEND;TZID=UTC:20180606T210000
DTSTAMP:20260426T013234
CREATED:20180203T175504Z
LAST-MODIFIED:20190315T152010Z
UID:25746-1528315200-1528318800@gideon-church.org
SUMMARY:Wednessay Prayer Line
DESCRIPTION:Join us every Wednesday from anywhere over the phone to pray together and share the word of God\nPrayer Line Number: (712) 770-4010\nCode: 744881#\nPlayback Number: (712) 770-4019\nCode: 744881#
URL:https://gideon-church.org/event/thursday-prayer-line-2018-06-06/
LOCATION:MD
CATEGORIES:Prayer Service
END:VEVENT
BEGIN:VEVENT
DTSTART;TZID=UTC:20180606T193000
DTEND;TZID=UTC:20180606T210000
DTSTAMP:20260426T013234
CREATED:20180203T174555Z
LAST-MODIFIED:20180203T174555Z
UID:25371-1528313400-1528318800@gideon-church.org
SUMMARY:Bible Study
DESCRIPTION:The Bible is God’s word to us. It is God’s way of revealing Himself through stories\, starting with creation to the birth of Christ to His call on our lives. One of the ways we’re instructed to grow in our walk with the Lord is to study His word. \nJoin us every Wednesday to study the bible together
URL:https://gideon-church.org/event/bible-study-2018-06-06/
LOCATION:Gideon Church\, 7315 New Hampshire Ave\,\, Takoma Park\, MD\, 20912\, United States
CATEGORIES:Bible Study
END:VEVENT
BEGIN:VEVENT
DTSTART;TZID=UTC:20180603T130000
DTEND;TZID=UTC:20180603T150000
DTSTAMP:20260426T013234
CREATED:20180203T172026Z
LAST-MODIFIED:20190315T153649Z
UID:25936-1528030800-1528038000@gideon-church.org
SUMMARY:Sunday Service
DESCRIPTION:Our Sunday morning worship is one of the best things we do here at Gideon Church. Feel free to join us at any of our services. \nJoin us every Sunday @ 1:00pm\n\n1:00pm – 1:20pm Welcome and prayer of exhortation\n1:20pm – 1:48pm Praising and worship\n1:48pm – 2:10pm Sermon\n2:10pm – 2:15pm Tithes and offering\n2:15pm Welcome new members\n2:50pm Announce\n2:55pm closing prayer\n3:00pm Blessing from Pastor Faustin
URL:https://gideon-church.org/event/sunday-service-2018-06-03/
LOCATION:Gideon Church\, 7315 New Hampshire Ave\,\, Takoma Park\, MD\, 20912\, United States
CATEGORIES:Service
END:VEVENT
BEGIN:VEVENT
DTSTART;TZID=UTC:20180601T220000
DTEND;TZID=UTC:20180602T010000
DTSTAMP:20260426T013234
CREATED:20180203T192950Z
LAST-MODIFIED:20190301T172824Z
UID:25048-1527890400-1527901200@gideon-church.org
SUMMARY:Friday Overnight Prayer Meeting
DESCRIPTION:Join us every first Friday of every month for prayer\, praise and worship\nWith prayer being the genesis of this body\, we remain faithful to the call to being a house of prayer and maintain Friday night prayer meetings. \n“Ask and it will be given to you; seek and you shall find; knock and the door will be opened to you. For everyone who asks receives; he who seeks finds; and to him who knocks\, the door will be opened.” Matthew 7:7\,8
URL:https://gideon-church.org/event/friday-overnight-prayer-meeting-2018-06-01/
LOCATION:Gideon Church\, 7315 New Hampshire Ave\,\, Takoma Park\, MD\, 20912\, United States
CATEGORIES:Service
END:VEVENT
BEGIN:VEVENT
DTSTART;TZID=UTC:20180601T193000
DTEND;TZID=UTC:20180601T210000
DTSTAMP:20260426T013234
CREATED:20180203T180254Z
LAST-MODIFIED:20180203T180254Z
UID:25481-1527881400-1527886800@gideon-church.org
SUMMARY:Friday Prayer Meeting
DESCRIPTION:Join us every Friday for prayers and to share the word of God together\n“Ask and it will be given to you; seek and you shall find; knock and the door will be opened to you. For everyone who asks receives; he who seeks finds; and to him who knocks\, the door will be opened.” Matthew 7:7\,8
URL:https://gideon-church.org/event/friday-prayer-meeting-2018-06-01/
LOCATION:Gideon Church\, 7315 New Hampshire Ave\,\, Takoma Park\, MD\, 20912\, United States
CATEGORIES:Prayer Service
END:VEVENT
END:VCALENDAR